BEGIN:VCALENDAR
VERSION:2.0
PRODID:-//Vakarų Vėjai - ECPv6.15.3//NONSGML v1.0//EN
CALSCALE:GREGORIAN
METHOD:PUBLISH
X-ORIGINAL-URL:https://vakaruvejai.com
X-WR-CALDESC:Vakarų Vėjai renginiai
REFRESH-INTERVAL;VALUE=DURATION:PT1H
X-Robots-Tag:noindex
X-PUBLISHED-TTL:PT1H
BEGIN:VTIMEZONE
TZID:America/Los_Angeles
BEGIN:DAYLIGHT
TZOFFSETFROM:-0800
TZOFFSETTO:-0700
TZNAME:PDT
DTSTART:20240310T100000
END:DAYLIGHT
BEGIN:STANDARD
TZOFFSETFROM:-0700
TZOFFSETTO:-0800
TZNAME:PST
DTSTART:20241103T090000
END:STANDARD
END:VTIMEZONE
BEGIN:VEVENT
DTSTART;TZID=America/Los_Angeles:20240125T200000
DTEND;TZID=America/Los_Angeles:20240125T210000
DTSTAMP:20260423T163736
CREATED:20240118T032729Z
LAST-MODIFIED:20240118T032729Z
UID:25844-1706212800-1706216400@vakaruvejai.com
SUMMARY:JAVLJS ir KLJS Kokteilių Vakaras\, Virtualiai
DESCRIPTION:Join JAVLJS and KLJS for virtual Happy Hour fun and to meeting the board members! See you all there at 8PM est/7c\, zoom link will be available on the day of event.
URL:https://vakaruvejai.com/renginys/javljs-ir-kljs-kokteiliu-vakaras-virtualiai/
LOCATION:virtualiai
CATEGORIES:Lietuviški renginiai,Virtualus renginys
ATTACH;FMTTYPE=image/jpeg:https://vakaruvejai.com/wp-content/uploads/2024/01/EB1AC1F4-D4EF-428B-98DE-7E976B8E10C8.jpeg
END:VEVENT
END:VCALENDAR