BEGIN:VCALENDAR
VERSION:2.0
PRODID:-//Vakarų Vėjai - ECPv6.15.3//NONSGML v1.0//EN
CALSCALE:GREGORIAN
METHOD:PUBLISH
X-ORIGINAL-URL:https://vakaruvejai.com
X-WR-CALDESC:Vakarų Vėjai renginiai
REFRESH-INTERVAL;VALUE=DURATION:PT1H
X-Robots-Tag:noindex
X-PUBLISHED-TTL:PT1H
BEGIN:VTIMEZONE
TZID:America/Los_Angeles
BEGIN:DAYLIGHT
TZOFFSETFROM:-0800
TZOFFSETTO:-0700
TZNAME:PDT
DTSTART:20250309T100000
END:DAYLIGHT
BEGIN:STANDARD
TZOFFSETFROM:-0700
TZOFFSETTO:-0800
TZNAME:PST
DTSTART:20251102T090000
END:STANDARD
END:VTIMEZONE
BEGIN:VEVENT
DTSTART;TZID=America/Los_Angeles:20250412T183000
DTEND;TZID=America/Los_Angeles:20250412T203000
DTSTAMP:20260423T145000
CREATED:20250315T053055Z
LAST-MODIFIED:20250315T053954Z
UID:28644-1744482600-1744489800@vakaruvejai.com
SUMMARY:Jokūbo Bareikio gyvo garso koncertas: Legenda Vytautas Kernagis - istorijos ir dainos\, Los Andželas
DESCRIPTION:Aktorius ir dainininkas Jokūbas Bareikis kviečia į ypatingą gyvo garso koncertą\, skirtą legendiniam Lietuvos muzikos pasaulio kūrėjui – maestro Vytautui Kernagiui atminti. \nKoncerto metu skambės gražiausi ir mylimiausi maestro kūriniai\, tarp jų:\n 🎵 Kai sirpsta vyšnios Suvalkijoj\n 🎵 Baltas paukštis\n 🎵 Purpurinis vakaras\n 🎵 Žiemą vasarą\n …ir daugelis kitų\, palikusių neišdildomą pėdsaką klausytojų širdyse. \nJokūbas Bareikis bei jam akomponuojantis pianistas Vytis Smolskas ne tik atliks legendines dainas\, bet ir dalinsis istorijomis apie Vytauto Kernagio muzikinį kelią. Tai bus proga iš arčiau pažinti šią išskirtinę asmenybę ir jos nepakartojamą kūrybinį palikimą. \nData: šeštadienis\, balandžio 12 d.\, 2025\nDurys atsidaro: 18:30 val. \nKoncerto pradžia: 19:00 val.\nVieta: Šv. Kazimiero parapijos pagrindinė salė\n (2718 St George St\, Los Angeles\, CA 90027) \nBilietai:\n 🔹 Early bird – $40/asm. (galioja iki balandžio 11 d. 23:59 val. PDT)\n 🔹 Prie durų – $50/asm.\n 🔹 VIP – $75/asm. (į kainą įskaičiuota …)\n 🔹 Senjorams (65+) ir vaikams nuo 10 m. – $30/asm. \nRenginį organizuoja: JAV Lietuvių bendruomenė\, Los Andželo apylinkė\nDėkojame šventės rėmėjui: JAV LB Kultūros tarybai \nAteikite\, pajuskite ir prisiminkite – Vytauto Kernagio muzika visada gyva! \n  \n~~~~~~~~~~~~ \n  \nRenowned actor and singer Jokūbas Bareikis invites you to a truly special live concert dedicated to the legendary Lithuanian music icon\, Maestro Vytautas Kernagis. \nThe evening will feature some of the most beloved and timeless songs by the maestro\, including:\n 🎵 Kai sirpsta vyšnios Suvalkijoj (When Cherries Ripen in Suvalkija)\n 🎵 Baltas paukštis (White Bird)\n 🎵 Purpurinis vakaras (Purple Evening)\n 🎵 Žiemą vasarą (Winter in Summer)\n … and many more melodies that have left an unforgettable mark on listeners’ hearts. \nJoining Jokūbas Bareikis on stage will be the talented pianist Vytis Smolskas. Together\, they will not only perform these iconic songs but also share personal stories about Vytautas Kernagis’ musical journey. This intimate evening will offer a deeper glimpse into the life and legacy of an extraordinary artist whose music continues to inspire generations. \nDate: Saturday\, April 12\, 2025 \nDoors Open: 6:30 PM\nConcert Begins: 7:00 PM\nVenue: St. Casimir Parish Main Hall\n (2718 St George St\, Los Angeles\, CA 90027) \nTickets:\n 🔹 Early Bird – $40/person (available until April 11\, 11:59 PM PDT)\n 🔹 At the Door – $50/person\n 🔹 VIP – $75/person (includes …)\n 🔹 Seniors (65+) & Children (10+ years) – $30/person \nEvent organized by: Lithuanian American Community\, Los Angeles Chapter\nSpecial thanks to the sponsor of the concert: Lithuanian American Community Cultural Council \nCome\, feel\, and remember – the music of Vytautas Kernagis lives on!  \n \n 
URL:https://vakaruvejai.com/renginys/jokubo-bareikio-gyvo-garso-koncertas-legenda-vytautas-kernagis-istorijos-ir-dainos-los-andzelas/
LOCATION:Šv. Kazimiero parapija\, 2716 St. George St.\, Los Angeles\, CA\, 90027
CATEGORIES:Lietuviški renginiai,Los Andželas
ATTACH;FMTTYPE=image/jpeg:https://vakaruvejai.com/wp-content/uploads/2025/03/LA1.jpg
END:VEVENT
END:VCALENDAR