BEGIN:VCALENDAR
VERSION:2.0
PRODID:-//Vakarų Vėjai - ECPv6.15.3//NONSGML v1.0//EN
CALSCALE:GREGORIAN
METHOD:PUBLISH
X-WR-CALNAME:Vakarų Vėjai
X-ORIGINAL-URL:https://vakaruvejai.com
X-WR-CALDESC:Vakarų Vėjai renginiai
REFRESH-INTERVAL;VALUE=DURATION:PT1H
X-Robots-Tag:noindex
X-PUBLISHED-TTL:PT1H
BEGIN:VTIMEZONE
TZID:America/Los_Angeles
BEGIN:DAYLIGHT
TZOFFSETFROM:-0800
TZOFFSETTO:-0700
TZNAME:PDT
DTSTART:20230312T100000
END:DAYLIGHT
BEGIN:STANDARD
TZOFFSETFROM:-0700
TZOFFSETTO:-0800
TZNAME:PST
DTSTART:20231105T090000
END:STANDARD
END:VTIMEZONE
BEGIN:VEVENT
DTSTART;TZID=America/Los_Angeles:20230524T200000
DTEND;TZID=America/Los_Angeles:20230524T210000
DTSTAMP:20260423T163653
CREATED:20230524T135810Z
LAST-MODIFIED:20230524T140948Z
UID:24502-1684958400-1684962000@vakaruvejai.com
SUMMARY:Kvietimas į diskusiją via Zoom dvigubos pilietybės klausimais\, Virtualus renginys
DESCRIPTION:LA LB komitetas maloniai kviečia prisijungti prie diskusijos dvigubos pilietybės klausimais. Virtualus susitikimas/diskusija įvyks Zoom platformoje gegužės 24d. 8 pm PST. \nJoin Zoom Meeting \nhttps://us06web.zoom.us/j/88950854841?pwd=c250cTZkWElCbFp2YitObXB1TStQdz09 \nLaiškas iš JAV LB vakarų apygardos valdybos: \nBalandžio 24-28 dienomis Lietuvos Respublikos Seimo rūmuose Vilniuje vyko pavasario Lietuvos Respublikos Seimo (LRS) ir Pasaulio Lietuvių Bendruomenės (PLB) komisijos posėdžių sesija.  Buvo aptarta pilietybės išsaugojimo referendumo klausimai.Nuspręsta surengti referendumą 2024 metų gegužės 12 dieną. \nUžsienio lietuviams kyla daug klausimų ir vyksta diskusijos. \nKviečiame gegužės 24 d. 8 pm PST ( 6 val. ryte Lietuvos laiku) į virtualų susitikimą su Lietuvos Respublikos Seimo ir Pasaulio lietuvių bendruomenės komisijos vadovais Dalia Asanavičiūte ir Jonu Bružu\, kurie atsakys į visus jums rūpimus klausimus. Galėsime padiskutuoti\, kaip galime mes\, užsienyje gyvenantys\, padėti\, kad dvigubos pilietybės išsaugojimo klausimas būtų sėkmingai išspręstas. \nDiskusiją organizuoja JAV LB Vakarų apygardos valdyba \nTema: Dvigubos pilietybės klausimai \nLaikas: gegužės 24d. 8 pm PST (6 val. ryte Lietuvos laiku) \nJoin Zoom Meeting\nhttps://us06web.zoom.us/j/88950854841?pwd=c250cTZkWElCbFp2YitObXB1TStQdz09 \nTime: May 24\, 2023 11:00 PM Eastern Time (US and Canada) \nMeeting ID: 889 5085 4841\nPasscode: 789291 \nNuoroda Facebook: \nhttps://facebook.com/events/s/susitikimas-del-pilietybes-ref/974737237014308/
URL:https://vakaruvejai.com/renginys/kvietimas-i-diskusija-via-zoom-dvigubos-pilietybes-klausimais-virtualu-renginys/
LOCATION:Virtual event
CATEGORIES:Lietuviški renginiai,Virtualus renginys
ATTACH;FMTTYPE=image/webp:https://vakaruvejai.com/wp-content/uploads/2023/05/88373A80-1088-47D9-AF21-BBC1F4DE6417.webp
END:VEVENT
END:VCALENDAR