BEGIN:VCALENDAR
VERSION:2.0
PRODID:-//Vakarų Vėjai - ECPv6.15.3//NONSGML v1.0//EN
CALSCALE:GREGORIAN
METHOD:PUBLISH
X-ORIGINAL-URL:https://vakaruvejai.com
X-WR-CALDESC:Vakarų Vėjai renginiai
REFRESH-INTERVAL;VALUE=DURATION:PT1H
X-Robots-Tag:noindex
X-PUBLISHED-TTL:PT1H
BEGIN:VTIMEZONE
TZID:America/Los_Angeles
BEGIN:DAYLIGHT
TZOFFSETFROM:-0800
TZOFFSETTO:-0700
TZNAME:PDT
DTSTART:20250309T100000
END:DAYLIGHT
BEGIN:STANDARD
TZOFFSETFROM:-0700
TZOFFSETTO:-0800
TZNAME:PST
DTSTART:20251102T090000
END:STANDARD
END:VTIMEZONE
BEGIN:VEVENT
DTSTART;TZID=America/Los_Angeles:20250317T170000
DTEND;TZID=America/Los_Angeles:20250317T190000
DTSTAMP:20260423T175126
CREATED:20250315T045822Z
LAST-MODIFIED:20250315T045936Z
UID:28641-1742230800-1742238000@vakaruvejai.com
SUMMARY:Meet & greet with Domantas Sabonis & Jonas Valančiūnas\, Sakramentas
DESCRIPTION:EXCLUSIVE MEET & GREET: Meet Lithuanian Basketball Legends Domantas Sabonis & Jonas Valančiūnas before the game with Grizzlies.\nwww.kingsgroups.com/LithuanianHeritageNight\n\n\nThis RARE opportunity is ONLY available for the first 75 tickets sold. SO HURRY UP!\n\n\nThis is AN EXCLUSIVE EVENT created for us only and it took me weeks to set it up! SO SHOW UP AND SHOW SUPPORT!\n\n\nEveryone who wants to participate MUST PURCHASE A TICKET THROUGH THE LINK.\nTicket Link: www.kingsgroups.com/LithuanianHeritageNight\n\n\nWe will have a list and will mark down everyone before entering the arena/participating in the meet-and-greet.\n\n\nžAFTER MEET AND GREET we will watch\nthe game Sacramento Kings vs. Memphis Grizzlies. So buy your preferred tickets for the game:\nTicket Link: www.kingsgroups.com/LithuanianHeritageNight\n\n\nDAY OF THE GAME:\nPlan to arrive at the arena no later than 5 PM\nYou will go to the media entrance located near the box office and Chipotle located at 500 David J Stern Walk\, Sacramento\, CA 95814\nYou will be let into the building at 5:15 PM.\nYou will be escorted to section 113 (Only for Meet & Greet) and placed into seats to wait for Domas and Jonas.\nOnce seated\, you cannot leave the area.\nYOU WILL GO TO YOUR (purchased) SEATS AFTER MEET & GREET.\nFurther directions you will get once you arrive at the arena. DO NOT BE LATE!\n\n\nDon’t miss this once-in-a-lifetime chance to meet Domantas Sabonis and Jonas Valančiūnas in an exclusive setting. Secure your spot now! #Sabonis #Valančiūnas #LithuanianLegends #ExclusiveEvent\n\n\nPLEASE ASK QUESTIONS IN THE COMMENTS. SO I DON’T NEED TO RESPOND TO THE SAME QUESTIONS MULTIPLE TIMES.\n\n\nYOU CAN’T RESELL TICKETS IF YOU DO\, YOU WILL BE BANNED FROM ARENA.\n\n\nP.S. The link also includes discounted tickets for the March 20 game when Sacramento Kings will play against the Chicago Bulls where another Lithuanian Star\, Mantas Buzelis\, is playing.\nBUT NO MEET AND GREET FOR THIS GAME.\nTicket Link: www.kingsgroups.com/LithuanianHeritageNight\n\n\nEVERYONE IS WELCOME.  IT IS KIDS FRIENDLY EVENT.\n\n\nBeautiful banner by Tautvydas Kaltenis T-SHIRTS ON SALE FOR THIS EVENT will be released TOMORROW. STAY TUNED
URL:https://vakaruvejai.com/renginys/meet-greet-with-domantas-sabonis-jonas-valanciunas-sakramentas/
LOCATION:Golden 1 Center\, 500 David J Stern Walk\, Sacramento\, CA\, 95814
CATEGORIES:San Franciskas
ATTACH;FMTTYPE=image/jpeg:https://vakaruvejai.com/wp-content/uploads/2025/03/481765828_9969271396420491_7422529673211747831_n.jpeg
END:VEVENT
END:VCALENDAR