BEGIN:VCALENDAR
VERSION:2.0
PRODID:-//Vakarų Vėjai - ECPv6.15.3//NONSGML v1.0//EN
CALSCALE:GREGORIAN
METHOD:PUBLISH
X-ORIGINAL-URL:https://vakaruvejai.com
X-WR-CALDESC:Vakarų Vėjai renginiai
REFRESH-INTERVAL;VALUE=DURATION:PT1H
X-Robots-Tag:noindex
X-PUBLISHED-TTL:PT1H
BEGIN:VTIMEZONE
TZID:America/Los_Angeles
BEGIN:DAYLIGHT
TZOFFSETFROM:-0800
TZOFFSETTO:-0700
TZNAME:PDT
DTSTART:20210314T100000
END:DAYLIGHT
BEGIN:STANDARD
TZOFFSETFROM:-0700
TZOFFSETTO:-0800
TZNAME:PST
DTSTART:20211107T090000
END:STANDARD
END:VTIMEZONE
BEGIN:VEVENT
DTSTART;VALUE=DATE:20211103
DTEND;VALUE=DATE:20211115
DTSTAMP:20260423T204026
CREATED:20211022T194404Z
LAST-MODIFIED:20211022T194404Z
UID:18294-1635897600-1636934399@vakaruvejai.com
SUMMARY:NYBFF: See the World Through Baltic Eyes\, Virtual
DESCRIPTION:The Fourth Annual New York Baltic Film Festival (NYBFF) presented by Scandinavia House: The Nordic Center in America returns in 2021 as a hybrid festival with both in-person and virtual screenings on November 3-14. This year\, the festival will feature eleven feature films and one TV series with three International premieres\, four North American premieres and one U.S. premiere\, two New York premieres\, and one East Coast premiere. Filmmakers will be present at a number of the premieres to participate in Q&As after the screenings. \nThe festival will kick off on Wednesday\, November 3 at Scandinavia House (58 Park Ave.\, NYC) with the East Coast premiere of Goodbye Soviet Union (Estonia\, Finland)\, a playful\, nostalgic\, and thought-provoking comedy that follows the life and misadventures of Johannes and his eccentric Ingrian-Finnish family in the waning days of the Estonian Soviet Republic. Lauri Randla’s debut feature won the Audience Award at the Tallinn Black Nights Film Festival last year. \nThe film perfectly embodies this year’s festival theme: Adaptation and Resistance. Jūle Rozīte\, the festival’s Head of Programs\, states: “These past two years have thrown us all off course and forced us to rethink our daily routines\, expectations\, and future plans. But this is not the first time in recent history that the Baltic States have had their daily lives turned upside down. And by delving deeper into these stories maybe we can learn a thing or two.” \nMovie line-up and ticket info see here: https://www.balticfilmfestival.com/2021-line-up
URL:https://vakaruvejai.com/renginys/nybff-see-the-world-through-baltic-eyes-virtual/
LOCATION:Virtual event
CATEGORIES:Arizona,Hawaii,Los Andželas,Nevada,Portlandas,San Diego,San Franciskas,Seattle,Virtualus renginys
ATTACH;FMTTYPE=image/jpeg:https://vakaruvejai.com/wp-content/uploads/2021/10/NYBFFWebsiteSocialSharingImage20211200x628-1.jpg
END:VEVENT
END:VCALENDAR