BEGIN:VCALENDAR
VERSION:2.0
PRODID:-//Vakarų Vėjai - ECPv6.15.3//NONSGML v1.0//EN
CALSCALE:GREGORIAN
METHOD:PUBLISH
X-ORIGINAL-URL:https://vakaruvejai.com
X-WR-CALDESC:Vakarų Vėjai renginiai
REFRESH-INTERVAL;VALUE=DURATION:PT1H
X-Robots-Tag:noindex
X-PUBLISHED-TTL:PT1H
BEGIN:VTIMEZONE
TZID:America/Los_Angeles
BEGIN:DAYLIGHT
TZOFFSETFROM:-0800
TZOFFSETTO:-0700
TZNAME:PDT
DTSTART:20260308T100000
END:DAYLIGHT
BEGIN:STANDARD
TZOFFSETFROM:-0700
TZOFFSETTO:-0800
TZNAME:PST
DTSTART:20261101T090000
END:STANDARD
END:VTIMEZONE
BEGIN:VEVENT
DTSTART;TZID=America/Los_Angeles:20260321T130000
DTEND;TZID=America/Los_Angeles:20260321T150000
DTSTAMP:20260423T143306
CREATED:20260220T003207Z
LAST-MODIFIED:20260220T003207Z
UID:30597-1774098000-1774105200@vakaruvejai.com
SUMMARY:Atminimo vakaras išeivijos poetei Danai Mickutei-Mitkienei\, Los Andželas
DESCRIPTION:“Just Millin’ Around” teatras kviečia į atminimo renginį\, skirtą išeivijos poetei Danai Mickutei-Mitkienei. \nRenginys vyks kovo 21 d. (šeštadienį) 13 val. B Brazdžionio vardo menininkų kiemelyje. \n– Bus atidengta garbės lentelė poetei \n– Dalinsimės jos gyvenimo ir kūrybos prisiminimais \n– Skambės gyva muzika ir eilės \nRENGINYS NEMOKAMAS \nOrganizatoriai: “Just Millin’ Around” teatras ir poetės šeima.
URL:https://vakaruvejai.com/renginys/atminimo-vakaras-iseivijos-poetei-danai-mickutei-mitkienei-los-andzelas/
LOCATION:Bernardo Brazdžionio vardo išeivijos menininkų kiemelis\, 2901 Griffith Park Blvd.\, Los Angeles\, CA\, 90027\, United States
CATEGORIES:Lietuviški renginiai,Los Andželas
ATTACH;FMTTYPE=image/jpeg:https://vakaruvejai.com/wp-content/uploads/2026/02/IMG_6892.jpeg
END:VEVENT
END:VCALENDAR