BEGIN:VCALENDAR
VERSION:2.0
PRODID:-//Vakarų Vėjai - ECPv6.15.3//NONSGML v1.0//EN
CALSCALE:GREGORIAN
METHOD:PUBLISH
X-ORIGINAL-URL:https://vakaruvejai.com
X-WR-CALDESC:Vakarų Vėjai renginiai
REFRESH-INTERVAL;VALUE=DURATION:PT1H
X-Robots-Tag:noindex
X-PUBLISHED-TTL:PT1H
BEGIN:VTIMEZONE
TZID:America/Los_Angeles
BEGIN:DAYLIGHT
TZOFFSETFROM:-0800
TZOFFSETTO:-0700
TZNAME:PDT
DTSTART:20220313T100000
END:DAYLIGHT
BEGIN:STANDARD
TZOFFSETFROM:-0700
TZOFFSETTO:-0800
TZNAME:PST
DTSTART:20221106T090000
END:STANDARD
BEGIN:DAYLIGHT
TZOFFSETFROM:-0800
TZOFFSETTO:-0700
TZNAME:PDT
DTSTART:20230312T100000
END:DAYLIGHT
BEGIN:STANDARD
TZOFFSETFROM:-0700
TZOFFSETTO:-0800
TZNAME:PST
DTSTART:20231105T090000
END:STANDARD
BEGIN:DAYLIGHT
TZOFFSETFROM:-0800
TZOFFSETTO:-0700
TZNAME:PDT
DTSTART:20240310T100000
END:DAYLIGHT
BEGIN:STANDARD
TZOFFSETFROM:-0700
TZOFFSETTO:-0800
TZNAME:PST
DTSTART:20241103T090000
END:STANDARD
BEGIN:DAYLIGHT
TZOFFSETFROM:-0800
TZOFFSETTO:-0700
TZNAME:PDT
DTSTART:20250309T100000
END:DAYLIGHT
BEGIN:STANDARD
TZOFFSETFROM:-0700
TZOFFSETTO:-0800
TZNAME:PST
DTSTART:20251102T090000
END:STANDARD
END:VTIMEZONE
BEGIN:VEVENT
DTSTART;TZID=America/Los_Angeles:20251220T120000
DTEND;TZID=America/Los_Angeles:20251220T130000
DTSTAMP:20260423T130138
CREATED:20251206T020453Z
LAST-MODIFIED:20251206T020453Z
UID:30105-1766232000-1766235600@vakaruvejai.com
SUMMARY:Čiurlionio Kalėdos Los Andželo Šv. Kazimiero lituanistinėje mokykloje\, Los Andželas
DESCRIPTION:Kviečiame visus\, svečius\, draugus ir šeimas į Los Andželo Šv. Kazimiero lituanistinės mokyklos Čiurlionio Kalėdas! Bus Kalėdų senelis\, dovanėlės\, smagi programa su dainom ir šokiais. Kalėdinė mugė kiemelyje po programos.
URL:https://vakaruvejai.com/renginys/ciurlionio-kaledos-los-andzelo-sv-kazimiero-lituanistineje-mokykloje-los-andzelas/
LOCATION:Los Angeles Šv. Kazimiero lituanistinė mokykla\, 2714 St. George St.\, Los Angeles\, CA\, 90027
CATEGORIES:Lietuviški renginiai,Los Andželas
ATTACH;FMTTYPE=image/png:https://vakaruvejai.com/wp-content/uploads/2025/12/LAmokykla_KaledineEglute2025.png
END:VEVENT
BEGIN:VEVENT
DTSTART;TZID=America/Los_Angeles:20241221T120000
DTEND;TZID=America/Los_Angeles:20241221T140000
DTSTAMP:20260423T130138
CREATED:20241214T071532Z
LAST-MODIFIED:20241214T132312Z
UID:28049-1734782400-1734789600@vakaruvejai.com
SUMMARY:Šv. Kazimiero lituanistinės mokyklos kalėdinė eglutė "Spragtuko sapnas"\, Los Andželas
DESCRIPTION:Kviečiame į Šv. Kazimiero lituanistinės mokyklos kalėdinę eglutę „Spragtuko sapnas”. Jūsų lauks dainos šokiai\, Kalėdų senelis ir dovanėlės.
URL:https://vakaruvejai.com/renginys/sv-kazimiero-lituanistines-mokyklos-kaledine-eglute-spragtuko-sapnas-los-andzelas/
LOCATION:CA
CATEGORIES:Lietuviški renginiai,Los Andželas
ATTACH;FMTTYPE=image/png:https://vakaruvejai.com/wp-content/uploads/2024/12/Red-Green-Colorful-Christmas-Instagram-Story-1.png
END:VEVENT
BEGIN:VEVENT
DTSTART;TZID=America/Los_Angeles:20241214T160000
DTEND;TZID=America/Los_Angeles:20241214T190000
DTSTAMP:20260423T130138
CREATED:20241114T182928Z
LAST-MODIFIED:20241114T182928Z
UID:27896-1734192000-1734202800@vakaruvejai.com
SUMMARY:Lino lituanistinės mokyklos kalėdinė "Eglutės" šventė\, Sietlas\, WA
DESCRIPTION:Maloniai kviečiame į Lino lituanistinės mokyklos organizuojamą kalėdinę „Eglutės” šventę \, kuri vyks gruodžio 14 d.\, šeštadienį!Programoje:• Mokyklos vaikų šventinis pasirodymas• Žaidimai\, burtai ir šokių kolektyvų „Lietutis“ ir „Griaustinis“ pasirodymas • Linksmybės su Kalėdų Seneliu  ir dovanėlės Kaina:• $35 šeimai • $20 vienam suaugusiajam (vaikams nemokamai)  Parama mokyklai: Mokykla visada džiaugiasi įvairia parama\, tiek pinigine \, tiek savanoriška pagalba\, prisidedančia prie mokyklos veiklos ir bendruomenės gerovės.Papildoma informacija:• Prašome atsinešti smulkių pinigų – galėsite įsigyti vaikų rankų darbo kalėdinių suvenyrų \, jaukių smulkmenų ir\, žinoma\, kūčiukų.• Vaišės suneštinės: Kviečiame atsinešti pagrindinį patiekalą ir desertą.Dovanos: Dovanas vaikams (knygą) prašome atnešti supakuotas  ir aiškiai užrašytas vaiko vardu bei pavarde. Dovanas galėsite perduoti budintiesiems prie durų.Laukiame Jūsų šventėje! We warmly invite you to join us for the Christmas „Eglutė” celebration hosted by Linas Lithuanian School on Saturday\, December 14th!Event Program:• Festive performance by the school children • Games\, magic\, and performances by dance groups „Lietutis” and „Griaustinis” • Fun activities with Santa Claus  and gift-giving Admission:• $35 per family • $20 per adult (children attend for free)  Supporting the School: We deeply appreciate any form of support\, whether financial or through volunteer help\, to enrich our school community.Additional Information:• Please bring small bills\, as Christmas souvenirs \, cozy keepsakes \, and traditional „kūčiukai” will be available for purchase\, with some handmade by the children.• Potluck: Kindly bring a main dish and dessert to share.Gift-Giving: For gift-giving\, please bring a wrapped book labeled with your child’s full name. Gifts can be handed to the attendants at the entrance.We look forward to celebrating together!
URL:https://vakaruvejai.com/renginys/lino-lituanistines-mokyklos-kaledine-eglutes-svente-sietlas-wa/
LOCATION:The Seattle Latvian Evangelical Lutheran Church/Center\, 11710 3rd Ave NE\, Seattle\, CA\, 98125
CATEGORIES:Lietuviški renginiai,Seattle
ATTACH;FMTTYPE=image/jpeg:https://vakaruvejai.com/wp-content/uploads/2024/11/465732352_1050259950228398_5797960721408545524_n.jpeg
END:VEVENT
BEGIN:VEVENT
DTSTART;TZID=America/Los_Angeles:20231216T120000
DTEND;TZID=America/Los_Angeles:20231216T130000
DTSTAMP:20260423T130138
CREATED:20231216T063207Z
LAST-MODIFIED:20231216T063207Z
UID:25725-1702728000-1702731600@vakaruvejai.com
SUMMARY:Šv. Kazimiero Lituanistinės Mokyklos Kalėdinė Eglutės Programa "Kūčių Paslaptis"\, Los Andželas
DESCRIPTION:
URL:https://vakaruvejai.com/renginys/sv-kazimiero-lituanistines-mokyklos-kaledine-eglutes-programa-kuciu-paslaptis-los-andzelas/
LOCATION:Los Angeles Šv. Kazimiero lituanistinė mokykla\, 2714 St. George St.\, Los Angeles\, CA\, 90027
CATEGORIES:Lietuviški renginiai,Los Andželas
ATTACH;FMTTYPE=image/png:https://vakaruvejai.com/wp-content/uploads/2023/12/Kvietimai-2.png
END:VEVENT
BEGIN:VEVENT
DTSTART;TZID=America/Los_Angeles:20231209T160000
DTEND;TZID=America/Los_Angeles:20231209T190000
DTSTAMP:20260423T130138
CREATED:20231020T043256Z
LAST-MODIFIED:20231202T030958Z
UID:25316-1702137600-1702148400@vakaruvejai.com
SUMMARY:Linas Lithuanian School "Eglutė" Christmas Program\, Seattle\, WA
DESCRIPTION:Maloniai kviečiame į Lino lituanistinės mokyklos organizuojamą kalėdinę „Eglutės” šventę\nGruodžio 9 d. (šeštadienį).\nKaina: $35 šeimai\, $20- vienam suaugusiam asmeniui\, vaikams nemokamai.\nMokyklėlė visada džiaugiasi įvairia parama: pinigine bei įvairia pagalba prisidedant prie\nmokyklėlės gyvenimo.\nPrašome atsinešti smulkių pinigų. Bus galima įsigyti vaikų ir ne tik jų gamintų kalėdinių\nsuvenyrų\, jaukių smulkmenų ir\, žinoma\, kūčiukų!\nVaišės suneštinės (Prašome atsinešti pagrindinį patiekalą ir desertą.)\nDovanos: Prašome dovaną (knygą) savo vaikui atnešti supakuotą su aiškiai užrašytu vardu ir\npavarde.\nDovanas galėsite perduoti budintiesiems prie durų.\nPrograma:\n(Laikas yra numatomas)\n16.00 – Durys atidaromos\,\n16.30 -16.45 – Šventės atidarymas\, sveikinimai\n16.45 – Mokyklos vaikų šventinė programa\, žaidimai\, šokių kolektyvo „Lietutis” pasirodymas.\n17.45 – Linksmybės su Kalėdų Seneliu\, dovanos.\n18.00 – Vaišės
URL:https://vakaruvejai.com/renginys/linas-lithuanian-school-eglute-christmas-program/
LOCATION:11710 3rd Ave NE\, Seattle\, WA 98125\, Seattle\, WA
CATEGORIES:Lietuviški renginiai,Seattle
ATTACH;FMTTYPE=image/png:https://vakaruvejai.com/wp-content/uploads/2023/10/Screen-Shot-2023-12-01-at-7.09.36-PM.png
END:VEVENT
BEGIN:VEVENT
DTSTART;TZID=America/Los_Angeles:20221203T170000
DTEND;TZID=America/Los_Angeles:20221203T210000
DTSTAMP:20260423T130138
CREATED:20221118T162554Z
LAST-MODIFIED:20221118T162554Z
UID:22987-1670086800-1670101200@vakaruvejai.com
SUMMARY:Lietuvių Bendruomenės Kalėdinė Eglutė/Lithuanian Christmas Eve and Children's Program\, Portlandas
DESCRIPTION:LT \nKviečiame mažus ir didelius\, linksmus ir talentingus\, kūrybingus ir išradingus\, dainingus ir šoklingus; VISUS VISUS VISUS: snieguoles\, elfus\, mergaites\, berniukus\, zuikučius\, mamytes\, tėvelius… sudalyvauti Kalėdų Eglutėje. \nVakaro programa \n17:00  –  Vaikučių pabiručių paruošta Kalėdinė programa. \n17:30 –    Dovanos vaikučiams \n18:30  –  Kūčių „suneštinių“ vaišių pradžia \nSuneštinės vaišės \nPrašome\, atsineškite pagrindinį patiekalą ir desertą. Pagal Kūčių tradicijas patiekalai turėtų būti paruošti be mėsos. Tinka žuvis\, kruopos\, vaisiai\, daržovės. Kava ir arbata bus pateikti.\nJei pageidaujate\, atsineškite savo vyną\, alų. \nKalėdinė programa \nTradiciškai lankysis Kalėdų Senelis su dovanelėmis. Prašome paruošti savo vaikučiams nedidelę dovanėlę ir ją atsinešti į renginį. Vaikučiai turėtų būti pasiruošę atlikti kokį nors trumpą pasirodymą (eilėraštis\, dainelė\, šokis ar pan.)\, kad gautų dovanėlę nuo Kalėdų Senelio. \nMamytės ir tėveliai: Norėtume\, kad visi vaikučiai gautų maždaug vienodo dydžio ir vertės dovanėles. Tad prašome\, jog dovanėlė neviršytų $20 vertės ir būtų tokio dydžio\, jog lengvai tilptų į rudą popierinį pietų maišelį (“brown bag”). Paruoškite po dovanėlę kiekvienam vaikučiui. Ant dovanėlės aiškiai užrašykite savo vaiko vardą. Atvykę į renginį\, palikite dovanėlę(-es) ant priėmimo stalo; dovanėlės bus sudėtos į Kalėdų Senelio maišą. \nŠventės metu taip pat bus galima įsigyti plotkelių. \nĮėjimas: $20 suaugusiems / $5 vaikams / $50 šeimai. \nPašome pagalbos papuošti salę. Renkamės penktadienį\, gruodžio 2 d 6 val vakare. Dėkojame iš anskto! \nJei turite klausimų ar pasiūlymų\, prašome kreipkitės info@portlandlithuanians.com \nEN \nChristmas Eve and Children’s program \nSaturday\, December 3rd\, 2022\nChristmas show – 5:00 PM \nAddress:\nLatvian Hall\n5500 SW Dosch Rd\nPortland\, OR 97239 \nPlease\, be invited to the traditional Lithuanian style Christmas Eve gathering. \nEvening Program \n5:00pm  –  Christmas show. Santa Claus\n6:30pm  –  Christmas Eve potluck dinner begins \nCommunity Potluck \nPlease\, bring a Main Dish and Dessert. Remember Christmas Eve traditions dictate no meat; fish\, grains\, fruit and vegetable are OK. Coffee and tea will be provided. BYO wine or/and beer. No community bar. \nTraditionally\, Santa Claus will also hand out the gifts to the children. Parents\, please prepare and bring a small gift which Santa could hand to your child(ren). Kids should be prepared to show their talent (poem\, song\, dance\, instrument\, etc.) to be rewarded with a gift. \nParents:  We want all the children to receive a gift that is more or less of similar value and size as everyone else’s. Therefore we ask that the gift does not exceed $20 in value and is no larger than something that could fit into a brown lunch bag. Write your child’s name on the bag clearly. Leave your child’s gift at the reception table to be placed in Santa’s bag. \nChristmas wafers will be available for pick up. \nEntrance:  $20 per adult  / $5 per child / $50 per family \nWe are asking for help to decorate the Hall on Friday\, December 2nd at 6 pm. Thank you! \nIf you have any questions please feel free to contact us at info@portlandlithuanians.com
URL:https://vakaruvejai.com/renginys/lietuviu-bendruomenes-kaledine-eglute-lithuanian-christmas-eve-and-childrens-program-portlandas/
LOCATION:Latvių namai-SF\, 425 Hoffman Ave\, San Franciskas\, CA\, 94114
CATEGORIES:Lietuviški renginiai,Portlandas
ATTACH;FMTTYPE=image/jpeg:https://vakaruvejai.com/wp-content/uploads/2022/11/79082160_10157705353437970_6664523357616078.163706.jpeg
END:VEVENT
END:VCALENDAR