BEGIN:VCALENDAR
VERSION:2.0
PRODID:-//Vakarų Vėjai - ECPv6.15.3//NONSGML v1.0//EN
CALSCALE:GREGORIAN
METHOD:PUBLISH
X-WR-CALNAME:Vakarų Vėjai
X-ORIGINAL-URL:https://vakaruvejai.com
X-WR-CALDESC:Vakarų Vėjai renginiai
REFRESH-INTERVAL;VALUE=DURATION:PT1H
X-Robots-Tag:noindex
X-PUBLISHED-TTL:PT1H
BEGIN:VTIMEZONE
TZID:America/Los_Angeles
BEGIN:DAYLIGHT
TZOFFSETFROM:-0800
TZOFFSETTO:-0700
TZNAME:PDT
DTSTART:20220313T100000
END:DAYLIGHT
BEGIN:STANDARD
TZOFFSETFROM:-0700
TZOFFSETTO:-0800
TZNAME:PST
DTSTART:20221106T090000
END:STANDARD
BEGIN:DAYLIGHT
TZOFFSETFROM:-0800
TZOFFSETTO:-0700
TZNAME:PDT
DTSTART:20230312T100000
END:DAYLIGHT
BEGIN:STANDARD
TZOFFSETFROM:-0700
TZOFFSETTO:-0800
TZNAME:PST
DTSTART:20231105T090000
END:STANDARD
BEGIN:DAYLIGHT
TZOFFSETFROM:-0800
TZOFFSETTO:-0700
TZNAME:PDT
DTSTART:20240310T100000
END:DAYLIGHT
BEGIN:STANDARD
TZOFFSETFROM:-0700
TZOFFSETTO:-0800
TZNAME:PST
DTSTART:20241103T090000
END:STANDARD
BEGIN:DAYLIGHT
TZOFFSETFROM:-0800
TZOFFSETTO:-0700
TZNAME:PDT
DTSTART:20250309T100000
END:DAYLIGHT
BEGIN:STANDARD
TZOFFSETFROM:-0700
TZOFFSETTO:-0800
TZNAME:PST
DTSTART:20251102T090000
END:STANDARD
END:VTIMEZONE
BEGIN:VEVENT
DTSTART;TZID=America/Los_Angeles:20251214T120000
DTEND;TZID=America/Los_Angeles:20251214T150000
DTSTAMP:20260423T143919
CREATED:20251122T072345Z
LAST-MODIFIED:20251122T072537Z
UID:30067-1765713600-1765724400@vakaruvejai.com
SUMMARY:San Diego lietuvių bendruomenės Kalėdinė mugė
DESCRIPTION:Kasmetinis San Diego lietuvių bendruomenės Kūčių renginys sparčiai artėja!Kviečiame registruotis visus norinčius prekiauti Kalėdų mugėje el. paštu: sandiegolietuviai@gmail.comDalyvauti gali visi – ir suaugusieji\, ir vaikai.Stalais prašome pasirūpinti patiems.Detalesnė informacija apie renginį:https://facebook.com/events/s/tradicines-lietuviskos-kucios/1317504359854999/?mibextid=wwXIfr
URL:https://vakaruvejai.com/renginys/san-diego-kaledine-muge/
LOCATION:1197 Whispering Water Dr San Marcos\, CA 92078 United States\, 1197 Whispering Water Dr\, San Marcos\, CA\, 92078
CATEGORIES:Lietuviški renginiai,San Diego
ATTACH;FMTTYPE=image/jpeg:https://vakaruvejai.com/wp-content/uploads/2025/11/584583154_10223216705484416_4638084633761495711_n.jpg
END:VEVENT
BEGIN:VEVENT
DTSTART;TZID=America/Los_Angeles:20251122T100000
DTEND;TZID=America/Los_Angeles:20251122T170000
DTSTAMP:20260423T143919
CREATED:20250927T024315Z
LAST-MODIFIED:20250927T024327Z
UID:29726-1763805600-1763830800@vakaruvejai.com
SUMMARY:Baltic Christmas Market\, Portlandas
DESCRIPTION:LT \nVisus kvie2iame į Baltic Cristmas Market. Rankų darbo etninės dovanos – kepiniai\, kalėdiniai patiekalai ir papuošalai\, keramika\, rankomis dažyti siūlai\, megztos kepurės ir pirštinės\, linas\, graviruotas krištolas ir stiklas\, natūralios žvakės\, rankų darbo atvirukai\, knygos ir daug daugiau! \nĮĖJIMAS NEMOKAMAS \nKALĖDŲ SENELIS \nLIAUDIŠKI ŠOKIAI \nMAISTAS \nVietų rezervacija pardavėjams: oregonlatvians@gmail.com \n  \nEN \nEveryone is invited to a Baltic Christmas Market. Handcrafted ethnic gifts – baked goods\, Christmas specialty foods and ornaments\, ceramics\, hand-dyed yarns\, knitted hats and mittens\, linens\, etched crystal and glass\, natural candles\, handmade cards\, books\, and much more! \nFREE ENTRYSANTA CLAUSFOLK DANCE PERFORMANCELUNCH AVAILABLE FOR PURCHASE \nReservations for vendor space: oregonlatvians@gmail.com
URL:https://vakaruvejai.com/renginys/baltic-christmas-market/
LOCATION:5500 SW Dosch Rd\, Portland\, OR\, 5500 SW Dosch Rd\, Portland\, OR\, 97239
CATEGORIES:Portlandas
ATTACH;FMTTYPE=image/jpeg:https://vakaruvejai.com/wp-content/uploads/2025/09/550505342_807819758426948_1927700082329206202_n.jpeg
END:VEVENT
BEGIN:VEVENT
DTSTART;TZID=America/Los_Angeles:20231216T130000
DTEND;TZID=America/Los_Angeles:20231216T170000
DTSTAMP:20260423T143919
CREATED:20231118T035953Z
LAST-MODIFIED:20231118T035953Z
UID:25573-1702731600-1702746000@vakaruvejai.com
SUMMARY:Marytės Kalėdinė Mugė\, Los Andželas
DESCRIPTION:Mugių tradicija Šv. Kazimiero parapijoje tęsiasi! \nŠiais metais Marytės Kalėdinė Mugė vyks gruodžio 16 d.\, šeštadienį\, 1 val. po pietų šv. Kazimiero parapijos mokyklos kiemelyje\, Los Andžele. \nMugėje galėsite įsigyti įvairiausių skanėstų savo Kūčių ir šv. Kalėdų stalams\, taip pat kalėdinių dovanėlių\, susipažinti ir pabendrauti su menininkais bei meistrais.\nParagauti lietuviškų gardžių valgių ir gėrimų. \nTaip pat Jūsų laukia gyvo garso koncertas! \nKviečiame visus\, norinčius prisidėti prie mugės savo prekėmis – kepiniais\, patiekalais\, mezginiais\, rankdarbiais\, meno kūriniais\, kalėdinėmis dekoracijomis\, muzika\, papuošalais ar šiaip suvenyrais. Visos Jūsų idėjos įdomios ir vertingos. \nKurkime Kalėdinį stebuklą kartu!!! \nDėl dalyvavimo ir kitų iškilusių klausimų skambinkite ar rašykite Linai Kajotienei tel.: 310 526 1456\, e-mail: lina727@gmail.com \nMarytės Kalėdinės Mugės globėjas šv. Kazimiero parapijos klebonas kun. Tomas Karanauskas. \nMugės ištikimi rėmėjai: \nNijolė ir Vitalis Lembertai \nGražina ir Ken Kling \nLietuvos Respublikos generalinis konsulatas Los Andžele \nVYČIAI – Knights of Lithuania  \nKalifornijos lietuvių kredito unija https://www.clcu.org/
URL:https://vakaruvejai.com/renginys/marytes-kaledine-muge-los-andzelas/
LOCATION:Šv. Kazimiero parapija\, 2716 St. George St.\, Los Angeles\, CA\, 90027
CATEGORIES:Lietuviški renginiai,Los Andželas
ATTACH;FMTTYPE=image/png:https://vakaruvejai.com/wp-content/uploads/2023/11/Screen-Shot-2023-11-17-at-7.59.00-PM.png
ORGANIZER;CN="Lina Kajotien%C4%97%2C Edvardas Gaili%C5%ABnas%2C Saulius Kajota":MAILTO:lina727@gmail.com
END:VEVENT
BEGIN:VEVENT
DTSTART;TZID=America/Los_Angeles:20231202T100000
DTEND;TZID=America/Los_Angeles:20231202T150000
DTSTAMP:20260423T143919
CREATED:20231202T063244Z
LAST-MODIFIED:20231202T063244Z
UID:25658-1701511200-1701529200@vakaruvejai.com
SUMMARY:San Francisco Baltic Christmas Fair
DESCRIPTION:Come enjoy a taste of Baltic holiday traditions at the San Francisco Baltic Christmas Fair and support our local communities. Free admission to the marketplace all day. Hot food and drink available all day.\n• Makers\, sellers\, and artisans from the local Estonian\, Latvian\, and Lithuanian communities offer a variety of gifts for the people on your list. Whether modern\, traditional\, or folk-inspired — you will find it among the jams and preserves\, Baltic-style breads and cakes\, locally produced honey\, traditional straw ornaments\, beach glass jewelry\, handmade dolls\, prints\, embroidered textiles and clothing\, wool socks\, handmade accessories\, ceramics\, Baltic books\, clay sculpture\, holiday decorations\, handmade cards\, and Christmas chocolates. And maybe a surprise or two!\n• Activities: meet and take pictures with Santa. Raffle will be held throughout the day (free entry for all attendees)\, as well as kids’ craft activity.\n• Vendors – a few spots are still available at the link: https://forms.gle/RepHNWkrNgz2mmZF6\nVolunteers and organizers – we need you! Sign up and fill all the slots at the link: https://www.signupgenius.com/…/10C084DA4A92DA0FECF8…\n• Masks are welcome and encouraged in the marketplace area. If you are experiencing COVID or flu symptoms\, please stay home to recover. Let’s all look out for our community\, and have a successful and safe event.\n• Coming by public transit? The Latvian Hall is accessible via the MUNI 48 line\, which runs frequently on the weekend and has a stop very near the Latvian Hall. Parking can be a challenge in the area — carpooling is encouraged.\nThe Baltic Christmas Fair is a joint event by the San Francisco Estonian Society\, Northern California Latvian Association\, and the San Francisco Lithuanian-American Community. Fair proceeds support Baltic community activities in the Bay Area.
URL:https://vakaruvejai.com/renginys/san-francisco-baltic-christmas-fair/
LOCATION:Latviešu Nams (Latvian Hall)-SF\, 425 Hoffman\, San Francisco\, 94114
CATEGORIES:San Franciskas
ATTACH;FMTTYPE=image/jpeg:https://vakaruvejai.com/wp-content/uploads/2023/12/406089302_341809271829212_2136481645213970432_n.jpeg
END:VEVENT
BEGIN:VEVENT
DTSTART;VALUE=DATE:20231202
DTEND;VALUE=DATE:20231204
DTSTAMP:20260423T143919
CREATED:20231202T064519Z
LAST-MODIFIED:20231202T070339Z
UID:25662-1701475200-1701647999@vakaruvejai.com
SUMMARY:Annual Latvian Christmas Market & Craft Fair & Bake Sale\, Portland\, OR
DESCRIPTION:Saturday\, December 2nd @ 10 am to 5 pm & \nSunday\, December 3rd @10 am to 3 pm.\n\nFree admission. Free parking.  \n \nLatvian Community Center (off Beaverton-Hillsdale Hwy). \n5500 SW Dosch Road \nPortland\, Oregon 97239.  \n \nOur annual Holiday Market is a great place to learn about the people of Latvia\, Lithuania and Estonia\, in Northeastern Europe. See traditional handmade Baltic designs in art\, jewelry\, glass\, ceramics\, weavings\, clothing and accessories ~ many created by local Pacific NW artists\, crafters\, artisans and bakers.  Traditional „pīrāgi”\, rye bread\, Christmas cookies\, sweet and savory pastries — enjoy them while you shop\, or take them home!  \n \nHot lunch\, coffee & tea available from 11am.   \n \nEstonian entertainment on Sunday!  \n \nEuropean pastries\, cookies\, cakes. \nSilver & copper & amber jewelry. \nLinen\, cotton\, wool weavings. \nLatvian traditional folk art. \nLithuanian crafts & deli. \nUkrainian eggs. \nGrab-bags!! \nGreeting cards. \nChristmas decor. \nEtched glassware. \nOrganic soy candles. \nChristmas ornaments. \nKnitting & crocheting. \nHandwoven table linens. \nHandcrafted wood carvings. \nLatvian straw ornaments. \nMittens\, gloves & socks. \nRunners & table cloths. \nHandmade journals. \nBlankets & throws. \nShawls & scarves. \nPaintings. \nBooks.  \n \nTraditional\, contemporary\, vintage!  \n \nCome enjoy a meal\, do some shopping and learn about the Baltic people. Proceeds benefit the Latvian Community Center. All are welcome! 
URL:https://vakaruvejai.com/renginys/annual-latvian-christmas-market-craft-fair-bake-sale-portland-or/
LOCATION:5500 SW Dosch Road\, Portland\, OR 97239
CATEGORIES:Portlandas
ATTACH;FMTTYPE=image/png:https://vakaruvejai.com/wp-content/uploads/2023/12/Ziemsvetku-Tirdzins-2023-plakats.png
ORGANIZER;CN="Oregon Latvian Society":MAILTO:oregonlatvians@gmail.com
END:VEVENT
BEGIN:VEVENT
DTSTART;TZID=America/Los_Angeles:20221217T140000
DTEND;TZID=America/Los_Angeles:20221217T180000
DTSTAMP:20260423T143919
CREATED:20221202T045407Z
LAST-MODIFIED:20221209T204324Z
UID:23137-1671285600-1671300000@vakaruvejai.com
SUMMARY:Kalėdinė "Marytės" Mugė\, Los Andželas
DESCRIPTION:  \nMARYTĖS KALĖDINĖ MUGĖ SUGRĮŽO! \nPo dviejų metų pertraukos į Šv. Kazimiero parapiją Los Andžele sugrįžo visų pamėgta\, jau tradicija tapusi\, skaičiuojanti šeštuosius gyvavimo metus Marytės Kalėdinė Mugė. Kviečiame visus į lietuvišką kalėdinį kaimelį šių metų gruodžio 17 dieną\, 2 val po pietų Šv. Kazimiero parapijos mokyklos kieme\, iš karto po Šv. Kazimiero lituanistinės mokyklos Kalėdinės Eglutės šventės. \nMugėje galėsite įsigyti įvairiausių skanėstų savo Kūčių ir Kalėdų stalams\, taip pat kalėdinių dovanėlių\, susipažinti ir pabendrauti su menininkais bei meistrais. \nŠiais metais mugėje – ypatingas svečias\, kristalo glazūrinės keramikos menininkas Kęstutis Mikėnas. (Plačiau apie šį menininką galite paskaityti čia: http://archyvas.7md.lt/lt/2009-10-30/daile_2/kristalines_glazuros_poetika.html?print \nMugėje paragausite įvairių gardžių lietuviškų patiekalų\, karštų ir šaltų gėrimų. \nŠio renginio tikslas – suburti lietuvius ir Lietuvos draugus lietuviškuose Los Andželo namuose bei parodyti\, kiek čia turime talentingų žmonių ir smulkaus verslo. \nĮėjimas į renginį nemokamas. \nKviečiame visus norinčius prisidėti savo prekėmis – kepiniais\, patiekalais\, mezginiais\, rankdarbiais\, meno kūriniais\, kalėdinėmis dekoracijomis\, muzika\, papuošalais ar šiaip suvenyrais. Visos Jūsų idėjos įdomios ir vertingos. \nLaukiame Jūsų visų! \nMUGĖS RĖMĖJAI:\nNijolė ir Vitalis Lembertai\nGražina ir Ken Kling\nKnights of Lithuania „VYČIAI \n🎄🎄🎄🎄🎄🎄🎄🎄🎄🎄🎄🎄🎄🎄🎄🎄🎄🎄🎄🎄🎄🎄🎄🎄 \nDėl dalyvavimo ir kitų iškilusių klausimų skambinkite ar rašykite Linai Kajotienei tel.: 310 526 1456\, e-mail: lina727@gmail.com \nKurkime Kalėdinį stebuklą kartu!!! \n 
URL:https://vakaruvejai.com/renginys/kaledine-marytes-muge-los-andzelas/
LOCATION:Šv. Kazimiero parapija Los Andžele\, 2718 St George St\, Los Angeles\, CA\, 90027\, United States
CATEGORIES:Lietuviški renginiai,Los Andželas
ATTACH;FMTTYPE=image/jpeg:https://vakaruvejai.com/wp-content/uploads/2022/12/7A239B87-4534-4CDE-9CDA-C61FBCCD45FB.jpeg
END:VEVENT
END:VCALENDAR