BEGIN:VCALENDAR
VERSION:2.0
PRODID:-//Vakarų Vėjai - ECPv6.15.3//NONSGML v1.0//EN
CALSCALE:GREGORIAN
METHOD:PUBLISH
X-ORIGINAL-URL:https://vakaruvejai.com
X-WR-CALDESC:Vakarų Vėjai renginiai
REFRESH-INTERVAL;VALUE=DURATION:PT1H
X-Robots-Tag:noindex
X-PUBLISHED-TTL:PT1H
BEGIN:VTIMEZONE
TZID:America/Los_Angeles
BEGIN:DAYLIGHT
TZOFFSETFROM:-0800
TZOFFSETTO:-0700
TZNAME:PDT
DTSTART:20200308T100000
END:DAYLIGHT
BEGIN:STANDARD
TZOFFSETFROM:-0700
TZOFFSETTO:-0800
TZNAME:PST
DTSTART:20201101T090000
END:STANDARD
BEGIN:DAYLIGHT
TZOFFSETFROM:-0800
TZOFFSETTO:-0700
TZNAME:PDT
DTSTART:20210314T100000
END:DAYLIGHT
BEGIN:STANDARD
TZOFFSETFROM:-0700
TZOFFSETTO:-0800
TZNAME:PST
DTSTART:20211107T090000
END:STANDARD
BEGIN:DAYLIGHT
TZOFFSETFROM:-0800
TZOFFSETTO:-0700
TZNAME:PDT
DTSTART:20220313T100000
END:DAYLIGHT
BEGIN:STANDARD
TZOFFSETFROM:-0700
TZOFFSETTO:-0800
TZNAME:PST
DTSTART:20221106T090000
END:STANDARD
BEGIN:DAYLIGHT
TZOFFSETFROM:-0800
TZOFFSETTO:-0700
TZNAME:PDT
DTSTART:20230312T100000
END:DAYLIGHT
BEGIN:STANDARD
TZOFFSETFROM:-0700
TZOFFSETTO:-0800
TZNAME:PST
DTSTART:20231105T090000
END:STANDARD
BEGIN:DAYLIGHT
TZOFFSETFROM:-0800
TZOFFSETTO:-0700
TZNAME:PDT
DTSTART:20240310T100000
END:DAYLIGHT
BEGIN:STANDARD
TZOFFSETFROM:-0700
TZOFFSETTO:-0800
TZNAME:PST
DTSTART:20241103T090000
END:STANDARD
BEGIN:DAYLIGHT
TZOFFSETFROM:-0800
TZOFFSETTO:-0700
TZNAME:PDT
DTSTART:20250309T100000
END:DAYLIGHT
BEGIN:STANDARD
TZOFFSETFROM:-0700
TZOFFSETTO:-0800
TZNAME:PST
DTSTART:20251102T090000
END:STANDARD
END:VTIMEZONE
BEGIN:VEVENT
DTSTART;TZID=America/Los_Angeles:20250514T173000
DTEND;TZID=America/Los_Angeles:20250514T190000
DTSTAMP:20260423T162959
CREATED:20250511T151101Z
LAST-MODIFIED:20250511T151101Z
UID:29071-1747243800-1747249200@vakaruvejai.com
SUMMARY:Knygos “Nepaprasta Džono ir Adelės kelionė” pristatymas Santa Monikoje
DESCRIPTION:LT  \nPrisijunkite prie ypatingo renginio – susitikimo su knygos „Nepaprasta Džono ir Adelės kelionė“ autoriais Dariumi ir Marija Anciais ir oficialaus knygos pristatymo.\nKADA: Trečiadienis\, gegužės 14 d. 17:30-19:00 val.\nKUR: Restoranas “Solidarity” (1414 Lincoln Blvd\, Santa Monica\, CA 90401) \nLeidykla „Gelmės“ išleido knygą „Nepaprasta Džono ir Adelės kelionė“\, kurią parašė Ancius M. Murray pasivadinę trys romano autoriai – fizikas Darius Ancius\, teisininkė Marija Anciuvienė ir airių rašytoja Mary Catherine Murray. \nRomanas „Nepaprasta Džono ir Adelės kelionė“ nagrinėja keblius poros santykius. Daugiau kaip 20 metų kartu gyvenančių sutuoktinių gyvenimas rieda nuokalne. Vieną vasaros vakarą\, jiems vykstant atostogauti\, jų automobilis sustoja nežinomoje vietovėje. Baigėsi kuras… Netikėtai jie sutinka tris nepažįstamuosius\, kurie jiems suteikia pagalbą. Tačiau kartu jie pateikia porai neįprastą pasiūlymą: užsiimti savo griūvančiais santykiais ir leistis į kelionę\, kurioje jie galbūt galės atstatyti tai\, ko abu ilgisi jau daugelį metų. Ar Adelė ir Džonas priims šį keistą pasiūlymą? Ar tai sukels jiems pavojų? Tačiau pasilikti nieko nedarant ir toliau gyvenant nuoskaudose ir neišsipildžiusiuose lūkesčiuose taip pat pavojinga. \nDaugiau informacijos apie knygą bei autorius: https://porakelyje.com \nEN \nJoin us for an unforgettable evening — a meet-and-greet with the authors Darius and Marija Ancius\, and the official presentation of the novel “The Magical Journey of John and Adele”. \nWHEN: Wednesday\, May 14\,  5:30 PM – 7:00 PM \nWHERE: Restaurant “Solidarity” (1414 Lincoln Blvd\, Santa Monica\, CA 90401) \nPublished by Gelmės Publishing House\, “The Magical Journey of John and Adele” is a collaborative novel written under the pen name Ancius M. Murray by three authors: physicist Darius Ancius\, lawyer Marija Anciuvienė\, and Irish writer Mary Catherine Murray. \nJohn and Adele have been together for over two decades and have a son. Their relationship has been on a downhill trajectory for many years. One evening\, en route to their holiday destination\, they run out of fuel in a remote location. To whom can they go for assistance? Suddenly\, in the darkness\, their lives take an unexpected turn. They meet three mysterious but benevolent strangers who offer to help them and pose to the couple an unusual challenge that seeks to address the core problems in their marriage. John and Adele find the proposal odd but tempting. While it may have advantages\, it could be risky and dangerous. But unresolved emotions\, unhealed wounds\, and long-buried memories left unaddressed can also have hazardous and unpredictable consequences. Will they dare to accept this challenge or not? \nThe event will be held in Lithuanian\, but the book is also available in English. For more details\, please visit: https://anciusmmurray.co.uk 
URL:https://vakaruvejai.com/renginys/knygos-nepaprasta-dzono-ir-adeles-kelione-pristatymas-santa-monikoje/
LOCATION:Solidarity\, 1414 Lincoln Blvd.\, Santa Monica\, CA\, 90401
CATEGORIES:Lietuviški renginiai,Los Andželas
ATTACH;FMTTYPE=image/jpeg:https://vakaruvejai.com/wp-content/uploads/2025/05/IMG_2652.jpeg
END:VEVENT
BEGIN:VEVENT
DTSTART;TZID=America/Los_Angeles:20250510T130000
DTEND;TZID=America/Los_Angeles:20250510T140000
DTSTAMP:20260423T162959
CREATED:20250426T130550Z
LAST-MODIFIED:20250426T130550Z
UID:28981-1746882000-1746885600@vakaruvejai.com
SUMMARY:Ancius M. Murray knygos "Nepaprasta Džono ir Adelės kelionė" pristatymas\, San Diegas
DESCRIPTION:Kviečiame visus į ypatingą “Nepaprasta Džono ir Adelės kelionė“ romano apie ilgalaikius poros santykius ir jų iššūkius (aktualu mums visiems!) pristatymą\, kurį parašė Belgijos lietuvių pora – fizikas Darius Ancius\, teisininkė Marija Anciuvienė ir jų draugė airių rašytoja Mary Catherine Murray\, kartu pasivadinę Ancius M. Murray. Susitikime su Dariumi ir Marija\, šiuo metu keliaujančiais JAV\, Adobe Hill vyninėje Fallbrook gegužės 10-tą dieną\, 13:00 – medžių šešėlyje šalia fontano (vos atokiau į vynuogyną nuo pagrindinio kiemelio). Adresas: 40740 Via RanchitosFallbrook\, CA 92028\n\n„Nepaprasta Džono ir Adelės kelionė“ – tai romanas nagrinėjantis keblius poros\, Džono ir Adelės\, santykius. Daugiau nei 20 metų kartu gyvenančios poros gyvenimas rieda nuokalne. Vieną vasaros vakarą\, jiems vykstant į kurortą\, jų automobilis sustoja nežinomoje vietovėje. Baigiasi kuras … Netikėtai jie susitinka trys nepažįstamuosius\, kurie jiems ištiesia pagalbos ranką. Tačiau taip pat jiems pateikia netikėtą pasiūlymą: užsiimti griūvančiais savo poros santykiais ir leistis į savaitę truksiančią kelionę\, kurioje jie galės iš naujo atrasti vienas kitą ir atstatyti tai\, ko jie abu ilgisi jau daugelį metų. Ar Adelė ir Džonas priims šį neįprastą pasiūlymą? Ar tai pavojinga? Tačiau pasilikti nieko nedarant ir toliau gyvenant nuoskaudose ir neišsipildžiusiuose noruose bei ketinimuose taip pat pavojinga …
URL:https://vakaruvejai.com/renginys/ancius-m-murray-knygos-nepaprasta-dzono-ir-adeles-kelione-pristatymas-san-diegas/
LOCATION:Adobe Hill Winery\, 40740 Via Ranchitos\, Fallbrook\, CA\, 92028
CATEGORIES:Lietuviški renginiai,San Diego
ATTACH;FMTTYPE=image/jpeg:https://vakaruvejai.com/wp-content/uploads/2025/04/487976933_10234515988216051_3895571046205304179_n.jpeg
END:VEVENT
BEGIN:VEVENT
DTSTART;TZID=America/Los_Angeles:20200215T120000
DTEND;TZID=America/Los_Angeles:20200215T140000
DTSTAMP:20260423T162959
CREATED:20200205T021053Z
LAST-MODIFIED:20200209T214916Z
UID:11256-1581768000-1581775200@vakaruvejai.com
SUMMARY:SF “Genys” kviečia į “Nėjus ir Amadėjus” knygos pristatymą\, San Francisco
DESCRIPTION:LT \nSan Francisko lituanistinė mokykla „Genys“ kviečia mažiausius bendruomenės narius ir jų tėvelius bei senelius į Justinos G. Brazdžionis „Nėjus ir Amadėjus“ knygos pristatymą vasario 15d.\, 12val. \nTai naujos anglų – lietuvių kalbų knygelės apie draugystę teatralizuotas pristatymas!!! \nAutorė pati skaitys pasaką ir dalins autografus! Skambės dainos\, žaisim\, kalbėsimės\, klausysim. \nRengėjai: Southern California Lithuanian Performing Art Society Inc. Just Millin’ Around Teatras (Los Angeles) \nRenginio metu bus galima įsigyti knygeles. Knygučių kaina $15. \nIki greito pasimatymo! \n[EN]\nSan Francisco Lithuanian School “Genys” inviting children\, their parents and grandparents to Justina G. Brazdzionis book „Neo and Amadeo“ presentation on February 15th at 12 PM. \nIt’s a new English – Lithuanian book’s about friendship theatrical presentation!!! \nThe author will read the story and give autographs! \nWe will sing\, play\, talk and listen. \nPresenters: Southern California Lithuanian Performing Art Society Inc. Just Millin’ Around Teatras (Los Angeles) \nThe books will be available for purchase during the event for a $15 fee. \nHope to see you there!!
URL:https://vakaruvejai.com/renginys/sf-genys-kviecia-i-nejus-ir-amadejus-knygos-pristatyma/
LOCATION:19806 Wisteria St. Castro Valley\, CA 94546\, 19806 Wisteria St.\, Castro Valley\, CA\, 94546\, Jungtinės Amerikos Valstijos
CATEGORIES:Lietuviški renginiai,San Franciskas
ATTACH;FMTTYPE=image/jpeg:https://vakaruvejai.com/wp-content/uploads/2020/02/IMG_9558.jpg
END:VEVENT
BEGIN:VEVENT
DTSTART;TZID=America/Los_Angeles:20200201T120500
DTEND;TZID=America/Los_Angeles:20200201T131500
DTSTAMP:20260423T162959
CREATED:20200128T055233Z
LAST-MODIFIED:20200128T060333Z
UID:11137-1580558700-1580562900@vakaruvejai.com
SUMMARY:Justinos Brazdžionienės knygos vaikams "Nėjus ir Amadėjus" pristatymas\, Los Angeles
DESCRIPTION:Kviečiame visus\, mažus ir didelius\, vaikučius\, jų tėvelius\, broliukus ir sesutes\, močiutes ir senelius į Justinos Brazdžionis knygos vaikams „Nėjus ir Amadėjus” pristatymą. \n‘pristatymą.
URL:https://vakaruvejai.com/renginys/justinos-brazdzionienes-knygos-vaikams-nejus-ir-amadejus-pristatymas/
LOCATION:Šv. Kazimiero parapija Los Andžele\, 2718 St George St\, Los Angeles\, CA\, 90027\, United States
CATEGORIES:Los Andželas
ATTACH;FMTTYPE=image/jpeg:https://vakaruvejai.com/wp-content/uploads/2020/01/IMG_9447.jpg
END:VEVENT
END:VCALENDAR