BEGIN:VCALENDAR
VERSION:2.0
PRODID:-//Vakarų Vėjai - ECPv6.15.3//NONSGML v1.0//EN
CALSCALE:GREGORIAN
METHOD:PUBLISH
X-WR-CALNAME:Vakarų Vėjai
X-ORIGINAL-URL:https://vakaruvejai.com
X-WR-CALDESC:Vakarų Vėjai renginiai
REFRESH-INTERVAL;VALUE=DURATION:PT1H
X-Robots-Tag:noindex
X-PUBLISHED-TTL:PT1H
BEGIN:VTIMEZONE
TZID:America/Los_Angeles
BEGIN:DAYLIGHT
TZOFFSETFROM:-0800
TZOFFSETTO:-0700
TZNAME:PDT
DTSTART:20260308T100000
END:DAYLIGHT
BEGIN:STANDARD
TZOFFSETFROM:-0700
TZOFFSETTO:-0800
TZNAME:PST
DTSTART:20261101T090000
END:STANDARD
END:VTIMEZONE
BEGIN:VEVENT
DTSTART;TZID=America/Los_Angeles:20260419T121500
DTEND;TZID=America/Los_Angeles:20260419T160000
DTSTAMP:20260425T060808
CREATED:20260327T064436Z
LAST-MODIFIED:20260327T064436Z
UID:30848-1776600900-1776614400@vakaruvejai.com
SUMMARY:Lietuvos Vaikų Vilties koldūnų pietūs\, Los Andželas
DESCRIPTION:Maloniai visus kviečiame į Lietuvos Vaikų Vilties koldūnų pietus. \nBILIETAI: \nSuaugusiems – $60 \nJunimui (13 – 17 metų) – $30 \nVaikams iki 12 metų – nemokamai. \nBilietus galite įsigyti  Šv. Kazimiero parapijoje po Šv. Mišių ar užsirezervuoti pas Rasą Šilkaitienę tel. (805) 744-7324 | vaikuviltisla@gmail.com \nRaginame užsisakyti stalus iš anksto ir kviečiame paremti mūsų veiklą.
URL:https://vakaruvejai.com/renginys/lietuvos-vaiku-vilties-koldunu-pietus-los-andzelas-2/
LOCATION:Šv. Kazimiero parapijos salėje\, 2714 St. George St.\, Los Angeles\, CA\, 90027
CATEGORIES:Lietuviški renginiai,Los Andželas
ATTACH;FMTTYPE=image/jpeg:https://vakaruvejai.com/wp-content/uploads/2026/03/2026-LVV-Renginys-LT-full-page-scaled.jpg
END:VEVENT
END:VCALENDAR