BEGIN:VCALENDAR
VERSION:2.0
PRODID:-//Vakarų Vėjai - ECPv6.15.3//NONSGML v1.0//EN
CALSCALE:GREGORIAN
METHOD:PUBLISH
X-ORIGINAL-URL:https://vakaruvejai.com
X-WR-CALDESC:Vakarų Vėjai renginiai
REFRESH-INTERVAL;VALUE=DURATION:PT1H
X-Robots-Tag:noindex
X-PUBLISHED-TTL:PT1H
BEGIN:VTIMEZONE
TZID:America/Los_Angeles
BEGIN:DAYLIGHT
TZOFFSETFROM:-0800
TZOFFSETTO:-0700
TZNAME:PDT
DTSTART:20260308T100000
END:DAYLIGHT
BEGIN:STANDARD
TZOFFSETFROM:-0700
TZOFFSETTO:-0800
TZNAME:PST
DTSTART:20261101T090000
END:STANDARD
END:VTIMEZONE
BEGIN:VEVENT
DTSTART;VALUE=DATE:20260607
DTEND;VALUE=DATE:20260613
DTSTAMP:20260423T094239
CREATED:20260131T081531Z
LAST-MODIFIED:20260131T082110Z
UID:30486-1780790400-1781308799@vakaruvejai.com
SUMMARY:World Apostolic Congress of Mercy in Vilnius
DESCRIPTION:Lithuanians in Los Angeles are invited to the World Apostolic Congress to be held in Vilnius from 7 to 12 June 2026. For six summer days\, the capital city will become a global centre of mercy: a place where every encounter\, prayer\, and action will be imbued with the spirit of mercy. Thousands of participants from around the world will gather to pray together\, share testimonies of faith\, praise God\, and encounter His Divine Mercy. There will be a delegation from St. Casimir’s as part of Atlaidai 2026\, commemorating the 85th anniversary of the founding of the parish and 75th anniversary of the dedication of the church. In addition to flight\, accommodation and attendance to the World Apostolic Congress of Mercy\, Vytis Tours has organized a city tour of Vilnius and visit to sacred sites of Lithuania. For particulars\, call 800-778-9847 and ask for Vytis Kezys.
URL:https://vakaruvejai.com/renginys/world-apostolic-congress-of-mercy-in-vilnius/
LOCATION:Vilnius
CATEGORIES:Lietuviški renginiai
ATTACH;FMTTYPE=image/webp:https://vakaruvejai.com/wp-content/uploads/2026/01/982c3f92-769b-11f0-a387-0050560110a3.webp
ORGANIZER;CN="%C5%A1v. Kazimiero parapija":MAILTO:st.casimir@gmail.com
END:VEVENT
END:VCALENDAR