BEGIN:VCALENDAR
VERSION:2.0
PRODID:-//Vakarų Vėjai - ECPv6.15.3//NONSGML v1.0//EN
CALSCALE:GREGORIAN
METHOD:PUBLISH
X-ORIGINAL-URL:https://vakaruvejai.com
X-WR-CALDESC:Vakarų Vėjai renginiai
REFRESH-INTERVAL;VALUE=DURATION:PT1H
X-Robots-Tag:noindex
X-PUBLISHED-TTL:PT1H
BEGIN:VTIMEZONE
TZID:America/Los_Angeles
BEGIN:DAYLIGHT
TZOFFSETFROM:-0800
TZOFFSETTO:-0700
TZNAME:PDT
DTSTART:20250309T100000
END:DAYLIGHT
BEGIN:STANDARD
TZOFFSETFROM:-0700
TZOFFSETTO:-0800
TZNAME:PST
DTSTART:20251102T090000
END:STANDARD
END:VTIMEZONE
BEGIN:VEVENT
DTSTART;TZID=America/Los_Angeles:20250807T150000
DTEND;TZID=America/Los_Angeles:20250814T170000
DTSTAMP:20260423T161926
CREATED:20250812T223259Z
LAST-MODIFIED:20250812T223314Z
UID:29563-1754578800-1755190800@vakaruvejai.com
SUMMARY:Paroda: “ Nuo garbės iki generalinio: Lietuvos konsulatų Los Andžele istorija. 1939-2025 m.”
DESCRIPTION:Kviečiame aplankyti Lietuvos Respublikos generaliniame konsulate Los Andžele pristatomą parodą „Nuo garbės iki generalinio: Lietuvos konsulatų Los Andžele istorija. 1939-2025 m.“\, skirtą Lietuvos konsulinio atstovavimo istorijai šiame mieste. \nGeneraliniame konsulate pristatyta Lietuvos konsulinio atstovavimo Los Andžele istorijos paroda | Lietuvos Respublikos generalinis konsulatas Los Andžele \nParoda generaliniame konsulate veiks iki rugpjūčio 14 d\, lankytojai\, iš anksto suderinus atvykimo laiką el. p. consulate.losangeles@mfa.lt arba tel. (424)341870\, kviečiami ją aplankyti darbo dienomis nuo 15 val. iki 17 val. \nĮėjimas nemokamas.
URL:https://vakaruvejai.com/renginys/paroda-nuo-garbes-iki-generalinio-lietuvos-konsulatu-los-andzele-istorija-1939-2025-m/
LOCATION:Lietuvos generalinis konsulatas Los Andžele\, 11766 WIlshire Blvd Ste 560\, Los Angeles\, CA\, 90025\, United States
CATEGORIES:Lietuviški renginiai,Los Andželas
ATTACH;FMTTYPE=image/png:https://vakaruvejai.com/wp-content/uploads/2025/08/1-scaled.png
END:VEVENT
END:VCALENDAR