BEGIN:VCALENDAR
VERSION:2.0
PRODID:-//Vakarų Vėjai - ECPv6.15.3//NONSGML v1.0//EN
CALSCALE:GREGORIAN
METHOD:PUBLISH
X-ORIGINAL-URL:https://vakaruvejai.com
X-WR-CALDESC:Vakarų Vėjai renginiai
REFRESH-INTERVAL;VALUE=DURATION:PT1H
X-Robots-Tag:noindex
X-PUBLISHED-TTL:PT1H
BEGIN:VTIMEZONE
TZID:America/Los_Angeles
BEGIN:DAYLIGHT
TZOFFSETFROM:-0800
TZOFFSETTO:-0700
TZNAME:PDT
DTSTART:20240310T100000
END:DAYLIGHT
BEGIN:STANDARD
TZOFFSETFROM:-0700
TZOFFSETTO:-0800
TZNAME:PST
DTSTART:20241103T090000
END:STANDARD
END:VTIMEZONE
BEGIN:VEVENT
DTSTART;TZID=America/Los_Angeles:20240719T200000
DTEND;TZID=America/Los_Angeles:20240719T220000
DTSTAMP:20260423T161949
CREATED:20240719T003034Z
LAST-MODIFIED:20240719T222737Z
UID:27168-1721419200-1721426400@vakaruvejai.com
SUMMARY:Exclusive Evening with International Jazz / R&B artist Kotryna\, Los Angeles
DESCRIPTION:Native South Studios Presents an Exclusive Evening with International Jazz / R&B artist Kotryna – Featuring Renowned Keyboardist Rashon “RaMu” Murph. The Performance Will Be Engineered\, Recorded and Mixed by Native South Studios Owner Jonathan Smith a.k.a. TheRealJonSmith.\n\n\nThis Friday\, July 19th\, 8pm. Purchase tickets via link below. RSVP required. $25 pre-sale until 6pm day of show. $35 at the door.\n\n\nBUY TICKETS:\n\n\nhttps://www.paypal.com/ncp/payment/NR8BFJR8L3TRL\nKotryna (Kotryna Juodzeviciute) is a jazz / r&b singer based in NYC with more than 10 years of experience. She is best known for winning a big TV show “The Voice of Lithuania”. Although Kotryna is open to all music genres\, she says that she feels best when she sings jazz. Kotryna always challenges herself and the audience\, so a great and interesting show is ALWAYS guaranteed.\n\n\nRashon Murph (Rashon RaMu Murph) is a versatile music producer and pianist based in Los Angeles with over 20 years of experience. Rashon has toured the world with legends like Bootsy Collins and has worked alongside of top artists including Kanye West\, Jennifer Lopez\, and Ciara. Rashon has also been a music director for many years and contributed to award-winning soundtracks. Rashon’s dynamic performance and innovative approach guarantee an unforgettable show every time.\n\n\nJonathan Smith a.k.a. TheRealJonSmith (Jonathan Smith) is a Los Angeles based multi genre music producer\, songwriter\, mixer\, engineer and session drummer. Jonathan has toured the world performing with and also co-written\, produced\, recorded\, and mixed multi – platinum selling\, multi – Grammy Award winning\, major label\, and indie artists. Formerly based in Nashville\, Jonathan works from his recording studio Native South Studios in Westlake Village\, CA. Various credits include: Puddle Of Mudd\, Kevin Max [dcTalk]\, Blake Shelton\, Hayley Kiyoko\, Luna Halo\, Universal Pictures.\n\n\nIeva Georges (Ieva Georges) is a Los Angeles based actor\, entrepreneur\, and owner of Vyotech Nutritionals Vyotech Nutritionals ( www.vyotechusa.com )\, a premium supplement company. Vyotech Nutritionals is also one of our event sponsors. Ieva also manages Native South Studios\, as well as organizes music and red carpet events.\n\n\nNative South Studios is earning it’s reputation not only as a professional music recording and podcast studio\, but also an intimate micro music venue in Westlake Village\, California. Clients range from Grammy Award winners to indie artists. www.nativesouthmedia.com
URL:https://vakaruvejai.com/renginys/exclusive-evening-with-international-jazz-rb-artist-kotryna-los-angeles/
LOCATION:Native South Studios\, 41 Duesenberg Dr\, Westlake Village\, CA\, 91362
CATEGORIES:Los Andželas
ATTACH;FMTTYPE=image/jpeg:https://vakaruvejai.com/wp-content/uploads/2024/07/Record-Producer-Jonathan-Smith-TheRealJonSmith_Recording-Studios-Native-South-Studios_Jazz-Singer-Kotryna_Keyboardist-Rashon-RaMu-Murph_Actress-Ieva-Georges.jpeg
END:VEVENT
END:VCALENDAR