BEGIN:VCALENDAR
VERSION:2.0
PRODID:-//Vakarų Vėjai - ECPv6.15.3//NONSGML v1.0//EN
CALSCALE:GREGORIAN
METHOD:PUBLISH
X-ORIGINAL-URL:https://vakaruvejai.com
X-WR-CALDESC:Vakarų Vėjai renginiai
REFRESH-INTERVAL;VALUE=DURATION:PT1H
X-Robots-Tag:noindex
X-PUBLISHED-TTL:PT1H
BEGIN:VTIMEZONE
TZID:America/Los_Angeles
BEGIN:DAYLIGHT
TZOFFSETFROM:-0800
TZOFFSETTO:-0700
TZNAME:PDT
DTSTART:20210314T100000
END:DAYLIGHT
BEGIN:STANDARD
TZOFFSETFROM:-0700
TZOFFSETTO:-0800
TZNAME:PST
DTSTART:20211107T090000
END:STANDARD
END:VTIMEZONE
BEGIN:VEVENT
DTSTART;TZID=America/Los_Angeles:20211204T140000
DTEND;TZID=America/Los_Angeles:20211204T180000
DTSTAMP:20260423T145949
CREATED:20211104T051004Z
LAST-MODIFIED:20211119T070356Z
UID:18482-1638626400-1638640800@vakaruvejai.com
SUMMARY:Lietuviškos Kūčios / Lithuanian Christmas Eve\, San Diegas
DESCRIPTION:Kviečiame visus\, didelius ir mažus į San Diego lietuvių Kūčias paskanauti lietuviško maisto ir smagiai pabendrauti.\nKūčių šventė bus švenčiama 1197 Whispering Water Dr\, San Marcos\, CA 92078\, vienoje iš San Marcos benduomenių.\nKaina suagusiems ir vaikams (15+) – $40\nVaikams iki 15 metų – nemokamai\nLauksime visu!\n**************************************************************\nPlease buy your tickets via eventbrite at:\nhttps://www.eventbrite.com/…/lietuviskos-kucios…\n***************************************************************\nPlease join the San Diego Lithuanian Community in celebrating traditional Christmas Eve.\nThis year the event will happen at one of San Marcos home owners association\, address 1197 Whispering Water Dr\, San Marcos\, CA 92078.\nAdult and youth (15+) $40\nKids under 15- Free\n\n\nWe cannot wait to see you all!
URL:https://vakaruvejai.com/renginys/lietuviskos-kucios-lithuanian-christmas-eve-san-diego/
LOCATION:1197 Whispering Water Dr\, San Marcos\, CA 92078
CATEGORIES:Lietuviški renginiai,San Diego
ATTACH;FMTTYPE=image/jpeg:https://vakaruvejai.com/wp-content/uploads/2021/11/https-cdn.evbuc_.com-images-177356039-345347323879-1-original.20211031-234923.jpg
END:VEVENT
END:VCALENDAR