BEGIN:VCALENDAR
VERSION:2.0
PRODID:-//Vakarų Vėjai - ECPv6.15.3//NONSGML v1.0//EN
CALSCALE:GREGORIAN
METHOD:PUBLISH
X-ORIGINAL-URL:https://vakaruvejai.com
X-WR-CALDESC:Vakarų Vėjai renginiai
REFRESH-INTERVAL;VALUE=DURATION:PT1H
X-Robots-Tag:noindex
X-PUBLISHED-TTL:PT1H
BEGIN:VTIMEZONE
TZID:America/Los_Angeles
BEGIN:DAYLIGHT
TZOFFSETFROM:-0800
TZOFFSETTO:-0700
TZNAME:PDT
DTSTART:20210314T100000
END:DAYLIGHT
BEGIN:STANDARD
TZOFFSETFROM:-0700
TZOFFSETTO:-0800
TZNAME:PST
DTSTART:20211107T090000
END:STANDARD
BEGIN:DAYLIGHT
TZOFFSETFROM:-0800
TZOFFSETTO:-0700
TZNAME:PDT
DTSTART:20220313T100000
END:DAYLIGHT
BEGIN:STANDARD
TZOFFSETFROM:-0700
TZOFFSETTO:-0800
TZNAME:PST
DTSTART:20221106T090000
END:STANDARD
BEGIN:DAYLIGHT
TZOFFSETFROM:-0800
TZOFFSETTO:-0700
TZNAME:PDT
DTSTART:20230312T100000
END:DAYLIGHT
BEGIN:STANDARD
TZOFFSETFROM:-0700
TZOFFSETTO:-0800
TZNAME:PST
DTSTART:20231105T090000
END:STANDARD
BEGIN:DAYLIGHT
TZOFFSETFROM:-0800
TZOFFSETTO:-0700
TZNAME:PDT
DTSTART:20240310T100000
END:DAYLIGHT
BEGIN:STANDARD
TZOFFSETFROM:-0700
TZOFFSETTO:-0800
TZNAME:PST
DTSTART:20241103T090000
END:STANDARD
BEGIN:DAYLIGHT
TZOFFSETFROM:-0800
TZOFFSETTO:-0700
TZNAME:PDT
DTSTART:20250309T100000
END:DAYLIGHT
BEGIN:STANDARD
TZOFFSETFROM:-0700
TZOFFSETTO:-0800
TZNAME:PST
DTSTART:20251102T090000
END:STANDARD
END:VTIMEZONE
BEGIN:VEVENT
DTSTART;TZID=America/Los_Angeles:20251214T120000
DTEND;TZID=America/Los_Angeles:20251214T160000
DTSTAMP:20260423T131340
CREATED:20251025T051356Z
LAST-MODIFIED:20251025T051356Z
UID:29855-1765713600-1765728000@vakaruvejai.com
SUMMARY:Lietuviškos Kūčios\, Los Andželas
DESCRIPTION:Maloniai kviečiame visus į LIETUVIŠKAS KŪČIAS. \n2025 gruodžio 14d. 12:00 p.p. Šv. Kazimiero parapijos salėje. \nJūsų lauks skanūs tradiciniai valgiai\, linksmos Kalėdinės giesmės ir proga paremti mūsų labdaringą veiklą.
URL:https://vakaruvejai.com/renginys/lietuviskos-kucios-los-andzelas/
LOCATION:Šv. Kazimiero parapijos salėje\, 2714 St. George St.\, Los Angeles\, CA\, 90027
CATEGORIES:Lietuviški renginiai,Los Andželas
ATTACH;FMTTYPE=image/png:https://vakaruvejai.com/wp-content/uploads/2025/10/Screenshot-2025-10-24-at-9.33.17-PM.png
END:VEVENT
BEGIN:VEVENT
DTSTART;TZID=America/Los_Angeles:20251213T163000
DTEND;TZID=America/Los_Angeles:20251213T210000
DTSTAMP:20260423T131340
CREATED:20251122T071139Z
LAST-MODIFIED:20251122T071139Z
UID:30064-1765643400-1765659600@vakaruvejai.com
SUMMARY:Lietuviškos Kalėdos/ Lithuanian Christmas\, San Franciskas
DESCRIPTION:Kviečiame kartu atšvęsti Kalėdas ir pasimėgauti suneštiniais tradiciniais Kūčių vakarienės patiekalais. Susitikime šventiniame laikotarpyje pasidžiaugti besibaigiančiais metais bei vieni kitiems palinkėti gerų ateinančių.\nVAKARO METU: mėgausimės skaniu suneštiniu lietuvišku maisturinksime skaniausią silkės patiekalą bus galimybė įsigyti kalėdaičių ir kalėdinių dovanėlių mugėje smagiai leisime laiką ir bendrausime\nGruodžio 13 d. 4.30 – 9 pmOakwood Athletic Club\, 4000 Mount Diablo Blvd\, Lafayette\, CA 94549\nĮĖJIMAS: nemokamai – sumokėjusiems solidarumo mokestį už 2025 arba/ir 2026 metus. $10 – visiems kitiems Registracija ir solidarumo nario mokestį galite sumokėti čia: https://sf-lithuanian-american-community.square.site/\nMAISTAS: suneštinis\, įkvėptas lietuviškumo ir Kalėdų. Prašome patiekalo\, užkandžio ar deserto nurodyti sudėtį – galite tiesiog ranka užrašyti ant lapuko ir padėti šalia.\nAPRANGA: šventinė kalėdinė\nGĖRIMAI: vyną\, šampaną\, alų bei gaiviuosius gėrimus bus galima įsigyti vietoje.\nSILKĖS PATIEKALŲ KONKURSAS: Kokios Kūčios ir Kalėdos be silkių?!Silkė pataluose\, silkės suktinukai\, silkės salotos\, silkės sriuba – kokia patiekalų įvairovė! Jei turite tą patį skaniausią silkės receptą\, dalyvaukite konkurse.Reikia pateikti atskirą nedidelę porciją teisėjų stalui.Laimėtojo laukia prizas ir geriausio silkės žinovo titulas.\nVAIKAI: Bus skirtas atskiras kambarys vaikams žaisti\, tačiau tėvai patys atsakingi už vaikų užimtumą ir priežiūrą.\nPREKIAUTOJAI KALĖDŲ TURGELYJE: kviečiame mūsų bendruomenės narius prekiauti Kalėdų turgelyje. Norinčius prašome susisiekti su Virgilija\, virgilija@sflithuanians.com.\nSAVANORIAI: reikalinga jūsų pagalba renginio metu – pasiruošimas renginiui\, pagalba prie maisto ir gėrimų stalų\, sutvarkymas po renginio. Jei galite padėti nors ir valandą\, užsiregistruokite čia: https://www.signupgenius.com/…/20F054CAAA72BA2F49…\nPRAĖJUSIŲ KALĖDŲ NUOTRAUKOS: Jurgitos Mažeika nuotraukos iš pernai metų renginio: https://www.jurgitaphotography.net/Kaledos-SF-bendruomene-
URL:https://vakaruvejai.com/renginys/lietuviskos-kaledos-lithuanian-christmas-san-franciskas/
LOCATION:Oakwood Athletic Club\, 4000 Mount Diablo Blvd\, Lafayette\, 94549
CATEGORIES:Lietuviški renginiai,San Franciskas
ATTACH;FMTTYPE=image/jpeg:https://vakaruvejai.com/wp-content/uploads/2025/11/577058115_829370989739702_677394477189261905_n.jpg
END:VEVENT
BEGIN:VEVENT
DTSTART;TZID=America/Los_Angeles:20251206T170000
DTEND;TZID=America/Los_Angeles:20251206T200000
DTSTAMP:20260423T131340
CREATED:20251108T025255Z
LAST-MODIFIED:20251108T025255Z
UID:29943-1765040400-1765051200@vakaruvejai.com
SUMMARY:Kūčių vakaras/Christmas Eve celebration\, Sietlas\, WA
DESCRIPTION:Kviečiam jus į tradicinę Kūčių vakarienę – jaukų ir tradicijomis pripildytą šventinį vakarą.\nWe invite you to a traditional Kūčios dinner – a cozy and festive evening full of Lithuanian traditions.\nVakaro metu jūsų lauks:\n• Tradiciniai Kūčių patiekalai ir vynas / Traditional Kūčios dishes and wine• Naujo bendruomenės folkloro kolektyvo „Ūkana” dainavimas / Advent songs performed by the new community folk ensemble „Ūkana”• Vaikų mokyklėlės „Linas” pasirodymas / A performance by the children of the „Linas” Lithuanian School• Smagūs burtai ir viktorina apie Kūčių papročius / Fun fortune-telling and a quiz about Kūčios customs and dishes• Ir\, žinoma\, susitikimas su Kalėdų seneliu / And\, of course\, a special visit from Santa Claus\nSvarbu: Prašom atnešt supakuotą knygą savam vaikui (vaikams) ir aiškiai pažymėt vardą (-us). / Please bring a gift-wrapped book for your child(ren)\, with their name(s) clearly marked.\n\n $45/žmogui (vaikai iki 16 m. – nemokamai) / $45 per person (children under 16 – free)\n Bilietus prašom įsigyt iš anksto — renginio metu jų nebus.Please get your tickets in advance to reserve your spot — they won’t be available at the door: https://www.lacwastate.com/…/TQBGERGP7LBPYNURLRF3C3PT…\nRenginio rėmėjai/Event sponsors: JAV LB Švietimo Taryba/ Lithuanian Educational Council of the USA Nonprofit ir Lietuvių Fondas – Lithuanian Foundation\, Inc.
URL:https://vakaruvejai.com/renginys/kuciu-vakaras-christmas-eve-celebration-sietlas-wa/
LOCATION:11710 3rd Ave NE\, Seattle\, WA 98125\, Seattle\, WA
CATEGORIES:Lietuviški renginiai,Seattle
ATTACH;FMTTYPE=image/jpeg:https://vakaruvejai.com/wp-content/uploads/2025/11/574604182_1242654161220252_9057560257319927847_n.jpg
ORGANIZER;CN="Seattle Lithuanian Community/Seattle Lietuvi%C5%B3 Bendruomen%C4%97":MAILTO:seattlelb.president@gmail.com
END:VEVENT
BEGIN:VEVENT
DTSTART;TZID=America/Los_Angeles:20241215T120000
DTEND;TZID=America/Los_Angeles:20241215T160000
DTSTAMP:20260423T131340
CREATED:20241102T062642Z
LAST-MODIFIED:20241102T062642Z
UID:27843-1734264000-1734278400@vakaruvejai.com
SUMMARY:Lietuvos Dukterų LA Kūčios\, Los Andželas
DESCRIPTION:Maloniai kviečiame visus į Lietuviškas Kūčias. \nKada? gruodžio 15d. 12:00 p.p. \nKur? Šv. Kazimiero parapijos salėje\, 3855 Evans St.\, Los Angeles\, CA 90027 \nJūsų lauks skanūs tradiciniai valgiai\, liksmos Kalėdinės giesmės ir proga paremti mūsų labdaringą veiklą. \nRengėjai: Lietuvos Dukterys LA \nAuka: $75.00 (vaikai iki 10 metų įleidžiami nemokamai). \nPrašome susimokėti iš anksto ir užsisakyti stalus\, vietas pas: \nTarą Barauskaitę – (310)463-3506 – tara.barauskas@gmail.com \nTanyą Barauskaitę-Dorff – (310)294-0518 – tanya_dorff@yahoo.com \nPrašome rašyti čekius (Daugters of Lithuania LA) ir siųsti: Vaida and Al Mikuckis\, 306 Arlington Drive\, Pasadena\, CA 91105 arba susimokėti internetu www.DaughtersofLithuaniaLA.org.
URL:https://vakaruvejai.com/renginys/lietuvos-dukteru-la-kucios-los-andzelas/
LOCATION:Šv. Kazimiero parapijos salėje\, 2714 St. George St.\, Los Angeles\, CA\, 90027
CATEGORIES:Lietuviški renginiai,Los Andželas
ATTACH;FMTTYPE=image/jpeg:https://vakaruvejai.com/wp-content/uploads/2024/11/IMG_0016-scaled.jpg
END:VEVENT
BEGIN:VEVENT
DTSTART;TZID=America/Los_Angeles:20241207T140000
DTEND;TZID=America/Los_Angeles:20241207T170000
DTSTAMP:20260423T131340
CREATED:20241129T124933Z
LAST-MODIFIED:20241129T124933Z
UID:28006-1733580000-1733590800@vakaruvejai.com
SUMMARY:Lietuviškos Kūčios ir Kalėdos / Lithuanian Christmas celebration\, San Diegas
DESCRIPTION:LT\n\nKviečiame visus į tradicinę San Diego lietuvių bendruomenės Kūčių ir Kalėdų šventę!\nKada: Gruodžio 7 d.\, 14.00Kur: 1197 Whispering Water Dr\, San Marcos\, CA 92078.\n\nŠventės programoje:\nMenininko ir aktoriaus Rolando Dabruko šventinė programa mažiems ir dideliems\n San Diego lietuvių bendruomenės šokių kolektyvo “Jūra” pasirodymas\n Šventinė Kūčių ir Kalėdų vakarienė\n\nKaina:\nSuaugusiems ir vaikams (13+) – $50Vaikai (0-12) metų – nemokamai\n\nPrašome registruotis į renginį iš anksto\, kad žinotume kiek pasiruošti. Mokėjimo informaciją rasite apačioje.\n\nEN\n\nLithuanian Christmas Celebration in San Diego!\nJoin us for a magical Lithuanian Christmas Celebration on December 7 at 2 PM\, located at 1197 Whispering Water Dr\, San Marcos\, CA 92078.\n\nWhat to Expect:\nActivities for All Ages: From laughter and games to dancing and singing\, there’s something for everyone!Enjoy the company of the talented Lithuanian artist\, Rolandas Dabrukas\, who will add an artistic touch to the celebration.\n\nChristmas Eve Dinner:Indulge in a traditional Lithuanian Christmas Eve Dinner\, a feast for the senses and a celebration of cherished customs.\n\nWe can’t wait to celebrate the joy of Lithuanian Christmas with you!\n\nTicket Information:\nAdult and Youth (13+) – $50Kids (0-12) – free\n\nReserve Your Spot:Secure your spot by making reservation ZELLE: sandiegolietuviai@gmail.com\n\nFor families with children\, please indicate the number of kids (under 13) joining by your name using ” +# of kids.” For example: „Vitalija +2 kids.”\n\nRenginį dalinai remia Lietuvių Fondas.
URL:https://vakaruvejai.com/renginys/lietuviskos-kucios-ir-kaledos-lithuanian-christmas-celebration-san-diegas-2/
LOCATION:1197 Whispering Water Dr\, San Marcos\, CA 92078.
CATEGORIES:Lietuviški renginiai,San Diego
ATTACH;FMTTYPE=image/jpeg:https://vakaruvejai.com/wp-content/uploads/2024/11/466399070_10220189154597536_386093593664492944_n.jpeg
END:VEVENT
BEGIN:VEVENT
DTSTART;TZID=America/Los_Angeles:20231217T120000
DTEND;TZID=America/Los_Angeles:20231217T160000
DTSTAMP:20260423T131340
CREATED:20231104T040041Z
LAST-MODIFIED:20231215T214523Z
UID:25533-1702814400-1702828800@vakaruvejai.com
SUMMARY:Lietuvos Dukterų Lietuviškos Kūčios\, Los Andželas
DESCRIPTION:SOLD OUT ! \nVISI BILIETAI Į RENGINĮ IŠPARDUOTI !
URL:https://vakaruvejai.com/renginys/lietuvos-dukteru-lietuviskos-kucios-los-andzelas/
LOCATION:Šv. Kazimiero parapijos salėje\, 2714 St. George St.\, Los Angeles\, CA\, 90027
CATEGORIES:Lietuviški renginiai,Los Andželas
ATTACH;FMTTYPE=image/jpeg:https://vakaruvejai.com/wp-content/uploads/2023/11/IMG_4395-scaled.jpg
END:VEVENT
BEGIN:VEVENT
DTSTART;TZID=America/Los_Angeles:20231202T133000
DTEND;TZID=America/Los_Angeles:20231202T163000
DTSTAMP:20260423T131340
CREATED:20231104T022954Z
LAST-MODIFIED:20231104T022954Z
UID:25513-1701523800-1701534600@vakaruvejai.com
SUMMARY:Lietuviškos Kūčios ir Kalėdos/Lithuanian Christmas Celebration\, San Diegas
DESCRIPTION:LT\n\nKviečiame visus į tradicinę San Diego lietuvių bendruomenės Kūčių ir Kalėdų šventę!\nKada: gruodžio 2 d.\, 13.30\nKur: 1197 Whispering Water Dr\, San Marcos\, CA 92078.\nŠventės programoje:\nKalėdinė mugė\, kurioje galėsite įsigyti rūkytų lašinių\, lietuviškos duonos ir kt. (laukiami visi norintys prekiauti mugėje!)\nMenininko ir aktoriaus Rolando Dabruko šventinė programa mažiems ir dideliems\n Šventinė Kūčių ir Kalėdų vakarienė\nKaina suaugusiems ir vaikams 13+ $45\nVaikams iki 13 – nemokamai\nPrašome registruotis į renginį iš anksto\, kad žinotume kiek pasiruošti\nMokėjimo informaciją rasite apačioje\n\n\nEN\n\nPlease join the San Diego Lithuanian Community in celebrating traditional Christmas!\nWhen: December 2\, 1.30 PM\nWhere: 1197 Whispering Water Dr\, San Marcos\, CA 92078.\nHomemade Goods Fair (Everyone is welcome to sell homemade goods!)\n Activities for kids and adults with Lithuanian artist Rolandas Dabrukas\n Christmas Eve Dinner\nAdult and youth 13+ $45\nKids under 13 – free\nWe cannot wait to see everyone!\n\nRESERVATIONS:\nZELLE: sandiegolietuviai@gmail.com\nPayPal: sandiegolietuviai@gmail.com\nEventbrite:(additional fee +$4.97)\nhttps://www.eventbrite.com/…/lietuviskos-kucios-ir…\nPlease write in your name in the memo line when sending payment.\nFor those coming with children – please indicate the number of kids (under 13) joining by your name using “+# of kids”.\nEx: Vitalija +2 kids
URL:https://vakaruvejai.com/renginys/lietuviskos-kucios-ir-kaledos-lithuanian-christmas-celebration-san-diegas/
LOCATION:1197 Whispering Water Dr\, San Marcos\, CA 92078
CATEGORIES:Lietuviški renginiai,San Diego
ATTACH;FMTTYPE=image/jpeg:https://vakaruvejai.com/wp-content/uploads/2023/11/396727457_10218151656981369_1423572278002030733_n.jpeg
END:VEVENT
BEGIN:VEVENT
DTSTART;TZID=America/Los_Angeles:20221218T123000
DTEND;TZID=America/Los_Angeles:20221218T170000
DTSTAMP:20260423T131340
CREATED:20221202T091428Z
LAST-MODIFIED:20221202T091428Z
UID:23173-1671366600-1671382800@vakaruvejai.com
SUMMARY:Kūčios\, Los Andželas
DESCRIPTION:Los Andželo šv. Kazimiero parapija kviečia visus į šv. Kūčių popietę\, kuri įvyks gruodžio 18 d. 12.30 val. po mišių parapijos salėje. \nPrisiminsime šv. Kūčių papročius ir tradicijas: \n🎄Giedosime giesmes \n🎄Pasiklausysime vaikų koncerto \n🎄Mėgausimės Kūčių stalo valgiais \n🎄Pabūsime visi kartu \nBilieto kaina $ 50. \nDėl bilietų rezervacijos skambinti: (323) 664 – 4660 \nČekius siųsti: 2718 St. George St\, LA\, CA 90027
URL:https://vakaruvejai.com/renginys/kucios-los-andzelas/
LOCATION:Šv. Kazimiero parapijos salėje\, 2714 St. George St.\, Los Angeles\, CA\, 90027
CATEGORIES:Los Andželas
ATTACH;FMTTYPE=image/jpeg:https://vakaruvejai.com/wp-content/uploads/2022/12/IMG_7313-scaled.jpg
ORGANIZER;CN="%C5%A1v. Kazimiero parapija":MAILTO:st.casimir@gmail.com
END:VEVENT
BEGIN:VEVENT
DTSTART;TZID=America/Los_Angeles:20221203T140000
DTEND;TZID=America/Los_Angeles:20221203T190000
DTSTAMP:20260423T131340
CREATED:20221108T015822Z
LAST-MODIFIED:20221118T212349Z
UID:22953-1670076000-1670094000@vakaruvejai.com
SUMMARY:Kūčios - Cristmas Eve\, San Diegas
DESCRIPTION:LT \n\nKūčios\nGruodžio 3d\, 2022 2 val. po pietų.\n\n\nRankdarbių mugė 1:30-2:30 val. po pietų.\n********************************************************\nKviečiame visus\, didelius ir mažus į San Diego Lietuvių Kūčias paskanauti lietuviško maisto ir smagiai pabendrauti.\nKūčių šventė bus švenčiama 1197 Whispering Water Dr\, San Marcos\, CA 92078.\n\n\nKaina suagusiems ir vaikams nuo 13 metų – $40.\nVaikams iki 13 metų – nemokamai.\n\n\nLauksime visu!\n\nMOKĖJIMO INFORMACIJA APAČIOJE\n\n\nEN\n\n\nLithuanian Christmas Eve Dinner\nDecember 3- 2pm\n\n\nHomemade Goods Fair 1:30-2:30\n\n\nPlease join the San Diego Lithuanian Community in celebrating traditional Christmas Eve.\nThis year the event will happen at one of San Marcos home owners association\, address 1197 Whispering Water Dr\, San Marcos\, CA 92078.\n\n\nAdult and youth 13+ $40\nKids under 13- Free\n\n\nWe cannot wait to see you all!\n\n\n******************************************************************\nREZERVACIJA/RESERVATIONS:\n\n\nZELLE: sandiegolietuviai@gmail.com\nPlease write in your name in the memo line when sending payment.\n\n\nFor those coming with children\, please indicate the number of kids (under 13) joining by your name using “+# of kids”.\nEx: Kazlauskas +1 kid
URL:https://vakaruvejai.com/renginys/kucios-cristmas-eve-san-diegas/
LOCATION:1178 Whispering Water Dr\, San Marcos\, CA 92078
CATEGORIES:Lietuviški renginiai,San Diego
ATTACH;FMTTYPE=image/jpeg:https://vakaruvejai.com/wp-content/uploads/2022/11/9D87FCB1-1344-4354-B834-E2BD6A1E4044.jpeg
END:VEVENT
BEGIN:VEVENT
DTSTART;TZID=America/Los_Angeles:20211204T160000
DTEND;TZID=America/Los_Angeles:20211204T210000
DTSTAMP:20260423T131340
CREATED:20211119T064251Z
LAST-MODIFIED:20211119T064251Z
UID:18656-1638633600-1638651600@vakaruvejai.com
SUMMARY:Portlando lietuvių bendruomenės Kalėdinė eglutė
DESCRIPTION:LT \nKviečiame mažus ir didelius\, linksmus ir talentingus\, kūrybingus ir išradingus\, dainingus ir šoklingus; VISUS VISUS VISUS: snieguoles\, elfus\, mergaites\, berniukus\, zuikučius\, mamytes\, tėvelius… sudalyvauti Kalėdų eglutėje. \nKadangi renginys vyks uždarose patalpose\, bus laikomasi Oregono valstijos COVID-19 saugos taisyklių. \nVakaro programa \n16:00  –  Vaikučių pabiručių paruošta Kalėdinė programa; \n16:30 –    Dovanos vaikučiams; \n17:30  –  Kūčių „suneštinių“ vaišių pradžia. \nSuneštinės vaišės \nPrašome\, atsineškite pagrindinį patiekalą ir desertą. Pagal Kūčių tradicijas patiekalai turėtų būti paruošti be mėsos. Tinka žuvis\, kruopos\, vaisiai\, daržovės. Kava ir arbata bus pateikti.\nJei pageidaujate\, atsineškite savo vyną\, alų. \nKalėdinė programa \nTradiciškai lankysis Kalėdų Senelis su dovanėlėmis. Prašome paruošti savo vaikučiams nedidelę dovanėlę ir ją atsinešti į renginį. Vaikučiai turėtų būti pasiruošę atlikti kokį nors trumpą pasirodymą (eilėraštis\, dainelė\, šokis ar pan.)\, kad gautų dovanėlę nuo Kalėdų Senelio. \nMamytės ir tėveliai: norėtume\, kad visi vaikučiai gautų maždaug vienodo dydžio ir vertės dovanėles. Tad prašome\, jog dovanėlė neviršytų $20 vertės ir būtų tokio dydžio\, jog lengvai tilptų į rudą popierinį pietų maišelį (“brown bag”). Paruoškite po dovanėlę kiekvienam vaikučiui. Ant dovanėlės aiškiai užrašykite savo vaiko vardą. Atvykę į renginį\, palikite dovanėlę(-es) ant priėmimo stalo; dovanėlės bus sudėtos į Kalėdų Senelio maišą. \nŠventės metu taip pat bus galima įsigyti kūčiukų ir plotkelių ir kitų lietuviškų gėrybių. \nĮėjimas: $20 suaugusiems / $5 vaikams / $50 šeimai. \nJei turite klausimų ar pasiūlymų\, prašome kreipkitės info@portlandlithuanians.com  \n  \nEN \n Christmas Eve and Children’s program \nPlease\, be invited to the traditional Lithuanian style Christmas Eve gathering. \nAlso would like to encourage everybody to follow all required Oregon state COVID-19 health and safety guidelines so we have safe festival experience. \nEvening Program \n4:00pm  –  Christmas show. Santa Claus\n5:30pm  –  Christmas Eve potluck dinner begins \nCommunity Potluck \nPlease\, bring a Main Dish and Dessert. Remember Christmas Eve traditions dictate no meat; fish\, grains\, fruit and vegetable are OK. Coffee and tea will be provided. BYO wine or/and beer. No community bar. \nTraditionally\, Santa Claus will also hand out the gifts to the children. Parents\, please prepare and bring a small gift which Santa could hand to your child(ren). Kids should be prepared to show their talent (poem\, song\, dance\, instrument\, etc.) to be rewarded with a gift. \nParents: We want all the children to receive a gift that is more or less of similar value and size as everyone else’s. Therefore we ask that the gift does not exceed $20 in value and is no larger than something that could fit into a brown lunch bag. Write your child’s name on the bag clearly. Leave your child’s gift at the reception table to be placed in Santa’s bag. \nLithuanian „kūčiukai” \, Christmas wafers and other goodies will be available for purchase. \nEntrance:  $20 per adult  / $5 per child / $50 per family \nIf you have any questions please feel free to contact us at info@portlandlithuanians.com
URL:https://vakaruvejai.com/renginys/portlando-lietuviu-bendruomenes-kaledine-eglute/
LOCATION:Latvių namai-SF\, 425 Hoffman Ave\, San Franciskas\, CA\, 94114
CATEGORIES:Lietuviški renginiai,Portlandas
ATTACH;FMTTYPE=image/jpeg:https://vakaruvejai.com/wp-content/uploads/2021/11/79082160_10157705353437970_6664523357616078.163706.jpg
END:VEVENT
BEGIN:VEVENT
DTSTART;TZID=America/Los_Angeles:20211204T140000
DTEND;TZID=America/Los_Angeles:20211204T180000
DTSTAMP:20260423T131340
CREATED:20211104T051004Z
LAST-MODIFIED:20211119T070356Z
UID:18482-1638626400-1638640800@vakaruvejai.com
SUMMARY:Lietuviškos Kūčios / Lithuanian Christmas Eve\, San Diegas
DESCRIPTION:Kviečiame visus\, didelius ir mažus į San Diego lietuvių Kūčias paskanauti lietuviško maisto ir smagiai pabendrauti.\nKūčių šventė bus švenčiama 1197 Whispering Water Dr\, San Marcos\, CA 92078\, vienoje iš San Marcos benduomenių.\nKaina suagusiems ir vaikams (15+) – $40\nVaikams iki 15 metų – nemokamai\nLauksime visu!\n**************************************************************\nPlease buy your tickets via eventbrite at:\nhttps://www.eventbrite.com/…/lietuviskos-kucios…\n***************************************************************\nPlease join the San Diego Lithuanian Community in celebrating traditional Christmas Eve.\nThis year the event will happen at one of San Marcos home owners association\, address 1197 Whispering Water Dr\, San Marcos\, CA 92078.\nAdult and youth (15+) $40\nKids under 15- Free\n\n\nWe cannot wait to see you all!
URL:https://vakaruvejai.com/renginys/lietuviskos-kucios-lithuanian-christmas-eve-san-diego/
LOCATION:1197 Whispering Water Dr\, San Marcos\, CA 92078
CATEGORIES:Lietuviški renginiai,San Diego
ATTACH;FMTTYPE=image/jpeg:https://vakaruvejai.com/wp-content/uploads/2021/11/https-cdn.evbuc_.com-images-177356039-345347323879-1-original.20211031-234923.jpg
END:VEVENT
END:VCALENDAR