BEGIN:VCALENDAR
VERSION:2.0
PRODID:-//Vakarų Vėjai - ECPv6.15.3//NONSGML v1.0//EN
CALSCALE:GREGORIAN
METHOD:PUBLISH
X-ORIGINAL-URL:https://vakaruvejai.com
X-WR-CALDESC:Vakarų Vėjai renginiai
REFRESH-INTERVAL;VALUE=DURATION:PT1H
X-Robots-Tag:noindex
X-PUBLISHED-TTL:PT1H
BEGIN:VTIMEZONE
TZID:America/Los_Angeles
BEGIN:DAYLIGHT
TZOFFSETFROM:-0800
TZOFFSETTO:-0700
TZNAME:PDT
DTSTART:20240310T100000
END:DAYLIGHT
BEGIN:STANDARD
TZOFFSETFROM:-0700
TZOFFSETTO:-0800
TZNAME:PST
DTSTART:20241103T090000
END:STANDARD
END:VTIMEZONE
BEGIN:VEVENT
DTSTART;TZID=America/Los_Angeles:20240929T110000
DTEND;TZID=America/Los_Angeles:20240929T130000
DTSTAMP:20260423T160235
CREATED:20240907T021042Z
LAST-MODIFIED:20240907T021042Z
UID:27494-1727607600-1727614800@vakaruvejai.com
SUMMARY:Kunigo Tomo Karanausko 25 metų kunigystės jubiliejus\, Los Andželas
DESCRIPTION:Brangūs parapijiečiai\, \nVisus maloniai kviečiu į mano Kunigystės 25 metų jubiliejinę šventę\, kuri įvyks šių metų rugsėjo 29 d. (sekmadienį) Šv. Kazimiero bažnyčioje. Šv. Mišių pradžia 11 val. Šv. Mišias aukos Jo Ekscl. Vyskupas Matthew Eshoff\, OFM\, Los Angeles\, Lietuvos vyskupų konferencijos delegatas užsienio    sielovadai Arkivyskupas Lionginas Virbalas\, SJ ir svečiai kunigai. Po Šv. Mišių ir sveikinimų bus vaišės parapijos salėje. \nLauksiu Jūsų visų mano šventinėje agapėje. \nJūsų kunigas Tomas
URL:https://vakaruvejai.com/renginys/kunigo-tomo-karanausko-25-metu-kunigystes-jubiliejus-los-andzelas/
LOCATION:Šv. Kazimiero parapija\, 2716 St. George St.\, Los Angeles\, CA\, 90027
CATEGORIES:Los Andželas
ATTACH;FMTTYPE=image/jpeg:https://vakaruvejai.com/wp-content/uploads/2024/09/0f0bb994-35e8-31d0-e582-e5e81c5b10da-scaled.jpeg
ORGANIZER;CN="%C5%A1v. Kazimiero parapija":MAILTO:st.casimir@gmail.com
END:VEVENT
END:VCALENDAR