BEGIN:VCALENDAR
VERSION:2.0
PRODID:-//Vakarų Vėjai - ECPv6.15.3//NONSGML v1.0//EN
CALSCALE:GREGORIAN
METHOD:PUBLISH
X-ORIGINAL-URL:https://vakaruvejai.com
X-WR-CALDESC:Vakarų Vėjai renginiai
REFRESH-INTERVAL;VALUE=DURATION:PT1H
X-Robots-Tag:noindex
X-PUBLISHED-TTL:PT1H
BEGIN:VTIMEZONE
TZID:America/Los_Angeles
BEGIN:DAYLIGHT
TZOFFSETFROM:-0800
TZOFFSETTO:-0700
TZNAME:PDT
DTSTART:20210314T100000
END:DAYLIGHT
BEGIN:STANDARD
TZOFFSETFROM:-0700
TZOFFSETTO:-0800
TZNAME:PST
DTSTART:20211107T090000
END:STANDARD
BEGIN:DAYLIGHT
TZOFFSETFROM:-0800
TZOFFSETTO:-0700
TZNAME:PDT
DTSTART:20220313T100000
END:DAYLIGHT
BEGIN:STANDARD
TZOFFSETFROM:-0700
TZOFFSETTO:-0800
TZNAME:PST
DTSTART:20221106T090000
END:STANDARD
END:VTIMEZONE
BEGIN:VEVENT
DTSTART;TZID=America/Los_Angeles:20220320T103000
DTEND;TZID=America/Los_Angeles:20220320T143000
DTSTAMP:20260423T161838
CREATED:20220306T002045Z
LAST-MODIFIED:20220311T023302Z
UID:20387-1647772200-1647786600@vakaruvejai.com
SUMMARY:Ukrainiečių režisieriaus filmas "Mr. Landsbergis. Sugriauti blogio imperiją" peržiūra\, Los Andželas
DESCRIPTION:(Scroll down for English)\n//LT//\nLR generalinis konsulatas Los Andžele kartu su Lithuanian American Business Association in Los Angeles ir Lithuanian World Arts Council kviečia į pirmą ir vienintelę dokumentinio filmo peržiūrą Los Andžele\, naujausią žymiojo ukrainiečių režisieriaus Sergei Loznitsa kūrinį – „Mr. Landsbergis. Sugriauti blogio imperiją”.\n\nTik ką kino ekranus pasiekęs kūrinys kritikų vertinamas stipriu dokumentiniu filmu\, kuris įdomiai\, aiškiai ir nepagražintai atvaizduoja 1989–1991-ųjų metų įvykius Lietuvoje bei žmonių kovą su Sovietų Sąjunga. Filmas dar ir puikiai edukuoja\, kruopščiai atrinkti archyviniai kadrai\, kartu su nepriklausomybės proceso priešakyje buvusio prof. Vytauto Landsbergio atsiminimais ir įžvalgomis\, supažindina su tuo\, ką turėjo išgyventi Lietuvos tauta\, kad galiausiai pasiektų pergalingą nepriklausomybę.\n\n\n\nKur ir kada? Tik kovo 20 d.\, sekmadienį\, nuo 10:30 val. ryte The Landmark kino teatre adresu 10850 W Pico Blvd\, Los Angeles\, CA 90064. Durys atsidaro 10 val. ryte.\n\n\n𝐃ė𝐦𝐞𝐬𝐢𝐨: 𝐟𝐢𝐥𝐦𝐨 𝐭𝐫𝐮𝐤𝐦ė 𝟐𝟒𝟖 𝐦𝐢𝐧. Peržiūros metu numatyta trumpa pertrauka.\n\n\n\nDaugiau informacijos ir BILIETAI: https://www.landmarktheatres.com/los-angeles/the-landmark/film-info/mr-landsbergis\n𝐕𝐢𝐬𝐨𝐬 𝐮ž 𝐛𝐢𝐥𝐢𝐞𝐭𝐮𝐬 𝐬𝐮𝐫𝐢𝐧𝐤𝐭𝐨𝐬 𝐥ėš𝐨𝐬 𝐛𝐮𝐬 𝐬𝐤𝐢𝐫𝐭𝐨𝐬 𝐩𝐚𝐫𝐚𝐦𝐚𝐢 𝐔𝐤𝐫𝐚𝐢𝐧𝐚𝐢. Bilietų skaičius labai ribotas\, tad nedelskite juos įsigyti.\n\n\n\nFilmo anonsas: https://www.youtube.com/watch?v=ycfbbd6dwj8\n\n\n\nFilmo peržiūra vyks pagal visus COVID-19 saugumo reikalavimus.\n\n\n\n\n//EN//\nConsulate General of Lithuania in Los Angeles together with Lithuanian American Business Association in Los Angeles and Lithuanian World Arts Council we invite you to a special Los Angeles screening and a West Coast premiere of the newest documentary by the renowned Ukrainian director Sergei Loznitsa ‘𝐌𝐫. 𝐋𝐚𝐧𝐝𝐬𝐛𝐞𝐫𝐠𝐢𝐬’!\n\n\n\nThis critically acclaimed documentary thoroughly examines the years from 1989 to 1991\, when Lithuania broke away from the Soviet Union. As one of the founders of the independence movement\, Vytautas Landsbergis was at the heart of this historical upheaval. His incisive reflections are complemented by extensive and well curated archive footage of demonstrations\, party congresses and the Soviet military intervention.\n\n\n\nThe film “never feels like an information dump\, but history reassembled with a critical\, discerning\, scorchingly angry gaze.” – says Variety. Read full review.\n\n\n\nWhen and where? March 20th\, Sunday\, from 10:30 AM at The Landmark\, 10850 W Pico Blvd\, Los Angeles\, CA 90064. Doors open at 10 AM.\n\n\n\n𝐏𝐥𝐞𝐚𝐬𝐞 𝐧𝐨𝐭𝐞: 𝐝𝐨𝐜𝐮𝐦𝐞𝐧𝐭𝐚𝐫𝐲 𝐥𝐞𝐧𝐠𝐭𝐡 𝐢𝐬 𝟐𝟒𝟖 𝐦𝐢𝐧𝐮𝐭𝐞𝐬. A short intermission is planned.\n\n\n\nMore information and TICKETS: https://www.landmarktheatres.com/los-angeles/the-landmark/film-info/mr-landsbergis\n𝐀𝐥𝐥 𝐭𝐢𝐜𝐤𝐞𝐭 𝐬𝐚𝐥𝐞‘𝐬 𝐩𝐫𝐨𝐜𝐞𝐞𝐝𝐬 𝐰𝐢𝐥𝐥 𝐛𝐞 𝐝𝐨𝐧𝐚𝐭𝐞𝐝 𝐭𝐨 𝐬𝐮𝐩𝐩𝐨𝐫𝐭 𝐔𝐤𝐫𝐚𝐢𝐧𝐞. Tickets are of limited availability. Make sure to buy yours in time.\n\n\n\nThe screening will meet all COVID-19 mandates.
URL:https://vakaruvejai.com/renginys/ukrainieciu-rezisieriaus-filmas-mr-landsbergis-sugriauti-blogio-imperija-perziura-los-andzelas/
LOCATION:The Landmark\, 10850 W Pico Blvd\, Los Angeles\, CA\, 90064\, Jungtinės Amerikos Valstijos
CATEGORIES:Los Andželas
ATTACH;FMTTYPE=image/jpeg:https://vakaruvejai.com/wp-content/uploads/2022/03/275014888_323404399829545_5518132850459398078_n.jpg
END:VEVENT
BEGIN:VEVENT
DTSTART;TZID=America/Los_Angeles:20220212T090000
DTEND;TZID=America/Los_Angeles:20220212T120000
DTSTAMP:20260423T161838
CREATED:20220207T184822Z
LAST-MODIFIED:20220207T184822Z
UID:19890-1644656400-1644667200@vakaruvejai.com
SUMMARY:Restored Lithuania celebration hike with LABA.LA\, Los Angeles
DESCRIPTION:Come join LABA.LA enthusiasts for a beautiful hike\, picnic and raising a Lithuanian flag to celebrate 104 years of the Restored Lithuania at Topanga State Park on Saturday\, February 12th. We are looking forward to a great company\, conversation and a happy morning celebrating together in beautiful nature. \nMeeting time: 9am at the picnic tables \nThis park entrance is located at Temescal Canyon Road and Sunset Blvd\, about a mile from Pacific Coast Highway. \nParking: Parking in the lot is $10. You can also find parking on Temescal Canyon Rd across Sunset from the park. Leave pups at home\, dogs aren’t allowed on this trail.
URL:https://vakaruvejai.com/renginys/restored-lithuania-celebration-hike-with-laba-la-los-angeles/
CATEGORIES:Lietuviški renginiai,Los Andželas
ATTACH;FMTTYPE=image/jpeg:https://vakaruvejai.com/wp-content/uploads/2022/02/8773894A-837C-43BF-BA82-5B090E74A901.jpeg
END:VEVENT
BEGIN:VEVENT
DTSTART;TZID=America/Los_Angeles:20210414T090000
DTEND;TZID=America/Los_Angeles:20210414T103000
DTSTAMP:20260423T161838
CREATED:20210409T125146Z
LAST-MODIFIED:20210409T212644Z
UID:15812-1618390800-1618396200@vakaruvejai.com
SUMMARY:Virtualus renginys apie "dvigubą" pilietybę
DESCRIPTION:LR generalinis konsulatas Los Andžele\, Migracijos departamentas prie LR Vidaus reikalų ministerijos bei Lithuanian American Business Association in Los Angeles (LABA.LA) kviečia JAV lietuvius\, kuriems aktualus „dvigubos” pilietybės klausimas\, dalyvauti virtualiame susitikime\, kurio metu galėsite sužinoti apie šiuo metu egzistuojančias „dvigubos” pilietybės galimybes ir išimtis\, praktinius patarimus ir užduoti Jums rūpimus klausimus.\nRenginys vyks lietuvių kalba.\nKlausimus galėsite užduoti registruodamiesi\, vebinaro metu (raštu arba gyvai) arba atsiųsti iš anksto el.p. kons.losandzelas@urm.lt\nDĖMESIO! Būtina išankstinė registracija: https://zoom.us/webinar/register/WN_n6gJuCkHQae7ksu2jLgtMw
URL:https://vakaruvejai.com/renginys/dviguba-pilietybe-pokalbis-su-konsule/
LOCATION:Virtualus renginys
CATEGORIES:Arizona,Hawaii,Los Andželas,Nevada,Portlandas,San Diego,San Franciskas,Seattle,Virtualus renginys
ATTACH;FMTTYPE=image/png:https://vakaruvejai.com/wp-content/uploads/2021/04/Copy-of-Pokalbis-su-konsule3.png
ORGANIZER;CN="Lietuvos generalinis konsulatas Los And%C5%BEele":MAILTO:kons.losandzelas@urm.lt
END:VEVENT
END:VCALENDAR