BEGIN:VCALENDAR
VERSION:2.0
PRODID:-//Vakarų Vėjai - ECPv6.15.3//NONSGML v1.0//EN
CALSCALE:GREGORIAN
METHOD:PUBLISH
X-WR-CALNAME:Vakarų Vėjai
X-ORIGINAL-URL:https://vakaruvejai.com
X-WR-CALDESC:Vakarų Vėjai renginiai
REFRESH-INTERVAL;VALUE=DURATION:PT1H
X-Robots-Tag:noindex
X-PUBLISHED-TTL:PT1H
BEGIN:VTIMEZONE
TZID:America/Los_Angeles
BEGIN:DAYLIGHT
TZOFFSETFROM:-0800
TZOFFSETTO:-0700
TZNAME:PDT
DTSTART:20200308T100000
END:DAYLIGHT
BEGIN:STANDARD
TZOFFSETFROM:-0700
TZOFFSETTO:-0800
TZNAME:PST
DTSTART:20201101T090000
END:STANDARD
BEGIN:DAYLIGHT
TZOFFSETFROM:-0800
TZOFFSETTO:-0700
TZNAME:PDT
DTSTART:20210314T100000
END:DAYLIGHT
BEGIN:STANDARD
TZOFFSETFROM:-0700
TZOFFSETTO:-0800
TZNAME:PST
DTSTART:20211107T090000
END:STANDARD
BEGIN:DAYLIGHT
TZOFFSETFROM:-0800
TZOFFSETTO:-0700
TZNAME:PDT
DTSTART:20220313T100000
END:DAYLIGHT
BEGIN:STANDARD
TZOFFSETFROM:-0700
TZOFFSETTO:-0800
TZNAME:PST
DTSTART:20221106T090000
END:STANDARD
BEGIN:DAYLIGHT
TZOFFSETFROM:-0800
TZOFFSETTO:-0700
TZNAME:PDT
DTSTART:20230312T100000
END:DAYLIGHT
BEGIN:STANDARD
TZOFFSETFROM:-0700
TZOFFSETTO:-0800
TZNAME:PST
DTSTART:20231105T090000
END:STANDARD
BEGIN:DAYLIGHT
TZOFFSETFROM:-0800
TZOFFSETTO:-0700
TZNAME:PDT
DTSTART:20240310T100000
END:DAYLIGHT
BEGIN:STANDARD
TZOFFSETFROM:-0700
TZOFFSETTO:-0800
TZNAME:PST
DTSTART:20241103T090000
END:STANDARD
BEGIN:DAYLIGHT
TZOFFSETFROM:-0800
TZOFFSETTO:-0700
TZNAME:PDT
DTSTART:20250309T100000
END:DAYLIGHT
BEGIN:STANDARD
TZOFFSETFROM:-0700
TZOFFSETTO:-0800
TZNAME:PST
DTSTART:20251102T090000
END:STANDARD
END:VTIMEZONE
BEGIN:VEVENT
DTSTART;TZID=America/Los_Angeles:20251109T140000
DTEND;TZID=America/Los_Angeles:20251109T160000
DTSTAMP:20260423T125936
CREATED:20251108T031610Z
LAST-MODIFIED:20251108T031610Z
UID:29947-1762696800-1762704000@vakaruvejai.com
SUMMARY:Daughters of Lithuania Fall Luncheon\, Kentas\, WA
DESCRIPTION:YOU are invited this Sunday at 2pm for a pizza party luncheon at the home of Vilma Činčiene. Please bring a friend\, your favorite pizza toppings and $ for our Christmas gift to the children of Paparčiai Family Home.\nKent location\n-text 206-491-4886 for address and to RSVP.
URL:https://vakaruvejai.com/renginys/daughters-of-lithuania-fall-luncheon-kentas-wa/
LOCATION:Vilma Činčienė’s Home
CATEGORIES:Lietuviški renginiai,Seattle
ATTACH;FMTTYPE=image/jpeg:https://vakaruvejai.com/wp-content/uploads/2025/11/576804504_1251510673677544_8443885890489150657_n.jpg
ORGANIZER;CN="Daughters of Lithuania%2C Seattle chapter":MAILTO:lietuvos.dukteru.draugija.seattle@gmail.com
END:VEVENT
BEGIN:VEVENT
DTSTART;VALUE=DATE:20200329
DTEND;VALUE=DATE:20200330
DTSTAMP:20260423T125936
CREATED:20200226T050521Z
LAST-MODIFIED:20200313T074331Z
UID:11531-1585440000-1585526399@vakaruvejai.com
SUMMARY:Cancelled!!!   Lithuanian Children's Hope luncheon/Lietuvos Vaikų Vilties pietūs\, Los Angeles
DESCRIPTION:Apgailestaudami pranešame\, kad Lietuvos Vaikų Vilties pietūs kovo 29 dieną neįvyks. Šie labdaringi pietūs nukeliami vėlesniam laikui. Dėl tolimesnės informacijos pranešime.
URL:https://vakaruvejai.com/renginys/lietuvos-vaiku-vilties-pietus-los-angeles/
LOCATION:CA
CATEGORIES:Lietuviški renginiai,Los Andželas
ATTACH;FMTTYPE=image/jpeg:https://vakaruvejai.com/wp-content/uploads/2020/02/6F03112B-1087-483E-A651-53ADB46A1E32.jpeg
END:VEVENT
END:VCALENDAR