BEGIN:VCALENDAR
VERSION:2.0
PRODID:-//Vakarų Vėjai - ECPv6.15.3//NONSGML v1.0//EN
CALSCALE:GREGORIAN
METHOD:PUBLISH
X-WR-CALNAME:Vakarų Vėjai
X-ORIGINAL-URL:https://vakaruvejai.com
X-WR-CALDESC:Vakarų Vėjai renginiai
REFRESH-INTERVAL;VALUE=DURATION:PT1H
X-Robots-Tag:noindex
X-PUBLISHED-TTL:PT1H
BEGIN:VTIMEZONE
TZID:America/Los_Angeles
BEGIN:DAYLIGHT
TZOFFSETFROM:-0800
TZOFFSETTO:-0700
TZNAME:PDT
DTSTART:20230312T100000
END:DAYLIGHT
BEGIN:STANDARD
TZOFFSETFROM:-0700
TZOFFSETTO:-0800
TZNAME:PST
DTSTART:20231105T090000
END:STANDARD
BEGIN:DAYLIGHT
TZOFFSETFROM:-0800
TZOFFSETTO:-0700
TZNAME:PDT
DTSTART:20240310T100000
END:DAYLIGHT
BEGIN:STANDARD
TZOFFSETFROM:-0700
TZOFFSETTO:-0800
TZNAME:PST
DTSTART:20241103T090000
END:STANDARD
END:VTIMEZONE
BEGIN:VEVENT
DTSTART;TZID=America/Los_Angeles:20240414T121500
DTEND;TZID=America/Los_Angeles:20240414T160000
DTSTAMP:20260423T130623
CREATED:20240322T040947Z
LAST-MODIFIED:20240405T125758Z
UID:26249-1713096900-1713110400@vakaruvejai.com
SUMMARY:Lietuvos Vaikų Vilties Koldūnų Pietūs\, Los Andželas
DESCRIPTION:Kviečiame kartu pasitikti pavasarį ir paremti mūsų veiklą. \nViešnios iš Lietuvos pristatys labdarą „Niekieno Vaikai”. \nKur? Šv. Kazimiero parapijos salėje\, 2718 St. George St.\, Los Angeles\, CA 90027 \nKada? Balandžio 14d. 12:15 po pietų. \nBilietai: \nSuaugusiems – $35 | Jaunimui – 13-17 metų – $25 \nVaikams iki 12 metų – nemokamai \nBilietus galima įsigyti parapijoje po mišių arba užsirezervuoti pas Rymantę Vizgirdaitę. \nRaginame stalus užsisakyti iš anksto. \n(805) 469 – 6617 | rymante.vizgirda.lvv@gmail.com
URL:https://vakaruvejai.com/renginys/lietuvos-vaiku-vilties-koldunu-pietus-los-andzelas/
LOCATION:Šv. Kazimiero parapija Los Andžele\, 2718 St George St\, Los Angeles\, CA\, 90027\, United States
CATEGORIES:Lietuviški renginiai,Los Andželas
ATTACH;FMTTYPE=image/png:https://vakaruvejai.com/wp-content/uploads/2024/03/Screen-Shot-2024-03-21-at-8.55.48-PM.png
END:VEVENT
BEGIN:VEVENT
DTSTART;TZID=America/Los_Angeles:20231014T180000
DTEND;TZID=America/Los_Angeles:20231014T210000
DTSTAMP:20260423T130623
CREATED:20230811T234032Z
LAST-MODIFIED:20231011T161305Z
UID:25085-1697306400-1697317200@vakaruvejai.com
SUMMARY:"Jazz in the Canyon" - išskirtinis Lietuvių Fondo labdaros pobūvis\, Los Andželas
DESCRIPTION:Lietuvių Fondas yra ne pelno siekianti  organizacija\, kurios pagrindinis tikslas yra išlaikyti ir remti lietuvišką kultūrą\, švietimą\, lietuviškos veiklos centrus Amerikoje\, Lietuvoje ir visame pasaulyje. Nuo įsteigimo 1962 m. Lietuvių Fondas viršijo savo užsibrėžtus tikslus ir įvairiems projektams ir stipendijoms yra paskyręs daugiau kaip $25M. \nMaloniai kviečiame į išskirtinį Lietuvių Fondo labdaringą pobūvį\, kuris įvyks 2023 m. spalio 14 d. Los Angeles\, CA. Jo tikslas – susipažinti su Lietuvių Fondo darbais ir padidint Lietuvių Fondo narystę ir veiklą čia\, Kalifornijoje. \nMuzikinę programą atliks Grammy nominantė\, džiazo dainininkė Nicole Zuraitis. \nBilietus galite užsisakyti čia: \nhttps://jazzinthecanyon.live
URL:https://vakaruvejai.com/renginys/jazz-in-the-canyon-isskirtinis-lietuviu-fondo-labdaros-pobuvis-los-andzelas/
LOCATION:Topanga Canyon\, 1440 N Topanga Canyon Blvd.\, Topanga\, CA\, 90290
CATEGORIES:Lietuviški renginiai,Los Andželas
ATTACH;FMTTYPE=image/png:https://vakaruvejai.com/wp-content/uploads/2023/08/LF-Jazz-In-The-Canyon.png
END:VEVENT
END:VCALENDAR