BEGIN:VCALENDAR
VERSION:2.0
PRODID:-//Vakarų Vėjai - ECPv6.15.3//NONSGML v1.0//EN
CALSCALE:GREGORIAN
METHOD:PUBLISH
X-WR-CALNAME:Vakarų Vėjai
X-ORIGINAL-URL:https://vakaruvejai.com
X-WR-CALDESC:Vakarų Vėjai renginiai
REFRESH-INTERVAL;VALUE=DURATION:PT1H
X-Robots-Tag:noindex
X-PUBLISHED-TTL:PT1H
BEGIN:VTIMEZONE
TZID:America/Los_Angeles
BEGIN:DAYLIGHT
TZOFFSETFROM:-0800
TZOFFSETTO:-0700
TZNAME:PDT
DTSTART:20250309T100000
END:DAYLIGHT
BEGIN:STANDARD
TZOFFSETFROM:-0700
TZOFFSETTO:-0800
TZNAME:PST
DTSTART:20251102T090000
END:STANDARD
END:VTIMEZONE
BEGIN:VEVENT
DTSTART;TZID=America/Los_Angeles:20250427T121500
DTEND;TZID=America/Los_Angeles:20250427T160000
DTSTAMP:20260423T143914
CREATED:20250328T191854Z
LAST-MODIFIED:20250328T192321Z
UID:28792-1745756100-1745769600@vakaruvejai.com
SUMMARY:Lietuvos Vaikų Vilties Šventė\, Los Andželas
DESCRIPTION:Pasitinkame pavasarį su daina! \nKviečiame paremti mūsų veiklą! \nKUR: Šv. Kazimiero parapijos salėje (2718 St. George St.\, Los Angeles\, CA 90027) \nKADA: birželio 27d. @ 12:15 pm \nBILIETAI: \n\nSuaugusiems – $60;\nJaunimui (13-17 metų) – $30;\nVaikams (iki 12 metų) – nemokamai.\n\nBilietus galima 5sigyti parapijoje po Šv. Mišių arba kreiptis į Rasą Šilkaitis tel. (805)744-7324\, el.paštu: rasa.silkaitis@gmail.com \nRaginame stalus užsisakyti iš anksto!
URL:https://vakaruvejai.com/renginys/lietuvos-vaiku-vilties-svente-los-andzelas/
LOCATION:Šv. Kazimiero parapijos salėje\, 2714 St. George St.\, Los Angeles\, CA\, 90027
CATEGORIES:Lietuviški renginiai,Los Andželas
ATTACH;FMTTYPE=image/png:https://vakaruvejai.com/wp-content/uploads/2025/03/Screen-Shot-2025-03-28-at-11.47.02-AM.png
END:VEVENT
END:VCALENDAR