BEGIN:VCALENDAR
VERSION:2.0
PRODID:-//Vakarų Vėjai - ECPv6.15.3//NONSGML v1.0//EN
CALSCALE:GREGORIAN
METHOD:PUBLISH
X-ORIGINAL-URL:https://vakaruvejai.com
X-WR-CALDESC:Vakarų Vėjai renginiai
REFRESH-INTERVAL;VALUE=DURATION:PT1H
X-Robots-Tag:noindex
X-PUBLISHED-TTL:PT1H
BEGIN:VTIMEZONE
TZID:America/Los_Angeles
BEGIN:DAYLIGHT
TZOFFSETFROM:-0800
TZOFFSETTO:-0700
TZNAME:PDT
DTSTART:20200308T100000
END:DAYLIGHT
BEGIN:STANDARD
TZOFFSETFROM:-0700
TZOFFSETTO:-0800
TZNAME:PST
DTSTART:20201101T090000
END:STANDARD
END:VTIMEZONE
BEGIN:VEVENT
DTSTART;TZID=America/Los_Angeles:20201024T190000
DTEND;TZID=America/Los_Angeles:20201024T210000
DTSTAMP:20260423T161923
CREATED:20201018T181816Z
LAST-MODIFIED:20201018T183250Z
UID:13833-1603566000-1603573200@vakaruvejai.com
SUMMARY:LACW Membership Fall Online Meeting - Rudens Virtualus Susirinkimas
DESCRIPTION:Online fall meeting. Let’s catch up! RSVP here or seattlelb.president@gmail.com to receive meeting link.
URL:https://vakaruvejai.com/renginys/lacw-membership-fall-online-meeting-rudens-virtualus-susirinkimas/
LOCATION:Virtualus renginys
CATEGORIES:Seattle
ATTACH;FMTTYPE=image/jpeg:https://vakaruvejai.com/wp-content/uploads/2020/10/A5B96380-1790-422B-B952-E5971168F342.jpeg
END:VEVENT
END:VCALENDAR