BEGIN:VCALENDAR
VERSION:2.0
PRODID:-//Vakarų Vėjai - ECPv6.15.3//NONSGML v1.0//EN
CALSCALE:GREGORIAN
METHOD:PUBLISH
X-ORIGINAL-URL:https://vakaruvejai.com
X-WR-CALDESC:Vakarų Vėjai renginiai
REFRESH-INTERVAL;VALUE=DURATION:PT1H
X-Robots-Tag:noindex
X-PUBLISHED-TTL:PT1H
BEGIN:VTIMEZONE
TZID:America/Los_Angeles
BEGIN:DAYLIGHT
TZOFFSETFROM:-0800
TZOFFSETTO:-0700
TZNAME:PDT
DTSTART:20230312T100000
END:DAYLIGHT
BEGIN:STANDARD
TZOFFSETFROM:-0700
TZOFFSETTO:-0800
TZNAME:PST
DTSTART:20231105T090000
END:STANDARD
END:VTIMEZONE
BEGIN:VEVENT
DTSTART;TZID=America/Los_Angeles:20230909T190000
DTEND;TZID=America/Los_Angeles:20230909T210000
DTSTAMP:20260423T143107
CREATED:20230909T015429Z
LAST-MODIFIED:20230909T015429Z
UID:25145-1694286000-1694293200@vakaruvejai.com
SUMMARY:"The Symphonic Grandeur": An evening of classical piano with Dr. Dainius Vaičekonis\, Shoreline\, WA
DESCRIPTION:Dr. Dainius Vaicekonis invites the LACWA community and its friends to his fundraising classical piano concert for Ronald United Methodist Church.  See the program flyer HERE. \n\nSaturday September 9\, 7pm\nRonald United Methodist Church\, 17839 Aurora Ave. N.\, Shoreline WA\nProgram will include works by Godowsky\, Schumann\, Čiurlionis\, Suprana\, Debussy\, and Liszt\n$20 donation suggested
URL:https://vakaruvejai.com/renginys/the-symphonic-grandeur-an-evening-of-classical-piano-with-dr-dainius-vaicekonis-shoreline-wa/
LOCATION:Ronald United Methodist Church\, 17839 Aurora Ave.\, Shoreline\, WA\, 98133
CATEGORIES:Lietuviški renginiai,Seattle
ATTACH;FMTTYPE=image/png:https://vakaruvejai.com/wp-content/uploads/2023/09/Screen-Shot-2023-09-08-at-6.49.30-PM.png
END:VEVENT
END:VCALENDAR