BEGIN:VCALENDAR
VERSION:2.0
PRODID:-//Vakarų Vėjai - ECPv6.15.3//NONSGML v1.0//EN
CALSCALE:GREGORIAN
METHOD:PUBLISH
X-ORIGINAL-URL:https://vakaruvejai.com
X-WR-CALDESC:Vakarų Vėjai renginiai
REFRESH-INTERVAL;VALUE=DURATION:PT1H
X-Robots-Tag:noindex
X-PUBLISHED-TTL:PT1H
BEGIN:VTIMEZONE
TZID:America/Los_Angeles
BEGIN:DAYLIGHT
TZOFFSETFROM:-0800
TZOFFSETTO:-0700
TZNAME:PDT
DTSTART:20260308T100000
END:DAYLIGHT
BEGIN:STANDARD
TZOFFSETFROM:-0700
TZOFFSETTO:-0800
TZNAME:PST
DTSTART:20261101T090000
END:STANDARD
END:VTIMEZONE
BEGIN:VEVENT
DTSTART;TZID=America/Los_Angeles:20260214T083000
DTEND;TZID=America/Los_Angeles:20260214T103000
DTSTAMP:20260423T130137
CREATED:20260117T040859Z
LAST-MODIFIED:20260117T043335Z
UID:30288-1771057800-1771065000@vakaruvejai.com
SUMMARY:Laisvės žygis\, Los Andželas
DESCRIPTION:LT \nPrisijunkite prie mūsų nuotykių kupino ryto su LABA.LA ir lietuvių bendruomenės entuziastų grupe žygiui\, piknikui ir Lietuvos vėliavos pakėlimui prie Eagle Rock šeštadienį\, vasario 14 d.\, 9 val. Pasimėgausim unikaliais panoraminiais vaizdais ir gera kompanija.  \nŠį kvietimą galite persiūsti savo artimiesiems ir žygių entuziastams. Visi kviečiami! \nSusitikimo laikas: 8:30am- 9:00 am  Topangos Nacionalinio parko stovėjimo aikštelėje\, netoli pagrindinės informacijos būdelės\, kuri randasi netoli tualetų. \nAdresas: 20828 Entrada Rd\, Malibu\, CA 90265 (Trippet Ranch) – https://maps.app.goo.gl/erVr9LgxACUJX9xF9?g_st=ic \nAtsineškite šypseną\, gerą nuotaiką\, vandens\, maisto piknikui\, apsaugos nuo saulės\, patogius žygio batus ir Lietuvos vėliavą. – Žygis truks apie 45 min. [lengvas lygis\, į vieną pusę]. \nKlausimai: Tara – tara@lalithuanians.org ar Eleonora – eleonoralt@gmail.com \nEN \nCome join us for an adventurous morning with the group of LABA.LA and Lithuanian Community enthusiasts for a hike\, picnic and the raising of a Lithuanian flag at Eagle Rock on Saturday 14\, Feb at 9am. Enjoy its unique craggy surface and panoramic views!\nEagle Rock is one of the most exciting hiking destinations in Topanga State Park! Besides picturesque trail\, good company\, interesting chats & fun after it.\nPlease feel free to forward this invitation to beloved ones and hiking enthusiasts!\nFollow info below:-Meeting time: 8:30am- 9:00 am at the parking lot of Topanga National park close to the main Information stand near by the restrooms.\n– Address 20828 Entrada Rd\, Malibu\, CA 90265 (Trippet Ranch) – https://maps.app.goo.gl/erVr9LgxACUJX9xF9?g_st=ic\n– Bring smile\, good mood\, water\, picnic\, sun protection\, comfortable walking shoes and a Lithuanian flag– The hike will take around 45min [level-easy\, one way].\nQuestions: Tara – tara@lalithuanians.org or Eleonora – eleonoralt@gmail.com
URL:https://vakaruvejai.com/renginys/laisves-zygis-los-andzelas/
LOCATION:Topanga National Park\, 20828 Entrada Rd\, Malibu\, CA\, 90265
CATEGORIES:Lietuviški renginiai,Los Andželas
ATTACH;FMTTYPE=image/jpeg:https://vakaruvejai.com/wp-content/uploads/2026/01/collage_export_6332094A-1AB1-4E92-AA7A-63AEA8429EA2-2-scaled.jpg
END:VEVENT
END:VCALENDAR