BEGIN:VCALENDAR
VERSION:2.0
PRODID:-//Vakarų Vėjai - ECPv6.15.3//NONSGML v1.0//EN
CALSCALE:GREGORIAN
METHOD:PUBLISH
X-ORIGINAL-URL:https://vakaruvejai.com
X-WR-CALDESC:Vakarų Vėjai renginiai
REFRESH-INTERVAL;VALUE=DURATION:PT1H
X-Robots-Tag:noindex
X-PUBLISHED-TTL:PT1H
BEGIN:VTIMEZONE
TZID:America/Los_Angeles
BEGIN:DAYLIGHT
TZOFFSETFROM:-0800
TZOFFSETTO:-0700
TZNAME:PDT
DTSTART:20260308T100000
END:DAYLIGHT
BEGIN:STANDARD
TZOFFSETFROM:-0700
TZOFFSETTO:-0800
TZNAME:PST
DTSTART:20261101T090000
END:STANDARD
END:VTIMEZONE
BEGIN:VEVENT
DTSTART;TZID=America/Los_Angeles:20260311T190000
DTEND;TZID=America/Los_Angeles:20260311T200000
DTSTAMP:20260423T155739
CREATED:20260228T061034Z
LAST-MODIFIED:20260228T061752Z
UID:30664-1773255600-1773259200@vakaruvejai.com
SUMMARY:Tapkite Los Andželo lietuvių bendruomenės valdybos nariu\, Zoom platformoje
DESCRIPTION:TAPKITE LOS ANDŽELO LIETUVIŲ BENDRUOMENĖS VALDYBOS NARIU!\n\nAr Lietuva jums – daugiau nei vieta žemėlapyje? Jei širdis sušyla išgirdus lietuvišką žodį\, dainą ar juoką\, atėjo metas prisidėti prie LA lietuvių bendruomenės stiprinimo. Kviečiame susipažinti su valdybos veikla bei tapti komandos dalimi. Turite dvi puikias progas apie tai sužinoti daugiau:\nLALB linksmavalandis – kovo 14 d.\, šeštadienį\, 18:00-19:00 val.\, restorane „Solidarity“ Santa Monikoje. Vakarą vainikuos Vido Bareikio koncertas „Kur Nemunas teka”. Dalyvius vaišinsime vienu nemokamu gėrimu. Rasti daugiau informacijos apie koncertą bei įsigyti bilietus galite http://www.eventbrite.com/…/koncertas-ten-kur-nemunas…\nZoom pristatymas – kovo 11 d.\, trečiadienį\, 19:00 val. Prisijungimo nuoroda. https://zoom.us/j/9862258877\nIeškome komandos narių\, kurie:– padėtų organizuoti renginius – nuo idėjos iki įgyvendinimo;– prisidėtų prie renginių reklamos ir aprašymų kūrimo (labai ieškome bendruomenės narių galinčių sklandžiai rašyti lietuvių kalba);\n– atstovautų lietuvių bendruomenei įvairiuose renginiuose;– prisijungtų prie Lietuvių dienų organizacinio komiteto.\n\nTurite laiko\, energijos ir noro padėti? Tapkite mūsų komandos dalimi!\nSu klausimais kreiptis į Tarą Barauskaitę\, el. p.: tara@lalithuanians.org\n\nTurite laiko\, energijos ar noro padėti? Tikrai rasime jums tinkamą vietą komandoje!\nLaukiame jūsų!
URL:https://vakaruvejai.com/renginys/tapkite-los-andzelo-lietuviu-bendruomenes-valdybos-nariu-zoom-platformoje/
LOCATION:Virtualus renginys
CATEGORIES:Lietuviški renginiai,Los Andželas,Virtualus renginys
ATTACH;FMTTYPE=image/jpeg:https://vakaruvejai.com/wp-content/uploads/2026/02/629587070_1223507386656656_3609942035200704689_n.jpg
END:VEVENT
END:VCALENDAR