BEGIN:VCALENDAR
VERSION:2.0
PRODID:-//Vakarų Vėjai - ECPv6.15.3//NONSGML v1.0//EN
CALSCALE:GREGORIAN
METHOD:PUBLISH
X-ORIGINAL-URL:https://vakaruvejai.com
X-WR-CALDESC:Vakarų Vėjai renginiai
REFRESH-INTERVAL;VALUE=DURATION:PT1H
X-Robots-Tag:noindex
X-PUBLISHED-TTL:PT1H
BEGIN:VTIMEZONE
TZID:America/Los_Angeles
BEGIN:DAYLIGHT
TZOFFSETFROM:-0800
TZOFFSETTO:-0700
TZNAME:PDT
DTSTART:20220313T100000
END:DAYLIGHT
BEGIN:STANDARD
TZOFFSETFROM:-0700
TZOFFSETTO:-0800
TZNAME:PST
DTSTART:20221106T090000
END:STANDARD
BEGIN:DAYLIGHT
TZOFFSETFROM:-0800
TZOFFSETTO:-0700
TZNAME:PDT
DTSTART:20230312T100000
END:DAYLIGHT
BEGIN:STANDARD
TZOFFSETFROM:-0700
TZOFFSETTO:-0800
TZNAME:PST
DTSTART:20231105T090000
END:STANDARD
BEGIN:DAYLIGHT
TZOFFSETFROM:-0800
TZOFFSETTO:-0700
TZNAME:PDT
DTSTART:20240310T100000
END:DAYLIGHT
BEGIN:STANDARD
TZOFFSETFROM:-0700
TZOFFSETTO:-0800
TZNAME:PST
DTSTART:20241103T090000
END:STANDARD
BEGIN:DAYLIGHT
TZOFFSETFROM:-0800
TZOFFSETTO:-0700
TZNAME:PDT
DTSTART:20250309T100000
END:DAYLIGHT
BEGIN:STANDARD
TZOFFSETFROM:-0700
TZOFFSETTO:-0800
TZNAME:PST
DTSTART:20251102T090000
END:STANDARD
END:VTIMEZONE
BEGIN:VEVENT
DTSTART;TZID=America/Los_Angeles:20251011T160000
DTEND;TZID=America/Los_Angeles:20251011T190000
DTSTAMP:20260423T161918
CREATED:20250927T061542Z
LAST-MODIFIED:20251011T032610Z
UID:29770-1760198400-1760209200@vakaruvejai.com
SUMMARY:Lanko stovykla “Renkamės prie Laužo”\, Sietlas WA
DESCRIPTION:LT \nKviečiame visas „Lanko” šeimas ir draugusį kasmetinį susibūrimą. Nesvarbu\, ar prisijungėte prie mūsų šią vasarą ar ankstesniais metais\, esate mūsų stovyklos šeimos dalis ir mielai kviečiame prisijungti. Kviečiame prisijungti prie bendrų vaišių\, dainų\, laužo ir kitų metų temos paskelbimo! Prašome atsinešti mėgstamą patiekalą\, kuriuo galėtumėte pasidalinti su visais. Priimamos aukos\, bet nebūtinos. Tikimės jus ten pamatyti! \nEN \nWe welcome all Lankas families and friends to this annual get-together. Whether you joined us this summer or in years past\, you are part of our camp family\, and we’d love to see you there. Join us for a potluck\, songs around the campfire and announcement of next year’s theme! Please bring a favorite dish to share for the potluck. Donations are accepted but not required. We hope to see you there!
URL:https://vakaruvejai.com/renginys/lanko-stovykla-renkames-prie-lauzo-sietlas-wa/
LOCATION:Lukoševičių namai\, 21824 Vine Road\, Brier\, WA\, 98036
CATEGORIES:Lietuviški renginiai,Seattle
ATTACH;FMTTYPE=image/jpeg:https://vakaruvejai.com/wp-content/uploads/2025/09/5D34A9B1-E9A4-454D-9E32-9FF717C236C4.jpeg
END:VEVENT
BEGIN:VEVENT
DTSTART;TZID=America/Los_Angeles:20231104T160000
DTEND;TZID=America/Los_Angeles:20231104T180000
DTSTAMP:20260423T161918
CREATED:20231006T073408Z
LAST-MODIFIED:20231006T073408Z
UID:25251-1699113600-1699120800@vakaruvejai.com
SUMMARY:Lankas Campfire and Potluck\, "Renkamės Prie Laužo"\, Brier\, WA
DESCRIPTION:Saturday November 4 at 4pm\, Brier\, WA we are inviting everyone to a Lankas Campfire and Potluck „Renkamės Prie Laužo”\nAddress: 21824 Vine Rd. Brier\, WA 98036\nBring your favorite dish\, your warmest camp memories to share\, and your checkbook for this annual fall social and fundraiser for Lankas camp.  Reach out to lankasstovykla@gmail.com with questions.
URL:https://vakaruvejai.com/renginys/lankas-campfire-and-potluck-renkames-prie-lauzo-brier-wa/
LOCATION:21824 Vine Rd. Brier\, WA 98036
CATEGORIES:Seattle
ATTACH;FMTTYPE=image/jpeg:https://vakaruvejai.com/wp-content/uploads/2023/10/a-campfire-at-night.jpeg
END:VEVENT
BEGIN:VEVENT
DTSTART;VALUE=DATE:20230813
DTEND;VALUE=DATE:20230820
DTSTAMP:20260423T161918
CREATED:20230309T222844Z
LAST-MODIFIED:20230309T222844Z
UID:23879-1691884800-1692489599@vakaruvejai.com
SUMMARY:Registration for stovykla LANKAS is now open\, Shelton\, WA
DESCRIPTION:Registration is now open! \nhttps://lankostovykla.regfox.com/lankas-2023 \nEarly Bird* Prices: \nREGISTREE \nPRICE \nCamper (Age 0-3) \nFREE \nCamper (Age 4-17) \n$300 \nAdult/Part-Time Volunteer \n$200 \nAdult/Full-Time Volunteer \nFREE \n*Early Bird deadline is May 31st. Starting June 1st prices will increase by $50. \nRegistration deadline: June 30th \nAdult Campers: All adults attending camp must also fill out the registration form. Adults can register under „Adult/Part-time Volunteer” and are expected to volunteer at least four hours a day\, supporting activities and helping to run the camp. We understand that this may not be realistic for everyone\, including the parents of young children. We also expect everyone who spends the night on Friday to help clean up the grounds on Saturday morning. Full-time volunteers are generally only counselors and lead chefs. \nProcessing Fee: Paying by credit card is strongly encouraged! This is the most convenient payment method for everyone even though it adds a 4% processing fee to your cost. Instructions for mailing by check are in the registration form. \nSignatures and Insurance Card: There are four places on the form that require signatures. You can use your mouse to sign your name in those boxes. You will also need to upload a copy of the camper’s insurance card. You can do this by taking a picture of the card and uploading that file or by scanning the card. Let us know if you are having any trouble with any of this! \nUnaccompanied Campers and Roommates: Children under 8 years old must be accompanied by a family member or guardian. If a camper has a roommate preference\, please email us your preference. We will do everything we can to pair people together\, but we cannot make any guarantees. Assigning rooms and groups is a complicated task and we need to ensure that all of the rooms are evenly balanced. Campers must be in the same age group to room together. \nCovid Precautions: We will be requiring that all adults attending camp are vaccinated. \nPlease let us know if you have any questions or difficulty with registration! \nAčiū\,\nTadas Lukoševičius
URL:https://vakaruvejai.com/renginys/registration-for-stovykla-lankas-is-now-open-shelton-wa/
LOCATION:West Coast Latvian Education Center\, 270-298 W Riga Road\, Shelton\, WA\, 98584
CATEGORIES:Lietuviški renginiai
ATTACH;FMTTYPE=image/jpeg:https://vakaruvejai.com/wp-content/uploads/2023/03/5D34A9B1-E9A4-454D-9E32-9FF717C236C4.jpeg
ORGANIZER;CN="Lankas Lithuanian Heritage Camp":MAILTO:lankasstovykla@gmail.com
END:VEVENT
BEGIN:VEVENT
DTSTART;VALUE=DATE:20220807
DTEND;VALUE=DATE:20220814
DTSTAMP:20260423T161918
CREATED:20220603T152923Z
LAST-MODIFIED:20220603T152923Z
UID:21569-1659830400-1660435199@vakaruvejai.com
SUMMARY:Lanko stovykla\, Shelton WA
DESCRIPTION:Kviečiame visus į  Lanko stovyklą\, kuri vyks rugpjūčio 7-13 dienomis Šeltone\, Vašingtono valstijoje. \nŠių metų stovyklos tema: „Šventės”. Visą savaitę švęsime ir tyrinėsime įvairių tradicinių lietuviškų švenčių istoriją.  \nRegistracija: https://lankostovykla.com – pasirinkite „2022 registracija” arba eikite tiesiai į https://lankostovykla.regfox.com/lankas 2022 \nDėl išsamesnės informacijos galite kreiptis: LankasStovykla@gmail.com
URL:https://vakaruvejai.com/renginys/lanko-stovykla-shelton-wa/
LOCATION:West Coast Latvian Education Center\, 270-298 W Riga Road\, Shelton\, WA\, 98584
CATEGORIES:Portlandas,Seattle
ATTACH;FMTTYPE=image/jpeg:https://vakaruvejai.com/wp-content/uploads/2022/06/unnamed-2-400x287-1.jpg
END:VEVENT
END:VCALENDAR