BEGIN:VCALENDAR
VERSION:2.0
PRODID:-//Vakarų Vėjai - ECPv6.15.3//NONSGML v1.0//EN
CALSCALE:GREGORIAN
METHOD:PUBLISH
X-WR-CALNAME:Vakarų Vėjai
X-ORIGINAL-URL:https://vakaruvejai.com
X-WR-CALDESC:Vakarų Vėjai renginiai
REFRESH-INTERVAL;VALUE=DURATION:PT1H
X-Robots-Tag:noindex
X-PUBLISHED-TTL:PT1H
BEGIN:VTIMEZONE
TZID:America/Los_Angeles
BEGIN:DAYLIGHT
TZOFFSETFROM:-0800
TZOFFSETTO:-0700
TZNAME:PDT
DTSTART:20250309T100000
END:DAYLIGHT
BEGIN:STANDARD
TZOFFSETFROM:-0700
TZOFFSETTO:-0800
TZNAME:PST
DTSTART:20251102T090000
END:STANDARD
END:VTIMEZONE
BEGIN:VEVENT
DTSTART;TZID=America/Los_Angeles:20250512T180000
DTEND;TZID=America/Los_Angeles:20250512T200000
DTSTAMP:20260423T163024
CREATED:20250509T213910Z
LAST-MODIFIED:20250509T214021Z
UID:29011-1747072800-1747080000@vakaruvejai.com
SUMMARY:Baltic Tech Happy Hour\, San Franciskas
DESCRIPTION:Join us to connect with fellow Baltic founders\, US and Baltic VCs\, angel investors\, and diaspora tech operators. This is your chance to build meaningful relationships\, share insights\, and grow your network during SaaStr Annual Conference. \n​Brought to you by: LACC\, LIAA\, and BADideas.fund \nRegister here: https://lu.ma/uj1o6c1h?tk=BOhH6f
URL:https://vakaruvejai.com/renginys/baltic-tech-happy-hour-san-franciskas-3/
LOCATION:Register to see address
CATEGORIES:San Franciskas
ATTACH;FMTTYPE=image/png:https://vakaruvejai.com/wp-content/uploads/2025/05/Screen-Shot-2025-05-09-at-2.33.07-PM.png
END:VEVENT
END:VCALENDAR