BEGIN:VCALENDAR
VERSION:2.0
PRODID:-//Vakarų Vėjai - ECPv6.15.3//NONSGML v1.0//EN
CALSCALE:GREGORIAN
METHOD:PUBLISH
X-ORIGINAL-URL:https://vakaruvejai.com
X-WR-CALDESC:Vakarų Vėjai renginiai
REFRESH-INTERVAL;VALUE=DURATION:PT1H
X-Robots-Tag:noindex
X-PUBLISHED-TTL:PT1H
BEGIN:VTIMEZONE
TZID:America/Los_Angeles
BEGIN:DAYLIGHT
TZOFFSETFROM:-0800
TZOFFSETTO:-0700
TZNAME:PDT
DTSTART:20230312T100000
END:DAYLIGHT
BEGIN:STANDARD
TZOFFSETFROM:-0700
TZOFFSETTO:-0800
TZNAME:PST
DTSTART:20231105T090000
END:STANDARD
BEGIN:DAYLIGHT
TZOFFSETFROM:-0800
TZOFFSETTO:-0700
TZNAME:PDT
DTSTART:20240310T100000
END:DAYLIGHT
BEGIN:STANDARD
TZOFFSETFROM:-0700
TZOFFSETTO:-0800
TZNAME:PST
DTSTART:20241103T090000
END:STANDARD
END:VTIMEZONE
BEGIN:VEVENT
DTSTART;TZID=America/Los_Angeles:20241123T100000
DTEND;TZID=America/Los_Angeles:20241124T150000
DTSTAMP:20260423T144002
CREATED:20241123T133847Z
LAST-MODIFIED:20241123T134102Z
UID:27963-1732356000-1732460400@vakaruvejai.com
SUMMARY:Latvian Christmas Market\, Portland\, OR
DESCRIPTION:This weekend! Latvian Christmas Market\, Craft Fair & Bake Sale!!! Held annually for 50+ years! Free admission. Free parking.\n\nSaturday November 23 from 10 to 5.\n\n\n\n\n\n\n\n\n\n\n\n\n\n\n\n\n\n\n\n\n\n\nSunday November 24 from 10 to 3.\n\nLatvian Community Center\n\n\n\n\n\n\n\n\n\n\n\n\n\n\n\n\n\n\n\n\n\n\n5500 SW Dosch Road\n\n\n\n\n\n\n\n\n\n\n\n\n\n\n\n\n\n\n\n\n\n\nPortland\, Oregon 97239.\n\n\n\n\n\n\n\n\n\n\n\n\n\n\n\n\n\n\n\n\n\n\n\nOur annual Holiday Bazaar\, Craft Fair & Bake Sale is a great place to do some shopping\, enjoy a meal and learn about the Baltics – Estonia\, Latvia & Lithuania. Hot lunch\, pastries\, coffee & tea available after 11. Eat-in or take-out. Santa visits Saturday at 12 noon!  Estonian musicians & dancers perform Sunday 12 noon! Grab bags & raffle!\n\nFeaturing handmade & vintage goods. Many made right here\, by Pacific NW artists\, crafters and bakers. European bread\, pastries\, cookies\, cakes\, preserves & pickles. Handcrafted. Silver\, copper\, amber jewelry. Linen\, cotton & wool weavings. Lithuanian specialty food. Latvian folk art. Paintings. Organic candles. Greeting cards & holiday ornaments. Books. Christmas decor & greenery. Knitting & crocheting. Handwoven table linens. Wood carvings. Etched glassware. Straw ornaments. Handknit mittens\, gloves & socks. Runners & table cloths. Blankets & throws. Shawls\, scarves & hats. And much more! Traditional\, contemporary & vintage!\n\nhttp://mharrsch.blogspot.com/2011/11/great-food-and-beautiful-handcrafts.html
URL:https://vakaruvejai.com/renginys/latvian-christmas-market-portland-or/
LOCATION:Latvian Community Center\, 1955 Riverside Dr.\, Los Angeles\, CA\, 90039
CATEGORIES:Portlandas
ATTACH;FMTTYPE=image/jpeg:https://vakaruvejai.com/wp-content/uploads/2024/11/2024-ChristmasMarket.jpeg
END:VEVENT
BEGIN:VEVENT
DTSTART;VALUE=DATE:20231202
DTEND;VALUE=DATE:20231204
DTSTAMP:20260423T144002
CREATED:20231202T064519Z
LAST-MODIFIED:20231202T070339Z
UID:25662-1701475200-1701647999@vakaruvejai.com
SUMMARY:Annual Latvian Christmas Market & Craft Fair & Bake Sale\, Portland\, OR
DESCRIPTION:Saturday\, December 2nd @ 10 am to 5 pm & \nSunday\, December 3rd @10 am to 3 pm.\n\nFree admission. Free parking.  \n \nLatvian Community Center (off Beaverton-Hillsdale Hwy). \n5500 SW Dosch Road \nPortland\, Oregon 97239.  \n \nOur annual Holiday Market is a great place to learn about the people of Latvia\, Lithuania and Estonia\, in Northeastern Europe. See traditional handmade Baltic designs in art\, jewelry\, glass\, ceramics\, weavings\, clothing and accessories ~ many created by local Pacific NW artists\, crafters\, artisans and bakers.  Traditional „pīrāgi”\, rye bread\, Christmas cookies\, sweet and savory pastries — enjoy them while you shop\, or take them home!  \n \nHot lunch\, coffee & tea available from 11am.   \n \nEstonian entertainment on Sunday!  \n \nEuropean pastries\, cookies\, cakes. \nSilver & copper & amber jewelry. \nLinen\, cotton\, wool weavings. \nLatvian traditional folk art. \nLithuanian crafts & deli. \nUkrainian eggs. \nGrab-bags!! \nGreeting cards. \nChristmas decor. \nEtched glassware. \nOrganic soy candles. \nChristmas ornaments. \nKnitting & crocheting. \nHandwoven table linens. \nHandcrafted wood carvings. \nLatvian straw ornaments. \nMittens\, gloves & socks. \nRunners & table cloths. \nHandmade journals. \nBlankets & throws. \nShawls & scarves. \nPaintings. \nBooks.  \n \nTraditional\, contemporary\, vintage!  \n \nCome enjoy a meal\, do some shopping and learn about the Baltic people. Proceeds benefit the Latvian Community Center. All are welcome! 
URL:https://vakaruvejai.com/renginys/annual-latvian-christmas-market-craft-fair-bake-sale-portland-or/
LOCATION:5500 SW Dosch Road\, Portland\, OR 97239
CATEGORIES:Portlandas
ATTACH;FMTTYPE=image/png:https://vakaruvejai.com/wp-content/uploads/2023/12/Ziemsvetku-Tirdzins-2023-plakats.png
ORGANIZER;CN="Oregon Latvian Society":MAILTO:oregonlatvians@gmail.com
END:VEVENT
END:VCALENDAR