BEGIN:VCALENDAR
VERSION:2.0
PRODID:-//Vakarų Vėjai - ECPv6.15.3//NONSGML v1.0//EN
CALSCALE:GREGORIAN
METHOD:PUBLISH
X-ORIGINAL-URL:https://vakaruvejai.com
X-WR-CALDESC:Vakarų Vėjai renginiai
REFRESH-INTERVAL;VALUE=DURATION:PT1H
X-Robots-Tag:noindex
X-PUBLISHED-TTL:PT1H
BEGIN:VTIMEZONE
TZID:America/Los_Angeles
BEGIN:DAYLIGHT
TZOFFSETFROM:-0800
TZOFFSETTO:-0700
TZNAME:PDT
DTSTART:20230312T100000
END:DAYLIGHT
BEGIN:STANDARD
TZOFFSETFROM:-0700
TZOFFSETTO:-0800
TZNAME:PST
DTSTART:20231105T090000
END:STANDARD
END:VTIMEZONE
BEGIN:VEVENT
DTSTART;TZID=America/Los_Angeles:20230604T110000
DTEND;TZID=America/Los_Angeles:20230604T150000
DTSTAMP:20260423T160345
CREATED:20230519T211009Z
LAST-MODIFIED:20230519T211102Z
UID:24481-1685876400-1685890800@vakaruvejai.com
SUMMARY:Bay Area Baltic Picnic 2023\, San Franciskas
DESCRIPTION:Probably the biggest and most fun event of the year!   \n\nPLENTY OF ACTIVITIES – OR JUST EAT & RELAX\nTHE PROGRAM OF THE DAY:\n11 AM Arrival and grilling starts – lunch throughout the day!\n11:30 AM Food tasting contest – do you make the very best potato salad\, sauerkraut\, or homemade bread in the Bay Area? Put it to the test in the food tasting contest\, and win a prize and bragging rights! (Entries must arrive by 11:30 to participate – please package a separate portion for the contest from your contribution to the potluck table.)\n1 PM After lunch and the raffle\, everyone is invited to join in and learn some easy Baltic folk dances.\n2 PM Due to popular demand – tug-of-war will be again this year! Come enjoy casual match-ups in soccer\, volleyball\, too – or just the company of friends and family. Kids will enjoy a pinata and other lawn games.\n\nGOOD FOOD\nWe provide the roast pig\, sausages\, and beer\, you bring sides to share (think potato salad\, sauerkraut\, bread\, other salads\, fruit\, and dessert)\, and anything else for the grill. Please note the park allows beer and wine\, but no hard alcohol.\n\nTICKETS\n$10/ea.\, ages 16 and under free. We strongly encourage you to buy your tickets in advance.\nhttps://san-francisco-estonian-society.square.site/…/33…\nParking fee $6.\n\nTo make it easy for everyone to recognize – BE IN:\nBLUE – Estonians\nBURGUNDY – Latvians\nGREEN – Lithuanians\n\nLOCATION\n (the same place as last year)\nCoyote Point Regional Park in San Mateo\, sites 7&8. To take advantage of bay views on the water and the park’s many amenities\, including walking trails\, an updated castle playground\, and opportunities for fishing\, kayaking\, and kite-flying.\nParking fee $6.\n\nDONATIONS\nAs costs are rising\, donations to support the event are also welcome. Help us keep the ticket price low for the future.\nYou can make a donation here: https://san-francisco-estonian-society.square.site/…/26…\n   We look forward to a day of good food and fun!
URL:https://vakaruvejai.com/renginys/bay-area-baltic-picnic-2023-san-franciskas/
LOCATION:Coyote Point Recreation Area (Beach Picnic Area\, sites 7&8)
CATEGORIES:San Franciskas
ATTACH;FMTTYPE=image/png:https://vakaruvejai.com/wp-content/uploads/2023/05/Screen-Shot-2023-05-19-at-2.10.35-PM.png
END:VEVENT
END:VCALENDAR