BEGIN:VCALENDAR
VERSION:2.0
PRODID:-//Vakarų Vėjai - ECPv6.15.3//NONSGML v1.0//EN
CALSCALE:GREGORIAN
METHOD:PUBLISH
X-WR-CALNAME:Vakarų Vėjai
X-ORIGINAL-URL:https://vakaruvejai.com
X-WR-CALDESC:Vakarų Vėjai renginiai
REFRESH-INTERVAL;VALUE=DURATION:PT1H
X-Robots-Tag:noindex
X-PUBLISHED-TTL:PT1H
BEGIN:VTIMEZONE
TZID:America/Los_Angeles
BEGIN:DAYLIGHT
TZOFFSETFROM:-0800
TZOFFSETTO:-0700
TZNAME:PDT
DTSTART:20260308T100000
END:DAYLIGHT
BEGIN:STANDARD
TZOFFSETFROM:-0700
TZOFFSETTO:-0800
TZNAME:PST
DTSTART:20261101T090000
END:STANDARD
END:VTIMEZONE
BEGIN:VEVENT
DTSTART;TZID=America/Los_Angeles:20260214T100000
DTEND;TZID=America/Los_Angeles:20260214T170000
DTSTAMP:20260423T162050
CREATED:20260131T035458Z
LAST-MODIFIED:20260131T035633Z
UID:30411-1771063200-1771088400@vakaruvejai.com
SUMMARY:Seminaras "Lyderiai be sienų"\, Portlandas
DESCRIPTION:LT\n\nKviečiame į seminarą „Lyderiai Be Sienų“Portlande su viešnia Laura Rimkute – susitikime vasario 14 d.\, 2026 m.\, 10:00–17:00 Latvian Center (5500 SW Dosch Rd\, Portland\, OR 97239). Seminaras vyks lietuvių kalba. Registruokitės nuskenavę QR kodą plakate.\n\n\n\nEN\n\nJoin us in Portland for “Leaders Without Borders” with guest speaker Laura Rimkute on Feb 14\, 2026\, 10AM–5PM at the Latvian Center (5500 SW Dosch Rd\, Portland\, OR 97239). The seminar will be held in Lithuanian. Register by scanning the QR code on the flyer.
URL:https://vakaruvejai.com/renginys/seminaras-lyderiai-be-sienu-portlands/
LOCATION:Latvian Hall-Portland\, 5500 SW Dosch Rd\, Portland\, 97239\, United States
CATEGORIES:Lietuviški renginiai,Portlandas
ATTACH;FMTTYPE=image/jpeg:https://vakaruvejai.com/wp-content/uploads/2026/01/618061341_10163608392667726_8570556020825955656_n.jpg
END:VEVENT
END:VCALENDAR