BEGIN:VCALENDAR
VERSION:2.0
PRODID:-//Vakarų Vėjai - ECPv6.15.3//NONSGML v1.0//EN
CALSCALE:GREGORIAN
METHOD:PUBLISH
X-ORIGINAL-URL:https://vakaruvejai.com
X-WR-CALDESC:Vakarų Vėjai renginiai
REFRESH-INTERVAL;VALUE=DURATION:PT1H
X-Robots-Tag:noindex
X-PUBLISHED-TTL:PT1H
BEGIN:VTIMEZONE
TZID:America/Los_Angeles
BEGIN:DAYLIGHT
TZOFFSETFROM:-0800
TZOFFSETTO:-0700
TZNAME:PDT
DTSTART:20200308T100000
END:DAYLIGHT
BEGIN:STANDARD
TZOFFSETFROM:-0700
TZOFFSETTO:-0800
TZNAME:PST
DTSTART:20201101T090000
END:STANDARD
BEGIN:DAYLIGHT
TZOFFSETFROM:-0800
TZOFFSETTO:-0700
TZNAME:PDT
DTSTART:20210314T100000
END:DAYLIGHT
BEGIN:STANDARD
TZOFFSETFROM:-0700
TZOFFSETTO:-0800
TZNAME:PST
DTSTART:20211107T090000
END:STANDARD
BEGIN:DAYLIGHT
TZOFFSETFROM:-0800
TZOFFSETTO:-0700
TZNAME:PDT
DTSTART:20220313T100000
END:DAYLIGHT
BEGIN:STANDARD
TZOFFSETFROM:-0700
TZOFFSETTO:-0800
TZNAME:PST
DTSTART:20221106T090000
END:STANDARD
BEGIN:DAYLIGHT
TZOFFSETFROM:-0800
TZOFFSETTO:-0700
TZNAME:PDT
DTSTART:20230312T100000
END:DAYLIGHT
BEGIN:STANDARD
TZOFFSETFROM:-0700
TZOFFSETTO:-0800
TZNAME:PST
DTSTART:20231105T090000
END:STANDARD
END:VTIMEZONE
BEGIN:VEVENT
DTSTART;TZID=America/Los_Angeles:20230705T183000
DTEND;TZID=America/Los_Angeles:20230705T190000
DTSTAMP:20260423T143928
CREATED:20230630T054539Z
LAST-MODIFIED:20230630T054539Z
UID:24841-1688581800-1688583600@vakaruvejai.com
SUMMARY:\,\,Tautiškos giesmės" giedojimas Santa Monikoje\, Los Andželas
DESCRIPTION:Pratęskime gražią tradiciją Valstybės dieną paminėti Santa Monikos paplūdimyje!\nKviečiame visus tautiečius ir mūsų draugus giedoti \,\,Tautišką giesmę” drauge\, plazdant Didžiajai Vienybės Trispalvei!\nRenginio pradžia – liepos 5 d. 6.30 PM\, \,\,Tautiškos giesmės” giedojimas vyks 7.00 PM.\nRenginio vieta – Santa Monikos paplūdimys\, prie gelbėtojų bokštelio Nr. 16 (į pietus nuo „Santa Monica Pier”).\nŠių metų himno giedojimo smaigalyje – 700 metų švenčianti Lietuvos sostinė Vilnius\, kurioje netrukus taip pat vyks neeilinis įvykis – NATO valstybių vadovų suvažiavimas. Pasveikinkime jubiliejų švenčiantį Vilnių ir paskelbkime jį visų pasaulio lietuvių sostine!\nPasipuoškime Lietuvos trispalvės akcentais\, atsineškime daug šypsenų ir geros nuotaikos.\nLai aidi mūsų himnas nuo Los Andželo iki Vilniaus!
URL:https://vakaruvejai.com/renginys/tautiskos-giesmes-giedojimas-santa-monikoje-los-andzelas/
LOCATION:Santa Monica Pier
CATEGORIES:Lietuviški renginiai,Los Andželas
ATTACH;FMTTYPE=image/jpeg:https://vakaruvejai.com/wp-content/uploads/2023/06/347254168_641410121362303_991294565840527138_n.jpeg
END:VEVENT
BEGIN:VEVENT
DTSTART;TZID=America/Los_Angeles:20210705T183000
DTEND;TZID=America/Los_Angeles:20210705T200000
DTSTAMP:20260423T143928
CREATED:20210702T073621Z
LAST-MODIFIED:20210702T232927Z
UID:16930-1625509800-1625515200@vakaruvejai.com
SUMMARY:Tautiškos giesmės giedojimas\, Santa Monica
DESCRIPTION:Kviečiame visus Los Andželo lietuvius ir jų draugus vieningai giedoti „Tautišką giesmę”\, plazdant Didžiajai Vienybės Trispalvei!\nLiepos 5 d. 6.30 PM Santa Monikos paplūdimyje po ilgos pertraukos turėsime puikią progą drauge ypatingai švęsti Los Andželo lietuvių vienybę:\n\n\n Kartu su viso pasaulio lietuviais vieningai giedosime „Tautišką giesmę” (7 PM);\n Galėsime pamatyti ir įsiamžinti su Los Andželą ką tik pasiekusia įspūdingo dydžio Didžiąja Vienybės Trispalve\, kurią Užsienio reikalų ministerija generaliniam konsulatui ir lietuvių bendruomenei Los Andžele šiemet įteikė už itin glaudų bendradarbiavimą ir lietuvybės puoselėjimą JAV Vakarų pakrantėje.\n Turėsime puikią progą susipažinti ir prie arbatos puodelio pabendrauti su naująja generaline konsule Los Andžele Laima Jurevičiene bei atsisveikinti su darbą konsulate baigiančiais Agne Gurevičiene\, Kastyčiu Latoža ir Laimučiu Abeciūnu.\n\n\nDaugiau informacijos apie renginį: https://fb.me/e/PoWNVjYO
URL:https://vakaruvejai.com/renginys/16930/
LOCATION:Santa Monika paplūdimys prie tilto/gelbėtojų bokštelis nr. 16
CATEGORIES:Lietuviški renginiai,Los Andželas
ATTACH;FMTTYPE=image/jpeg:https://vakaruvejai.com/wp-content/uploads/2021/07/207822801_1981223848682229_4701295414010048947_n.jpg
ORGANIZER;CN="Lietuvos generalinis konsulatas Los And%C5%BEele":MAILTO:kons.losandzelas@urm.lt
END:VEVENT
BEGIN:VEVENT
DTSTART;TZID=America/Los_Angeles:20200706T090000
DTEND;TZID=America/Los_Angeles:20200706T220000
DTSTAMP:20260423T143928
CREATED:20200703T210042Z
LAST-MODIFIED:20200703T210042Z
UID:12974-1594026000-1594072800@vakaruvejai.com
SUMMARY:Tautiška giesmė aplink pasaulį
DESCRIPTION:LT \nMieli Portlando lietuvių bendruomenės nariai\, \nLiepos 6 d. – Valstybės (Lietuvos karaliaus Mindaugo karūnavimo) dieną lietuviai visame pasaulyje gieda „Tautišką giesmę“. Esame vienintelė tauta\, kurios himnas vieną dieną metuose apskrieja visą Žemės rutulį. \n„Tautiškos giesmės“ iniciatyva jau gyvuoja nuo 2009- ųjų\, kuri tapo mūsų kartos tradicija. Tai tikras įrodymas\, jog ir nedidelė tauta gali sukurti didelius bei reikšmingus dalykus. \n2019-ieji metai mums buvo ypatingi tuo kad\, balandžio mėnesį Lietuvos Respublikos Seimas paskelbė liepos 6-ąją ne tik Valstybės dieną\, Lietuvos karaliaus Mindaugo karūnavimo\, bet ir „Tautiškos giesmės“ diena. \nTagi\, sveikiname visus su artėjančia Valstybės ir Lietuvos karaliaus Mindaugo karūnavimo diena\, ta proga kviečiame visus sugiedoti „Tautišką Giesmę”. \nŠiemet\, dėl COVID-19 pandemijos apribojimų\, Portlande Lietuvos himnas skambės neįprastai – virtualiu dainavimu. Kviečiame nufilmuoti savo giesmę ir atsiūsti savo video bendruomenės valdybai iki liepos 6 d. 10:00 val vakaro info@portlandlithuanians.com. \nJAV LB Portlando apylinkės valdyba \nPrašome kreiptis: info@portlandlithuanians.com ar tel: (360) 904-4032 jeigu turite klausimų. \nEN \nLithuanian National Anthem around the World! \nDear Portland Lithiuanian Community members\, \nLithuanian National Anthem around the World initiative has been around for a decade\, which has become a tradition of our generation. It is a real proof that even a small nation can create great and meaningful things. \nThe year of 2019 was very special to us. Parlament of the Republic of Lithuania on July 6 announced that this day is not only Lithuanian Statehood Day\, the Day of the King Mindaugas’ Coronation\, but also is a National Anthem Day. \nDue to pandemic this year\, we’ll be singing National Anthem virtually. Please send your Anthem video to Portland Lithuanian board at info@portlandlithuanians.com no later than July 6th 10 PM. We will create a video. \nLAC Portland Chapter Board \nMore information please contact: info@portlandlithuanians.com or tel: ((360) 904-4032.
URL:https://vakaruvejai.com/renginys/tautiska-giesme-aplink-pasauli/
LOCATION:Virtualus renginys
CATEGORIES:Portlandas,Virtualus renginys
ATTACH;FMTTYPE=image/jpeg:https://vakaruvejai.com/wp-content/uploads/2020/07/66187_2452f87731cd75eac28e856259cf07a5-2.jpg
END:VEVENT
END:VCALENDAR