BEGIN:VCALENDAR
VERSION:2.0
PRODID:-//Vakarų Vėjai - ECPv6.15.3//NONSGML v1.0//EN
CALSCALE:GREGORIAN
METHOD:PUBLISH
X-WR-CALNAME:Vakarų Vėjai
X-ORIGINAL-URL:https://vakaruvejai.com
X-WR-CALDESC:Vakarų Vėjai renginiai
REFRESH-INTERVAL;VALUE=DURATION:PT1H
X-Robots-Tag:noindex
X-PUBLISHED-TTL:PT1H
BEGIN:VTIMEZONE
TZID:America/Los_Angeles
BEGIN:DAYLIGHT
TZOFFSETFROM:-0800
TZOFFSETTO:-0700
TZNAME:PDT
DTSTART:20260308T100000
END:DAYLIGHT
BEGIN:STANDARD
TZOFFSETFROM:-0700
TZOFFSETTO:-0800
TZNAME:PST
DTSTART:20261101T090000
END:STANDARD
END:VTIMEZONE
BEGIN:VEVENT
DTSTART;TZID=America/Los_Angeles:20260205T193000
DTEND;TZID=America/Los_Angeles:20260205T213000
DTSTAMP:20260423T162009
CREATED:20260117T065130Z
LAST-MODIFIED:20260117T065606Z
UID:30332-1770319800-1770327000@vakaruvejai.com
SUMMARY:"Solidarity" filmo premjera su pagrindinio vaidmens atlikėju Mantu Valantiejum\, Los Andželas
DESCRIPTION:LT \nKviečiame į pagrindinio vaidmens atlikėjo lietuvių aktoriaus Manto Valantiejaus filmą „Solidarity”\, kurio premjera vyks vasario 5d. 19:30pm Culver City kino teatre. \nAdresas bus praneštas vėliau \nSANTRAUKA\nŽvilgsnis į imigrantų patirtį Los Andžele\, perteikiamas per paralelinius meksikietės siuvėjos ir lietuvio mėsininko gyvenimus\, atspindinčius skirtingų kultūrų požiūrį. \nParašė ir režisavo\nDUSTIN BROWN \nProdiuseris\nDARREN ARONOFSKY \nVaidino\nELPIDIA CARRILLO\nMANTAS VALANTIEJUS\nMONTSE HERNANDEZ\nNORMA KUHLING \nEN \nWe cordially invite you to the film „Solidarity” by Lithuanian actor Mantas Valantiejus in a main role\, which will premiere on February 5th at 7:30pm at the Culver City Theater.  \nAddress: TBD \nSYNOPSIS\n\n\n\n\n\n\n\n\nA cross-cultural look at the immigrant experience in Los Angeles\, told through the parallel lives of a Mexican seamstress and a Lithuanian butcher. \n\n\n\n\nWritten and Directed by\nDUSTIN BROWN \nExecutive Producer\nDARREN ARONOFSKY \nStarring\nELPIDIA CARRILLO\nMANTAS VALANTIEJUS\nMONTSE HERNANDEZ\nNORMA KUHLING
URL:https://vakaruvejai.com/renginys/solidarity-filmo-premjera-su-pagrindinio-vaidmens-atlikeju-mantu-valantiejum-los-andzelas/
LOCATION:TBD
CATEGORIES:Los Andželas
ATTACH;FMTTYPE=image/jpeg:https://vakaruvejai.com/wp-content/uploads/2026/01/collage_export_B8428442-A53F-430A-B3BA-E45F9136DA33-scaled.jpg
END:VEVENT
END:VCALENDAR