BEGIN:VCALENDAR
VERSION:2.0
PRODID:-//Vakarų Vėjai - ECPv6.15.3//NONSGML v1.0//EN
CALSCALE:GREGORIAN
METHOD:PUBLISH
X-ORIGINAL-URL:https://vakaruvejai.com
X-WR-CALDESC:Vakarų Vėjai renginiai
REFRESH-INTERVAL;VALUE=DURATION:PT1H
X-Robots-Tag:noindex
X-PUBLISHED-TTL:PT1H
BEGIN:VTIMEZONE
TZID:America/Los_Angeles
BEGIN:DAYLIGHT
TZOFFSETFROM:-0800
TZOFFSETTO:-0700
TZNAME:PDT
DTSTART:20200308T100000
END:DAYLIGHT
BEGIN:STANDARD
TZOFFSETFROM:-0700
TZOFFSETTO:-0800
TZNAME:PST
DTSTART:20201101T090000
END:STANDARD
END:VTIMEZONE
BEGIN:VEVENT
DTSTART;VALUE=DATE:20200313
DTEND;VALUE=DATE:20200314
DTSTAMP:20260423T191523
CREATED:20200213T042513Z
LAST-MODIFIED:20200313T072940Z
UID:11327-1584057600-1584143999@vakaruvejai.com
SUMMARY:Nepriklausomybės atkūrimo 30-metis ir M. Levickio koncertas atšauktas dėl koronaviruso grėsmės
DESCRIPTION:Atsižvelgiant į naujausias Kalifornijos valstijos ir Los Andželo apygardos rekomendacijas dėl koronaviruso (COVID-19) grėsmės\, kovo 11 d. paskelbtą Kalifornijos valstijos Nortridžo universiteto sprendimą stabdyti paskaitas universitete bei siekiant užtikrinti renginio svečių saugumą\, nuspręsta atšaukti kovo 15-ąją Nortridže turėjusį įvykti akoredonisto Martyno Levickio koncertą.\nŠiame Lietuvos nepriklausomybės atkūrimo 30-mečiui skirtame renginyje buvo užsiregistravę dalyvauti beveik 350 svečių. Dėkojame Jums už patriotiškumą\, meilę ir paramą talentingiems Lietuvos atlikėjams ir apgailestaujame dėl patirtų nepatogumų.  \n\nTaip pat nuoširdžiai dėkojame visiems\, prisidėjusiems prie šio ypatingo renginio organizavimo – Los Angeles Lithuanian Community / Los Angeles JAV Lietuvių Bendruomenė\, Lithuanian World Arts Council\, garbės konsulei Daiva Cekanauskas Navarrette\, rėmėjams – California Lithuanian Credit Union\, Albinui bei Vitai Markevičiams\, Vitaliui ir Nijolei Lembertams\, Užsienio reikalų ministerija. \n\n  \n 
URL:https://vakaruvejai.com/renginys/nepriklausomybes-atkurimo-30-meti-ir-m-levickio-koncertas-northridge/
CATEGORIES:Los Andželas
ATTACH;FMTTYPE=image/jpeg:https://vakaruvejai.com/wp-content/uploads/2020/02/4DFCCA3D-E1F8-4031-8BDE-52CF1A41F8E2.jpeg
END:VEVENT
END:VCALENDAR