BEGIN:VCALENDAR
VERSION:2.0
PRODID:-//Vakarų Vėjai - ECPv6.15.3//NONSGML v1.0//EN
CALSCALE:GREGORIAN
METHOD:PUBLISH
X-WR-CALNAME:Vakarų Vėjai
X-ORIGINAL-URL:https://vakaruvejai.com
X-WR-CALDESC:Vakarų Vėjai renginiai
REFRESH-INTERVAL;VALUE=DURATION:PT1H
X-Robots-Tag:noindex
X-PUBLISHED-TTL:PT1H
BEGIN:VTIMEZONE
TZID:America/Los_Angeles
BEGIN:DAYLIGHT
TZOFFSETFROM:-0800
TZOFFSETTO:-0700
TZNAME:PDT
DTSTART:20210314T100000
END:DAYLIGHT
BEGIN:STANDARD
TZOFFSETFROM:-0700
TZOFFSETTO:-0800
TZNAME:PST
DTSTART:20211107T090000
END:STANDARD
BEGIN:DAYLIGHT
TZOFFSETFROM:-0800
TZOFFSETTO:-0700
TZNAME:PDT
DTSTART:20220313T100000
END:DAYLIGHT
BEGIN:STANDARD
TZOFFSETFROM:-0700
TZOFFSETTO:-0800
TZNAME:PST
DTSTART:20221106T090000
END:STANDARD
BEGIN:DAYLIGHT
TZOFFSETFROM:-0800
TZOFFSETTO:-0700
TZNAME:PDT
DTSTART:20230312T100000
END:DAYLIGHT
BEGIN:STANDARD
TZOFFSETFROM:-0700
TZOFFSETTO:-0800
TZNAME:PST
DTSTART:20231105T090000
END:STANDARD
BEGIN:DAYLIGHT
TZOFFSETFROM:-0800
TZOFFSETTO:-0700
TZNAME:PDT
DTSTART:20240310T100000
END:DAYLIGHT
BEGIN:STANDARD
TZOFFSETFROM:-0700
TZOFFSETTO:-0800
TZNAME:PST
DTSTART:20241103T090000
END:STANDARD
BEGIN:DAYLIGHT
TZOFFSETFROM:-0800
TZOFFSETTO:-0700
TZNAME:PDT
DTSTART:20250309T100000
END:DAYLIGHT
BEGIN:STANDARD
TZOFFSETFROM:-0700
TZOFFSETTO:-0800
TZNAME:PST
DTSTART:20251102T090000
END:STANDARD
END:VTIMEZONE
BEGIN:VEVENT
DTSTART;TZID=America/Los_Angeles:20251220T130000
DTEND;TZID=America/Los_Angeles:20251220T170000
DTSTAMP:20260423T131434
CREATED:20251203T022426Z
LAST-MODIFIED:20251203T022426Z
UID:30087-1766235600-1766250000@vakaruvejai.com
SUMMARY:Marytės Kalėdinė Mugė\, Los Andželas
DESCRIPTION:Kviečiame į Marytės Kalėdinę Mugę 2025! \nKADA: Gruodžio 20 d.\, šeštadienį\, 1 val. po pietų. \nKUR: Šv. Kazimiero parapijos mokyklos kiemelyje\, Los Andžele.\n2718 St. George st.\, Los Angele\, CA 90027 \nMUGĖJE:\n– Gyvo garso koncertas! Svečiuose ERIKAS PETRAITIS su grupe\n– Lietuviškas maistas ir gėrimai\n– Įvairūs skanumynai ir saldumynai\n– Meno dirbiniai\, suvenyrai\, dovanos\n– Nykštukų dirbtuvėlės\n– Kalėdinė muzika \nKviečiame visus norinčius prisidėti prie mugės savo prekėmis – kepiniais\, patiekalais\, mezginiais\,\nrankdarbiais\, meno kūriniais\, Kalėdinėmis dekoracijomis\, papuošalais\, suvenyrais\, taip pat paremti šį kasmetinį kalėdinį renginį. \nVisos Jūsų idėjos įdomios ir vertingos. \nKURKIME KALĖDINĮ STEBUKLĄ KARTU!!! \nDėl dalyvavimo ir kitų iškilusių klausimų skambinkite ar rašykite Linai Kajotienei tel.: 310 526 1456\, e-mail: lina727@gmail.com \nMarytės Kalėdinės Mugės globėjas šv. Kazimiero parapijos klebonas kun. Tomas Karanauskas. \nMugės rėmėjai:\nGražina ir Ken Kling Foundation\nLietuvos Respublikos generalinis konsulatas Los Andžele\nJAV lietuvių bendruomenė Los Andželo apylinkė\nKalifornijos Lietuvių kredito unija https://www.clcu.org/\nVYČIAI – Knights of Lithuania\nJustina ir Sonny Virdi
URL:https://vakaruvejai.com/renginys/marytes-kaledine-muge-los-andzelas-2/
LOCATION:Šv. Kazimiero parapija\, 2716 St. George St.\, Los Angeles\, CA\, 90027
CATEGORIES:Lietuviški renginiai,Los Andželas
ATTACH;FMTTYPE=image/png:https://vakaruvejai.com/wp-content/uploads/2025/12/Cheerful-Christmas-Fair-Poster-at-Twilight-Posters-2.png
ORGANIZER;CN="Edvardas Gaili%C5%ABnas / Lina Kajotien%C4%97 / Mug%C4%97s glob%C4%97jas%3A Tomas Karanauskas":MAILTO:lina727@gmail.com
END:VEVENT
BEGIN:VEVENT
DTSTART;TZID=America/Los_Angeles:20250330T120000
DTEND;TZID=America/Los_Angeles:20250330T160000
DTSTAMP:20260423T131434
CREATED:20250329T060949Z
LAST-MODIFIED:20250329T061012Z
UID:28840-1743336000-1743350400@vakaruvejai.com
SUMMARY:Arizonos lietuvių pavasario iškyla / Lithuanians of Arizona spring picnic\, Tempe\, AZ
DESCRIPTION:LT\n\n\nArizonos lietuviai\, draugai ir giminaičiai!\nPiknikas jau greitai!\nData: Sekmadienis\, kovo 30d.Laikas: 12pm – 4pmVieta: 5501 S Lakeshore Dr\, Tempe 85283Detalės: mūsų piknikas prasidės 12pm\, apie pirmą valandą pradėsime tiekti maistą. Kaip visuomet\, turėsime kugelio ir net šaltibarščių! Vaikai galės žaisti batute 12pm-4pm\, o mūsų narių pamėgta loterija vyks apie 3pm!\nAtsineškite\, jei galite\, desertą pasidalinti!\nLaukiame jūsų visų\, bus smagu!\n\n\nEN\n\nSpring Picnic is right around the corner and we cannot wait to see you all!\nHere are the details:\nDate: Sunday\, March 30\, 2025Time: 12pm – 4pmLocation: 5501 S Lakeshore Dr\, Tempe 85283 Details: the picnic will start at 12pm and the food will be served at around 1pm. Kugelis will be the main dish with some other Lithuanian cuisine favorites! Kids will enjoy a bounce castle the entire time and we will have our member-favorite prize drawing at around 3pm!\nPlease bring a dessert to share! \nCannot wait to see you there!
URL:https://vakaruvejai.com/renginys/arizonos-lietuviu-pavasario-iskyla-lithuanians-of-arizona-spring-picnic/
LOCATION:The Lakes Beach and Tennis Club\, 5501 S Lakeshore Dr.\, Tempe\, AZ\, 85283
CATEGORIES:Arizona,Lietuviški renginiai
ATTACH;FMTTYPE=image/jpeg:https://vakaruvejai.com/wp-content/uploads/2025/03/476374321_1061273102696404_2208096466516856438_n.jpeg
END:VEVENT
BEGIN:VEVENT
DTSTART;VALUE=DATE:20241005
DTEND;VALUE=DATE:20241007
DTSTAMP:20260423T131434
CREATED:20240601T012607Z
LAST-MODIFIED:20240601T012607Z
UID:26881-1728086400-1728259199@vakaruvejai.com
SUMMARY:Lietuvių Dienos 2024 Los Andžele
DESCRIPTION:Kviečiame į kasmetines Lietuvių dienas 2024 Los Andžele. Šių metų tema – Dainų šventės jubiliejus!\nRezervuokite datą jūsų kalendoriuje!\nDaugiau informacijos pateiksime artimiausiu metu.
URL:https://vakaruvejai.com/renginys/lietuviu-dienos-2024-los-andzele/
LOCATION:Šv. Kazimiero parapija\, 2716 St. George St.\, Los Angeles\, CA\, 90027
CATEGORIES:Lietuviški renginiai,Los Andželas
ATTACH;FMTTYPE=image/jpeg:https://vakaruvejai.com/wp-content/uploads/2024/05/IMG_6611.jpg
END:VEVENT
BEGIN:VEVENT
DTSTART;VALUE=DATE:20231007
DTEND;VALUE=DATE:20231009
DTSTAMP:20260423T131434
CREATED:20230616T233710Z
LAST-MODIFIED:20230616T233710Z
UID:24804-1696636800-1696809599@vakaruvejai.com
SUMMARY:37-osios Lietuvių dienos Los Andžele
DESCRIPTION:Informacija bus papildyta netrukus.
URL:https://vakaruvejai.com/renginys/37-osios-lietuviu-dienos-los-andzele/
LOCATION:Šv. Kazimiero parapija Los Andžele\, 2718 St George St\, Los Angeles\, CA\, 90027\, United States
CATEGORIES:Lietuviški renginiai,Los Andželas
ATTACH;FMTTYPE=image/jpeg:https://vakaruvejai.com/wp-content/uploads/2023/06/IMG_0365-scaled.jpg
END:VEVENT
BEGIN:VEVENT
DTSTART;TZID=America/Los_Angeles:20220521T150000
DTEND;TZID=America/Los_Angeles:20220521T190000
DTSTAMP:20260423T131434
CREATED:20220520T182408Z
LAST-MODIFIED:20220520T221701Z
UID:21509-1653145200-1653159600@vakaruvejai.com
SUMMARY:Kugelių Kugelis 2022\, Brier\, WA
DESCRIPTION:We are excited to announce that this year\, we are bringing back our Kugeliu Kugelis Fundraiser! We invite all our Lankas friends and family to join us in indulging in not just one\, but many delicious Kugeliai. This will again be a Kugelis making competition\, so if you would like to participate by bringing a Kugelis to share\, please let us know.\nDetails of the event:\nWhere: The Lukoševičius household:\n21824 Vine Rd. Brier\, WA 98036\nWhen: May 21st\, beginning at 3 PM\nGeneral admission: $25\nKids under 14: Free\nKugelis chefs: Free
URL:https://vakaruvejai.com/renginys/kugeliu-kugelis-2022-brier-wa/
LOCATION:The Lukoševičius household\, 21824 Vine Rd\, Brier\, WA\, 98036
CATEGORIES:Lietuviški renginiai,Seattle
ATTACH;FMTTYPE=image/jpeg:https://vakaruvejai.com/wp-content/uploads/2022/05/278794809_4834315386676961_4386935419044812277_n.jpg
ORGANIZER;CN="Lankas Lithuanian Heritage Camp":MAILTO:lankasstovykla@gmail.com
END:VEVENT
BEGIN:VEVENT
DTSTART;TZID=America/Los_Angeles:20211002T110000
DTEND;TZID=America/Los_Angeles:20211003T160000
DTSTAMP:20260423T131434
CREATED:20210904T192025Z
LAST-MODIFIED:20210904T192025Z
UID:17623-1633172400-1633276800@vakaruvejai.com
SUMMARY:35-osios Lietuvių Dienos\, Los Angeles
DESCRIPTION:35- osios kasmetinės Lietuvių Dienos sugrįžta į Los Andželą!\n\nLietuviška muzika\, tautiniai šokiai\, lietuviškas maistas bei gėrimai\, gintaro dirbiniai\, amatininkų ir meno dirbiniai. Įdomi atlikėjų programa iš Čikagos\, Maino\, Klivlando\, Kolorado\, Konektikuto\, Sietlo ir Los Andželo.\n\n10/2/21 – 11am to 10pm\n10/3/21 – 12pm to 4pm\n\nPrograma ir tvarkaraštis dar derinami.\n\nŠventėje bus laikomasi visų su COVID – 19 susijusių sveikatos saugumo reikalavimų.\n\nDaugiau informacijos oficialiame Lietuvių Dienų tinklapyje: LTdays.com
URL:https://vakaruvejai.com/renginys/35-osios-lietuviu-dienos-los-angeles/
LOCATION:Šv. Kazimiero parapija Los Andžele\, 2718 St George St\, Los Angeles\, CA\, 90027\, United States
CATEGORIES:Arizona,Hawaii,Lietuviški renginiai,Los Andželas,Nevada,Portlandas,San Diego,San Franciskas,Seattle
ATTACH;FMTTYPE=image/jpeg:https://vakaruvejai.com/wp-content/uploads/2021/08/8011978F-C846-4ED0-A7C5-3DFCF55A5AE1-scaled.jpeg
END:VEVENT
END:VCALENDAR