BEGIN:VCALENDAR
VERSION:2.0
PRODID:-//Vakarų Vėjai - ECPv6.15.3//NONSGML v1.0//EN
CALSCALE:GREGORIAN
METHOD:PUBLISH
X-WR-CALNAME:Vakarų Vėjai
X-ORIGINAL-URL:https://vakaruvejai.com
X-WR-CALDESC:Vakarų Vėjai renginiai
REFRESH-INTERVAL;VALUE=DURATION:PT1H
X-Robots-Tag:noindex
X-PUBLISHED-TTL:PT1H
BEGIN:VTIMEZONE
TZID:America/Los_Angeles
BEGIN:DAYLIGHT
TZOFFSETFROM:-0800
TZOFFSETTO:-0700
TZNAME:PDT
DTSTART:20190310T100000
END:DAYLIGHT
BEGIN:STANDARD
TZOFFSETFROM:-0700
TZOFFSETTO:-0800
TZNAME:PST
DTSTART:20191103T090000
END:STANDARD
END:VTIMEZONE
BEGIN:VEVENT
DTSTART;TZID=America/Los_Angeles:20191222T120000
DTEND;TZID=America/Los_Angeles:20191222T150000
DTSTAMP:20260423T192052
CREATED:20191219T032127Z
LAST-MODIFIED:20191220T023130Z
UID:10162-1577016000-1577026800@vakaruvejai.com
SUMMARY:Marytės kalėdinė mugė\, Los Angeles
DESCRIPTION:Kviečiame visus į jau penktąją Marytės Kalėdinę Mugę! \nMugė vyks Gruodžio 22 d.\, Sekmadienį 12 val. Šv. Kazimiero parapijos mokyklos kiemelyje\, Los Angeles. \nMugėje galėsite įsigyti įvairiausių skanėstų savo Kūčių ir Kalėdų stalams\, taip pat kalėdinių dovanėlių\, susipažinti ir pabendrauti su menininkais.\nParagauti lietuviškų gardžių valgių ir gėrimų. \nBus gražios veiklos vaikams Nykštukų Dirbtuvėlėse. Pasistengsime\, kad jiems būtų įdomu ir linksma. \nŠio Šv. Kazimiero Parapijos renginio tikslas – suburti lietuvius ir Lietuvos draugus lietuviškuose Los Andželo namuose bei parodyti\, kiek čia turime talentingų žmonių ir smulkaus verslo. \nKurkime Kalėdinį stebuklą kartu!!! \nKviečiame visus norinčius prisidėti savo prekėmis – kepiniais\, patiekalais\, mezginiais\, rankdarbiais\, meno kūriniais\, Kalėdinėmis dekoracijomis\, muzika\, papuošalais ar šiaip suvenyrais. Visos Jūsų idėjos įdomios ir vertingos.\nLaukiame Jūsų visų! \nDėl dalyvavimo ir kitų iškilusių klausimų skambinkite ar rašykite Linai Kajotienei tel.: 310 526 1456\, e-mail: lina727@gmail.com
URL:https://vakaruvejai.com/renginys/marytes-kaledine-muge/
LOCATION:Šv. Kazimiero parapija Los Andžele\, 2718 St George St\, Los Angeles\, CA\, 90027\, United States
CATEGORIES:Lietuviški renginiai,Los Andželas
ATTACH;FMTTYPE=image/jpeg:https://vakaruvejai.com/wp-content/uploads/2019/12/Marytes-Muge.jpg
END:VEVENT
BEGIN:VEVENT
DTSTART;TZID=America/Los_Angeles:20191221T120000
DTEND;TZID=America/Los_Angeles:20191221T140000
DTSTAMP:20260423T192052
CREATED:20191219T031244Z
LAST-MODIFIED:20191220T023028Z
UID:10152-1576929600-1576936800@vakaruvejai.com
SUMMARY:Šv. Kazimiero lituanistinės mokyklos Kalėdų šventė\, Los Angeles
DESCRIPTION:
URL:https://vakaruvejai.com/renginys/sv-kazimiero-lituanistines-mokyklos-kaledos/
LOCATION:Šv. Kazimiero parapija Los Andžele\, 2718 St George St\, Los Angeles\, CA\, 90027\, United States
CATEGORIES:Lietuviški renginiai,Los Andželas
ATTACH;FMTTYPE=image/jpeg:https://vakaruvejai.com/wp-content/uploads/2019/12/Mokyklos-eglute-scaled-1.jpg
END:VEVENT
END:VCALENDAR