BEGIN:VCALENDAR
VERSION:2.0
PRODID:-//Vakarų Vėjai - ECPv6.15.3//NONSGML v1.0//EN
CALSCALE:GREGORIAN
METHOD:PUBLISH
X-WR-CALNAME:Vakarų Vėjai
X-ORIGINAL-URL:https://vakaruvejai.com
X-WR-CALDESC:Vakarų Vėjai renginiai
REFRESH-INTERVAL;VALUE=DURATION:PT1H
X-Robots-Tag:noindex
X-PUBLISHED-TTL:PT1H
BEGIN:VTIMEZONE
TZID:America/Los_Angeles
BEGIN:DAYLIGHT
TZOFFSETFROM:-0800
TZOFFSETTO:-0700
TZNAME:PDT
DTSTART:20250309T100000
END:DAYLIGHT
BEGIN:STANDARD
TZOFFSETFROM:-0700
TZOFFSETTO:-0800
TZNAME:PST
DTSTART:20251102T090000
END:STANDARD
END:VTIMEZONE
BEGIN:VEVENT
DTSTART;TZID=America/Los_Angeles:20250412T110000
DTEND;TZID=America/Los_Angeles:20250412T130000
DTSTAMP:20260423T160352
CREATED:20250315T060746Z
LAST-MODIFIED:20250329T062844Z
UID:28657-1744455600-1744462800@vakaruvejai.com
SUMMARY:Susitikimas su Lietuvos Šaulių Sąjungos vadovais/ Meet the leaders of the Lithuanian National Guard\, Los Andželas
DESCRIPTION:LT\n\nKviečiame visus Los Andželo lietuvių bendruomenės narius į susitikimą su Lietuvos šaulių sąjungos vadovais.\nKADA: šeštadienis\, balandžio 12 d. @ 11:00 val.KUR: Šv. Kazimiero lietuvių parapija\, Pagrindinė salė\nSusitikime dalyvaus:  LŠS Vado pavaduotojas plk. ltn. GEDIMINAS LATVYS; LŠS Vado patarėjas diasporai LAURYNAS GERIKAS; LŠS V. Putvinskio-Pūtvio klubo prezidentas\, Vyčio Kryžiaus ordino kavalierius\, STASYS IGNATAVIČIUS\nDaugiau informacijos: Vytautas Vyšniauskas\, vytasvy@gmail.comTara Barauskaitė\, tara@lalithuanians.org\nRenginį organizuoja: Los Andželo J. Daumanto Šaulių kuopa ir Los Andželo lietuvių bendruomenės valdyba\n\nEN\n\nWe invite all members of the Los Angeles Lithuanian community to a meeting with the leadership of the Lithuanian National Guard.\nWHEN: Saturday\, April 12 @ 11:00 AM\nWHERE: St. Casimir Lithuanian Parish\, Main Hall\nSpecial Guests: Lt. Col. Gediminas Latvys – Deputy Commander of the Lithuanian National Guard Laurynas Gerikas – Lithuanian National Guard Advisor for the Diaspora Stasys Ignatavičius – President of the V. Putvinskis-Putvis Club\, Knight of the Order of the Cross of Vytis\nFor more information contact:Vytautas Vyšniauskas – vytasvy@gmail.comTara Barauskaitė – tara@lalithuanians.org\nEvent organized by: The J. Daumantas Lithuanian National Guard Unit of Los Angeles & the Board of the Los Angeles Lithuanian Community.
URL:https://vakaruvejai.com/renginys/susitikimas-su-lietuvos-sauliu-sajungos-vadovais-ir-ekspozicija-is-kartos-i-karta-saulys-tautos-karys-los-andzelas/
LOCATION:Šv. Kazimiero parapijos salėje\, 2714 St. George St.\, Los Angeles\, CA\, 90027
CATEGORIES:Lietuviški renginiai,Los Andželas
ATTACH;FMTTYPE=image/jpeg:https://vakaruvejai.com/wp-content/uploads/2025/03/487125138_971104401896957_3251416516266189805_n.jpeg
END:VEVENT
END:VCALENDAR