BEGIN:VCALENDAR
VERSION:2.0
PRODID:-//Vakarų Vėjai - ECPv6.15.3//NONSGML v1.0//EN
CALSCALE:GREGORIAN
METHOD:PUBLISH
X-ORIGINAL-URL:https://vakaruvejai.com
X-WR-CALDESC:Vakarų Vėjai renginiai
REFRESH-INTERVAL;VALUE=DURATION:PT1H
X-Robots-Tag:noindex
X-PUBLISHED-TTL:PT1H
BEGIN:VTIMEZONE
TZID:America/Los_Angeles
BEGIN:DAYLIGHT
TZOFFSETFROM:-0800
TZOFFSETTO:-0700
TZNAME:PDT
DTSTART:20210314T100000
END:DAYLIGHT
BEGIN:STANDARD
TZOFFSETFROM:-0700
TZOFFSETTO:-0800
TZNAME:PST
DTSTART:20211107T090000
END:STANDARD
BEGIN:DAYLIGHT
TZOFFSETFROM:-0800
TZOFFSETTO:-0700
TZNAME:PDT
DTSTART:20220313T100000
END:DAYLIGHT
BEGIN:STANDARD
TZOFFSETFROM:-0700
TZOFFSETTO:-0800
TZNAME:PST
DTSTART:20221106T090000
END:STANDARD
BEGIN:DAYLIGHT
TZOFFSETFROM:-0800
TZOFFSETTO:-0700
TZNAME:PDT
DTSTART:20230312T100000
END:DAYLIGHT
BEGIN:STANDARD
TZOFFSETFROM:-0700
TZOFFSETTO:-0800
TZNAME:PST
DTSTART:20231105T090000
END:STANDARD
BEGIN:DAYLIGHT
TZOFFSETFROM:-0800
TZOFFSETTO:-0700
TZNAME:PDT
DTSTART:20240310T100000
END:DAYLIGHT
BEGIN:STANDARD
TZOFFSETFROM:-0700
TZOFFSETTO:-0800
TZNAME:PST
DTSTART:20241103T090000
END:STANDARD
BEGIN:DAYLIGHT
TZOFFSETFROM:-0800
TZOFFSETTO:-0700
TZNAME:PDT
DTSTART:20250309T100000
END:DAYLIGHT
BEGIN:STANDARD
TZOFFSETFROM:-0700
TZOFFSETTO:-0800
TZNAME:PST
DTSTART:20251102T090000
END:STANDARD
END:VTIMEZONE
BEGIN:VEVENT
DTSTART;TZID=America/Los_Angeles:20250223T140000
DTEND;TZID=America/Los_Angeles:20250223T170000
DTSTAMP:20260423T150018
CREATED:20250214T165336Z
LAST-MODIFIED:20250214T165336Z
UID:28397-1740319200-1740330000@vakaruvejai.com
SUMMARY:Lietuvos Nepriklausomybės šventė\, Portlandas\, WA
DESCRIPTION:Maloniai pranešame\, kad Lietuvos Respublikos Nepriklausomybės minėjimas\,\nskirtas vasario 16 d. (Lietuvos valstybės atkūrimo) ir kovo 11 d. (Lietuvos nepriklausomybės atkūrimo) dienoms atminti\,\n įvyks š.m. vasario mėn. 23 d. (sekmadienį) 14 val.\nLatvių salėje (5500 SW Dosch Rd.\, Portland\, OR 97239) \n  \nMinėjimo PROGRAMA: \nLIETUVOS IR JAV HIMNŲ giedojimas \nSveikinimo žodžiai \nPortlando lituanistinės mokyklos „Atžalynas” mokinių programa \nPortlando bendruomenės šokių grupės „Aitvaras”   pasirodymas \nSuneštinės Vaišės \nGintarės Jautakaitės koncertas \n  \nSuneštinės vaišės \nPrašome\, atsineškite pagrindinį patiekalą ir desertą. Jei pageidaujate\, atsineškite savo vyną\, alų ar/ir pan. \n  \nG. Jautakaitės Koncerto bilieto kaina: \nSuaugusiems (nariams) $30\, ne nariams $40\, \nVaikams iki 12 metų nemokamai\, \n12-18 metų  -$15 \nJeigu bilieto kaina jums šiuo metu per didelė\, prašome iš anksto pararašyti giedre077@gmail.com\, laukiame visų nepriklausomai nuo galimybės susimokėti pilną kainą. \nŠventės metu bus galimybė susimokėti metinį $25 nario mokestį arba galite sumokėti iš anksto naudodami žemiau esančias nuorodas. \nBilietus į koncertą iš anksto galite nusipirkti per Venmo https://venmo.com/u/Giedre-Babarskiene arba per Paypal (mokant per Paypal\, prašome pridėti $3 paslaugos mokestį. https://www.paypal.com/donate?token=RnVvV_j5HlCMSZKXd03nXtQb9sYPcFeUZgW42zXivD_E7CKjEtNOtGop-hBu9BRjlND3UQkFnT20YvMM \nJei turite klausimų ar pasiūlymų\, prašome kreipkitės portlandlithuanians@gmail.com \nJAV Lietuvių Bendruomenės Portlando apylinkės valdyba. \nRenginio rėmėjai JAV LB Kultūros Taryba ir Lietuvių Fondas \n************** \nLithuanian Independence Day Celebration \nPlease\, mark your calendars for the Lithuanian Independence Day Celebration\,\nwhich will take place on Sunday\, February 23rd at 2 PM\nat the Latvian Hall (5500 SW Dosch Rd.\, Portland\, OR 97239) \nPROGRAM : \nNational Anthems of Lithuania and USA \nOpening Remarks \nProgram by Portland Lithuanian School \nPerformance by Portland Community Dance Group „Aitvaras” \nCommunity Potluck \nConcert by singer Gintarė Jautakaitė \n  \nCommunity Potluck: \nPlease\, bring a main dish and dessert. Feel free to BYO wine and beer if desired. \n  \nTicket prices for the G. Jautakaite concert: \nAdults (18+) : members $30\, non members $40 \nChildren under 12: free\, \n12-18 years:  $15 \nSliding scale tickets available upon request (please email in advance giedre077@gmail.com). We would like everyone to be able to attend regardless of the ability to pay the full price. \nYou will have an opportunity to pay yearly $25 membership dues at the event or you can pay in advance using the links below. \nIf you wish to purchase ticket in advance\, you can pay through Venmo https://venmo.com/u/Giedre-Babarskiene\nor through Paypal (Paypal charges $3 per transaction\, please add $3 service fee)  https://www.paypal.com/donate?token=RnVvV_j5HlCMSZKXd03nXtQb9sYPcFeUZgW42zXivD_E7CKjEtNOtGop-hBu9BRjlND3UQkFnT20YvMM \nIf you have any questions please feel free to contact us at portlandlithuanians@gmail.com \nLAC Portland Chapter Board \nThe event is sponsored by USA Lithuanian Council and the Lithuanian Foundation
URL:https://vakaruvejai.com/renginys/lietuvos-nepriklausomybes-svente-portlandas-wa/
LOCATION:Latvian Hall-Portland\, 5500 SW Dosch Rd\, Portland\, 97239\, United States
CATEGORIES:Lietuviški renginiai,Portlandas
ATTACH;FMTTYPE=image/jpeg:https://vakaruvejai.com/wp-content/uploads/2025/02/unnamed5.082340.jpeg
END:VEVENT
BEGIN:VEVENT
DTSTART;VALUE=DATE:20231007
DTEND;VALUE=DATE:20231009
DTSTAMP:20260423T150018
CREATED:20230616T233710Z
LAST-MODIFIED:20230616T233710Z
UID:24804-1696636800-1696809599@vakaruvejai.com
SUMMARY:37-osios Lietuvių dienos Los Andžele
DESCRIPTION:Informacija bus papildyta netrukus.
URL:https://vakaruvejai.com/renginys/37-osios-lietuviu-dienos-los-andzele/
LOCATION:Šv. Kazimiero parapija Los Andžele\, 2718 St George St\, Los Angeles\, CA\, 90027\, United States
CATEGORIES:Lietuviški renginiai,Los Andželas
ATTACH;FMTTYPE=image/jpeg:https://vakaruvejai.com/wp-content/uploads/2023/06/IMG_0365-scaled.jpg
END:VEVENT
BEGIN:VEVENT
DTSTART;TZID=America/Los_Angeles:20230226T160000
DTEND;TZID=America/Los_Angeles:20230226T180000
DTSTAMP:20260423T150018
CREATED:20230211T000831Z
LAST-MODIFIED:20230211T000831Z
UID:23744-1677427200-1677434400@vakaruvejai.com
SUMMARY:Kviečiame švęsti Užgavėnes kartu\, Reno\, NV
DESCRIPTION:Kviečiame švęsti Užgavėnes! \n\nŠvente vyks Reno\, NV. Ragausime įvairių suneštinių blynų ir kitų skanėstų. Dalyvausime Kanapinio ir Lašininio dvikovoje\, ir Morės deginime. \n\nLaukite oficialaus pakvietimo elektroniniu paštu – Evite.
URL:https://vakaruvejai.com/renginys/kvieciame-svesti-uzgavenes-kartu-reno-nv/
LOCATION:Reno\, NV
CATEGORIES:Lietuviški renginiai
ATTACH;FMTTYPE=image/jpeg:https://vakaruvejai.com/wp-content/uploads/2023/02/329742447_756248699268402_1299169025207566119_n.jpeg
END:VEVENT
BEGIN:VEVENT
DTSTART;TZID=America/Los_Angeles:20221001T110000
DTEND;TZID=America/Los_Angeles:20221002T170000
DTSTAMP:20260423T150018
CREATED:20220812T230830Z
LAST-MODIFIED:20220816T061544Z
UID:22277-1664622000-1664730000@vakaruvejai.com
SUMMARY:Los Andželo Lietuvių Dienos
DESCRIPTION:One weekend a year Lithuanian culture\, art\, entertainment\, refreshments and history are on display. Each year\, new Lithuanian artisans of various media are featured\, including: folk arts\, weavings\, oils\, woods\, ceramics and sculptures. Lithuanian amber jewelry\, fashions\, books\, music\, stamps\, coins\, medals and souvenirs are available. \nTraditional Lithuanian foods\, spirits and drinks are available throughout the fair. Enjoy ample servings of „kugelis”\, a comfort food favored by many\, Or taste the sweet flavors of „krupnikas”\, a honey-based liqueur. One can dine with friends at the fair or purchase food „to go”. \nEntertainment runs all day with an array of musical\, singing and dancing talent from around the world. Over the years\, singers and dancers of all ages from Lithuania\, Germany\, Canada\, as well as Chicago and Cleveland and other U.S. cities have graced the festival stage to share their ethnic pride and talents. Lithuanians worldwide have attended the fair and it has become the largest festival of Lithuanian culture outside of Lithuania. \nHelp wanted – The Lithuanian Days Fair organizing committee is seeking volunteers to help with the event. We need help to set up Friday September 30th as well as assistance during the event. Please go to volunteers to sign up. You may also contact us at LA.LTDays@gmail.com to sign up or get more information.\nWe thank you in advance! \nVolunteers sign-up\n\n\nWe thank you in advance!
URL:https://vakaruvejai.com/renginys/los-andzelo-lietuviu-dienos-2/
LOCATION:Šv. Kazimiero parapija Los Andžele\, 2718 St George St\, Los Angeles\, CA\, 90027\, United States
CATEGORIES:Lietuviški renginiai,Los Andželas
ATTACH;FMTTYPE=image/jpeg:https://vakaruvejai.com/wp-content/uploads/2022/08/Poster-Facebook-1-e1663956220707.jpg
END:VEVENT
BEGIN:VEVENT
DTSTART;TZID=America/Los_Angeles:20211204T140000
DTEND;TZID=America/Los_Angeles:20211204T180000
DTSTAMP:20260423T150018
CREATED:20211104T051004Z
LAST-MODIFIED:20211119T070356Z
UID:18482-1638626400-1638640800@vakaruvejai.com
SUMMARY:Lietuviškos Kūčios / Lithuanian Christmas Eve\, San Diegas
DESCRIPTION:Kviečiame visus\, didelius ir mažus į San Diego lietuvių Kūčias paskanauti lietuviško maisto ir smagiai pabendrauti.\nKūčių šventė bus švenčiama 1197 Whispering Water Dr\, San Marcos\, CA 92078\, vienoje iš San Marcos benduomenių.\nKaina suagusiems ir vaikams (15+) – $40\nVaikams iki 15 metų – nemokamai\nLauksime visu!\n**************************************************************\nPlease buy your tickets via eventbrite at:\nhttps://www.eventbrite.com/…/lietuviskos-kucios…\n***************************************************************\nPlease join the San Diego Lithuanian Community in celebrating traditional Christmas Eve.\nThis year the event will happen at one of San Marcos home owners association\, address 1197 Whispering Water Dr\, San Marcos\, CA 92078.\nAdult and youth (15+) $40\nKids under 15- Free\n\n\nWe cannot wait to see you all!
URL:https://vakaruvejai.com/renginys/lietuviskos-kucios-lithuanian-christmas-eve-san-diego/
LOCATION:1197 Whispering Water Dr\, San Marcos\, CA 92078
CATEGORIES:Lietuviški renginiai,San Diego
ATTACH;FMTTYPE=image/jpeg:https://vakaruvejai.com/wp-content/uploads/2021/11/https-cdn.evbuc_.com-images-177356039-345347323879-1-original.20211031-234923.jpg
END:VEVENT
BEGIN:VEVENT
DTSTART;TZID=America/Los_Angeles:20210626T160000
DTEND;TZID=America/Los_Angeles:20210626T220000
DTSTAMP:20260423T150018
CREATED:20210618T185606Z
LAST-MODIFIED:20210619T061106Z
UID:16722-1624723200-1624744800@vakaruvejai.com
SUMMARY:Joninės '21\, Los Angeles
DESCRIPTION:Kada? Birželio 26 d.\, šeštadienį\, 4PM – 10PM\n\nKo tikėtis? Laužų\, burtų\, vainikų pinimo\, potluck\, lietuviškos muzikos\, dainų\, šokių\, žaidimų ir naujų pažinčių!\n\nKą atsinešti?\n Vaišių (maisto\, užkandžių\, gėrimų)\n Sulankstomas kėdutes\n Pikniko patiesalus (picnic blankets)\n LED žibintus ir švieseles (vakarui\, kai sutems)\n Vainikų pinimui – žolelių\, gėlių\, siūlų\n Atsisiųsti “Dainorėlis” išmaniąją programėlę (prieinama tik iOS: http://dainorelisapp.com/)\n Megztuką – vakare gali būti vėsu\n\nKur? Dockweiler State Beach. Paplūdimyje tarp gelbėtojų bokštelių Nr. 53-54. Ieškokite plėvesuojančios Lietuvos Trispalvės!\n\nKaip atvykti? https://www.parks.ca.gov/?page_id=617\n\nAutomobilio pastatymas? Rekomenduojame atvykti kuo anksčiau\, kad užsitikrintumėte vietą automobiliui. Automobilio stovėjimo aikštelė limituota ir savaitgalį greitai užsipildo.
URL:https://vakaruvejai.com/renginys/jonines-los-angeles/
LOCATION:Dockweiler State Beach\, 12000 Vista del Mar\, Playa del Rey\, California\, 90293
CATEGORIES:Lietuviški renginiai,Los Andželas
ATTACH;FMTTYPE=image/jpeg:https://vakaruvejai.com/wp-content/uploads/2021/06/IMG_6428-scaled.jpg
END:VEVENT
END:VCALENDAR