BEGIN:VCALENDAR
VERSION:2.0
PRODID:-//Vakarų Vėjai - ECPv6.15.3//NONSGML v1.0//EN
CALSCALE:GREGORIAN
METHOD:PUBLISH
X-ORIGINAL-URL:https://vakaruvejai.com
X-WR-CALDESC:Vakarų Vėjai renginiai
REFRESH-INTERVAL;VALUE=DURATION:PT1H
X-Robots-Tag:noindex
X-PUBLISHED-TTL:PT1H
BEGIN:VTIMEZONE
TZID:America/Los_Angeles
BEGIN:DAYLIGHT
TZOFFSETFROM:-0800
TZOFFSETTO:-0700
TZNAME:PDT
DTSTART:20240310T100000
END:DAYLIGHT
BEGIN:STANDARD
TZOFFSETFROM:-0700
TZOFFSETTO:-0800
TZNAME:PST
DTSTART:20241103T090000
END:STANDARD
BEGIN:DAYLIGHT
TZOFFSETFROM:-0800
TZOFFSETTO:-0700
TZNAME:PDT
DTSTART:20250309T100000
END:DAYLIGHT
BEGIN:STANDARD
TZOFFSETFROM:-0700
TZOFFSETTO:-0800
TZNAME:PST
DTSTART:20251102T090000
END:STANDARD
BEGIN:DAYLIGHT
TZOFFSETFROM:-0800
TZOFFSETTO:-0700
TZNAME:PDT
DTSTART:20260308T100000
END:DAYLIGHT
BEGIN:STANDARD
TZOFFSETFROM:-0700
TZOFFSETTO:-0800
TZNAME:PST
DTSTART:20261101T090000
END:STANDARD
END:VTIMEZONE
BEGIN:VEVENT
DTSTART;TZID=America/Los_Angeles:20260225T200000
DTEND;TZID=America/Los_Angeles:20260225T210000
DTSTAMP:20260423T133820
CREATED:20260214T050933Z
LAST-MODIFIED:20260214T050933Z
UID:30583-1772049600-1772053200@vakaruvejai.com
SUMMARY:Paskaita „Diasporos vaidmuo Lietuvos visuotinėje gynyboje“\, Virtualus renginys
DESCRIPTION:Kviečiame JAV Vakarų pakrantės lietuvius į nuotolinę paskaitą „Diasporos vaidmuo Lietuvos visuotinėje gynyboje“. \nPaskaitos metu bus aptarta dabartinė saugumo situacija Lietuvoje bei tai\, kaip užsienyje gyvenanti lietuvių bendruomenė gali prisidėti prie pasirengimo visuotinei gynybai ir pilietinio atsparumo stiprinimo. \nPaskaitą ves Irma Petraitytė-Lukšienė – Pasaulio lietuvių bendruomenės valdybos narė\, Pilietinio atsparumo komisijos pirmininkė. \nData: 2026 m. vasario 25 d. \nLaikas: 8 PM val. (Los Andželo laiku) \nVieta: nuotoliu (būtina išankstinė registracija https://forms.gle/TgpRTKrffbSikyJ19) \nSvarbu: prisijungimo nuoroda bus išsiųsta tik užsiregistravusiems dalyviams. \nKviečiame susipažinkite su svarbiausiais PLB dokumentais: \n-Pasaulio lietuvių bendruomenės ir visos Lietuvos diasporos pasirengimo pilietiniam pasipriešinimui ir įsitraukimo į visuotinę gynybą strategija: https://rb.gy/gyrywm \n-Veiksmų atmintinė „Jei karas Lietuvoje: Kaip elgtis diasporai?”: https://plb.lt/…/Veiksmu-atmintine_Jei-karas-Lietuvoje…
URL:https://vakaruvejai.com/renginys/paskaita-diasporos-vaidmuo-lietuvos-visuotineje-gynyboje-virtualus-renginys/
LOCATION:Virtualus renginys
CATEGORIES:Lietuviški renginiai,Virtualus renginys
ATTACH;FMTTYPE=image/jpeg:https://vakaruvejai.com/wp-content/uploads/2026/02/Nuotoline-paskaita-diasporos-pasiruosimas-gynybai.jpg
END:VEVENT
BEGIN:VEVENT
DTSTART;VALUE=DATE:20260118
DTEND;VALUE=DATE:20260119
DTSTAMP:20260423T133820
CREATED:20251220T065508Z
LAST-MODIFIED:20251220T065508Z
UID:30166-1768694400-1768780799@vakaruvejai.com
SUMMARY:Kviečiame į virtualius Jaunųjų šaulių mokymus!
DESCRIPTION:Jau nuo 2026 m. sausio mėn. 18. d. prisijunk prie diasporos jaunųjų šaulių komandos ir ženk pirmą svarbų žingsnį į naujų draugų ir žinių kelionę. \nVirtualių mokymų metu tavęs laukia įdomios ir naudingos temos: lyderystė\, topografija\, technologijos\, komandinio darbo įgūdžiai ir kitos žinios\, reikalingos jaunajam šauliui. \nMokymai vyksta kartą per mėnesį\nDalyvavimas – nemokamas\nMokymai vyksta nuotoliniu būdu\, lietuvių k. \nKviečiame vaikus nuo 11 iki 18 metų. Registracija iki sausio 15 d. \n\nDaugiau informacijos bei tėvų sutikimus atsiųsime užsiregistravusiems.\n\nREGISTRACIJA
URL:https://vakaruvejai.com/renginys/kvieciame-i-virtualius-jaunuju-sauliu-mokymus/
LOCATION:Virtualus renginys
CATEGORIES:Lietuviški renginiai,Virtualus renginys
ATTACH;FMTTYPE=image/jpeg:https://vakaruvejai.com/wp-content/uploads/2025/12/486525573_1627360731343533_5832373646819302949_n.jpg
END:VEVENT
BEGIN:VEVENT
DTSTART;VALUE=DATE:20240927
DTEND;VALUE=DATE:20240929
DTSTAMP:20260423T133820
CREATED:20240921T032213Z
LAST-MODIFIED:20240921T032213Z
UID:27567-1727395200-1727567999@vakaruvejai.com
SUMMARY:Virtuali diskusijų konferencija "Auginu vaiką užsienyje. Ką gauna šeima lituanistinėje mokykloje"
DESCRIPTION:Kviečiame tėvelius\, pedagogus\, užsienio lietuvius ir visus\, kam aktuali lituanistinio švietimo ir lietuviškos tapatybės tema! \nModeruoja:  žurnalistė\, emigrančių bendruomenės „Tarp dviejų šalių” įkūrėja – Justina Mikeliūnaitė. \nRugsėjo 27 d. (penktadienis) \n19.00 – 21.00 val. LT laiku\nTEMA: „Lietuvių kalbos svarba: identiteto ir psichinės sveikatos ryšiai su mūsų protėviais ir šaknimis“. \nDiskusijos dalyviai:\nGydytoja psichoterapeutė\, knygų autorė\, 7 vaikų mama – Aurima Dilienė.\nSociolingvistė dr. Inga Hilbig.\nVaikų darželio „Baltų šalelė“ įkūrėja\, 6 vaikų mama\, teisininkė\, socialinių industrijų ir komunikacijos magistrė –  Alina Sinicė. \nRugsėjo 28 d. (šeštadienis) \n10.00 -12.00 val. LT laiku\nTEMA: „Ką duoda dailės raiška vaiko ugdymui“. \nDiskusijos dalyviai:\nDailininkė tapytoja\, knygų iliustratorė\, kūrybinių projektų organizatorė\, meno pedagogė\, virtualios lituanistinės mokyklos Prancūzijoje „DIALOGAI » vadovė ir mokytoja Edita Rakauskaitė.\nSocialinių mokslų daktarė\, dailės terapeutė ir dailės terapijos profesijos pradininkė Lietuvoje\, LSMU Reabilitacijos klinikos lektorė\, VŠĮ „Menų terapijos centras“  steigėja ir vadovė\, knygų  autorė – Audronė Brazauskaitė.\nKūrybininkė\, menininkė\, reklamos specialistė\, įvairių socialinių projektų vadovė bei iniciatorė\, Kūrybinės lituanistinės mokyklos „GILIUKAI” mokytoja\, dailės terapijos magistrantūros studentė – Gintarė Stokonytė. \n12.00 -14.00 val. LT laiku\nTEMA: „Vaiko saugumas ir identiteto išlaikymas užsienio bendruomenėje/mokykloje”. \nDiskusijos dalyviai:\nValencijos lietuvių bendruomenės valdybos pirmininkė\, virtualios mokyklos „Švyturys” įkūrėja\, vadovė ir mokytoja\, vaikų vasaros stovyklų\, gyvenantiems Ispanijoje\, iniciatorė – Daiva Sruogienė.\nPedagogė\, edukacinių programų ir veiklų vaikų vasaros stovyklose kūrėja ir įgyvendintoja\, pavaduotoja ugdymui Klaipėdos Taurakalnio progimnazijoje – Jolita Benetienė.\nIkimokyklinio\, priešmokyklinio ir pradinio ugdymo mokytoja virtualiose lituanistinėse „Pasaka” ir „Švyturys” – Gabija Ažondenytė. \n15.30 – 17.30 val. LT laiku\nTEMA: „Stiprios mokyklos bendruomenės magija”. \nDiskusijos dalyviai:\nKūrybinės lituanistinės mokyklos „Giliukai” vadovė\, pedagogė\, mokymų specialistė –  Ernesta Kazlauskaitė-Tsakona.\nLietuvių bendruomenės Graikijoje pirmininkė\, teisininkė\, vertėja -Viktorija Gribinaitė-Naki.\nKūrybinės lituanistinės mokyklos „Giliukai” mokytoja – Austėja Linkė.\nVirtualios mokyklos „Pasaka” klientų ir komunikacijos specialistė -Justė Tamašauskienė. \nREGISTRACIJA:\nhttps://forms.gle/ngmn4QsfJX1nAkb3A
URL:https://vakaruvejai.com/renginys/virtuali-diskusiju-konferencija-auginu-vaika-uzsienyje-ka-gauna-seima-lituanistineje-mokykloje/
LOCATION:Virtualus renginys
CATEGORIES:Lietuviški renginiai,Virtualus renginys
ATTACH;FMTTYPE=image/jpeg:https://vakaruvejai.com/wp-content/uploads/2024/09/IMG_8886-scaled.jpg
END:VEVENT
END:VCALENDAR