BEGIN:VCALENDAR
VERSION:2.0
PRODID:-//Vakarų Vėjai - ECPv6.15.3//NONSGML v1.0//EN
CALSCALE:GREGORIAN
METHOD:PUBLISH
X-WR-CALNAME:Vakarų Vėjai
X-ORIGINAL-URL:https://vakaruvejai.com
X-WR-CALDESC:Vakarų Vėjai renginiai
REFRESH-INTERVAL;VALUE=DURATION:PT1H
X-Robots-Tag:noindex
X-PUBLISHED-TTL:PT1H
BEGIN:VTIMEZONE
TZID:America/Los_Angeles
BEGIN:DAYLIGHT
TZOFFSETFROM:-0800
TZOFFSETTO:-0700
TZNAME:PDT
DTSTART:20210314T100000
END:DAYLIGHT
BEGIN:STANDARD
TZOFFSETFROM:-0700
TZOFFSETTO:-0800
TZNAME:PST
DTSTART:20211107T090000
END:STANDARD
BEGIN:DAYLIGHT
TZOFFSETFROM:-0800
TZOFFSETTO:-0700
TZNAME:PDT
DTSTART:20220313T100000
END:DAYLIGHT
BEGIN:STANDARD
TZOFFSETFROM:-0700
TZOFFSETTO:-0800
TZNAME:PST
DTSTART:20221106T090000
END:STANDARD
BEGIN:DAYLIGHT
TZOFFSETFROM:-0800
TZOFFSETTO:-0700
TZNAME:PDT
DTSTART:20230312T100000
END:DAYLIGHT
BEGIN:STANDARD
TZOFFSETFROM:-0700
TZOFFSETTO:-0800
TZNAME:PST
DTSTART:20231105T090000
END:STANDARD
BEGIN:DAYLIGHT
TZOFFSETFROM:-0800
TZOFFSETTO:-0700
TZNAME:PDT
DTSTART:20240310T100000
END:DAYLIGHT
BEGIN:STANDARD
TZOFFSETFROM:-0700
TZOFFSETTO:-0800
TZNAME:PST
DTSTART:20241103T090000
END:STANDARD
BEGIN:DAYLIGHT
TZOFFSETFROM:-0800
TZOFFSETTO:-0700
TZNAME:PDT
DTSTART:20250309T100000
END:DAYLIGHT
BEGIN:STANDARD
TZOFFSETFROM:-0700
TZOFFSETTO:-0800
TZNAME:PST
DTSTART:20251102T090000
END:STANDARD
END:VTIMEZONE
BEGIN:VEVENT
DTSTART;TZID=America/Los_Angeles:20250202T210000
DTEND;TZID=America/Los_Angeles:20250202T230000
DTSTAMP:20260423T131335
CREATED:20250117T072206Z
LAST-MODIFIED:20250117T072206Z
UID:28204-1738530000-1738537200@vakaruvejai.com
SUMMARY:Virtual donation: cepelinų fundraizer (for generous donors)\, San Franciskas
DESCRIPTION:Norite prisidėti prie Lietuvių Kalbos Mokyklos sėkmės?  Jūsų parama padės mums kurti dar geresnę ateitį vaikams! \nPrašome paaukoti ir tapkite mūsų kelionės dalimi! \nPaaukoti čia: https://sf-lithuanian-american-community.square.site/…
URL:https://vakaruvejai.com/renginys/virtual-donation-cepelinu-fundraizer-for-generous-donors-san-franciskas/
LOCATION:Virtualus renginys
CATEGORIES:Lietuviški renginiai,San Franciskas
ATTACH;FMTTYPE=image/jpeg:https://vakaruvejai.com/wp-content/uploads/2025/01/474017118_1134044138427894_3152680049817867739_n.jpeg
END:VEVENT
BEGIN:VEVENT
DTSTART;VALUE=DATE:20240927
DTEND;VALUE=DATE:20240929
DTSTAMP:20260423T131335
CREATED:20240921T032213Z
LAST-MODIFIED:20240921T032213Z
UID:27567-1727395200-1727567999@vakaruvejai.com
SUMMARY:Virtuali diskusijų konferencija "Auginu vaiką užsienyje. Ką gauna šeima lituanistinėje mokykloje"
DESCRIPTION:Kviečiame tėvelius\, pedagogus\, užsienio lietuvius ir visus\, kam aktuali lituanistinio švietimo ir lietuviškos tapatybės tema! \nModeruoja:  žurnalistė\, emigrančių bendruomenės „Tarp dviejų šalių” įkūrėja – Justina Mikeliūnaitė. \nRugsėjo 27 d. (penktadienis) \n19.00 – 21.00 val. LT laiku\nTEMA: „Lietuvių kalbos svarba: identiteto ir psichinės sveikatos ryšiai su mūsų protėviais ir šaknimis“. \nDiskusijos dalyviai:\nGydytoja psichoterapeutė\, knygų autorė\, 7 vaikų mama – Aurima Dilienė.\nSociolingvistė dr. Inga Hilbig.\nVaikų darželio „Baltų šalelė“ įkūrėja\, 6 vaikų mama\, teisininkė\, socialinių industrijų ir komunikacijos magistrė –  Alina Sinicė. \nRugsėjo 28 d. (šeštadienis) \n10.00 -12.00 val. LT laiku\nTEMA: „Ką duoda dailės raiška vaiko ugdymui“. \nDiskusijos dalyviai:\nDailininkė tapytoja\, knygų iliustratorė\, kūrybinių projektų organizatorė\, meno pedagogė\, virtualios lituanistinės mokyklos Prancūzijoje „DIALOGAI » vadovė ir mokytoja Edita Rakauskaitė.\nSocialinių mokslų daktarė\, dailės terapeutė ir dailės terapijos profesijos pradininkė Lietuvoje\, LSMU Reabilitacijos klinikos lektorė\, VŠĮ „Menų terapijos centras“  steigėja ir vadovė\, knygų  autorė – Audronė Brazauskaitė.\nKūrybininkė\, menininkė\, reklamos specialistė\, įvairių socialinių projektų vadovė bei iniciatorė\, Kūrybinės lituanistinės mokyklos „GILIUKAI” mokytoja\, dailės terapijos magistrantūros studentė – Gintarė Stokonytė. \n12.00 -14.00 val. LT laiku\nTEMA: „Vaiko saugumas ir identiteto išlaikymas užsienio bendruomenėje/mokykloje”. \nDiskusijos dalyviai:\nValencijos lietuvių bendruomenės valdybos pirmininkė\, virtualios mokyklos „Švyturys” įkūrėja\, vadovė ir mokytoja\, vaikų vasaros stovyklų\, gyvenantiems Ispanijoje\, iniciatorė – Daiva Sruogienė.\nPedagogė\, edukacinių programų ir veiklų vaikų vasaros stovyklose kūrėja ir įgyvendintoja\, pavaduotoja ugdymui Klaipėdos Taurakalnio progimnazijoje – Jolita Benetienė.\nIkimokyklinio\, priešmokyklinio ir pradinio ugdymo mokytoja virtualiose lituanistinėse „Pasaka” ir „Švyturys” – Gabija Ažondenytė. \n15.30 – 17.30 val. LT laiku\nTEMA: „Stiprios mokyklos bendruomenės magija”. \nDiskusijos dalyviai:\nKūrybinės lituanistinės mokyklos „Giliukai” vadovė\, pedagogė\, mokymų specialistė –  Ernesta Kazlauskaitė-Tsakona.\nLietuvių bendruomenės Graikijoje pirmininkė\, teisininkė\, vertėja -Viktorija Gribinaitė-Naki.\nKūrybinės lituanistinės mokyklos „Giliukai” mokytoja – Austėja Linkė.\nVirtualios mokyklos „Pasaka” klientų ir komunikacijos specialistė -Justė Tamašauskienė. \nREGISTRACIJA:\nhttps://forms.gle/ngmn4QsfJX1nAkb3A
URL:https://vakaruvejai.com/renginys/virtuali-diskusiju-konferencija-auginu-vaika-uzsienyje-ka-gauna-seima-lituanistineje-mokykloje/
LOCATION:Virtualus renginys
CATEGORIES:Lietuviški renginiai,Virtualus renginys
ATTACH;FMTTYPE=image/jpeg:https://vakaruvejai.com/wp-content/uploads/2024/09/IMG_8886-scaled.jpg
END:VEVENT
BEGIN:VEVENT
DTSTART;TZID=America/Los_Angeles:20230304T093000
DTEND;TZID=America/Los_Angeles:20230304T101500
DTSTAMP:20260423T131335
CREATED:20230301T155430Z
LAST-MODIFIED:20230301T155430Z
UID:23868-1677922200-1677924900@vakaruvejai.com
SUMMARY:Lietuvių kalbos viktorina\, San Franciskas
DESCRIPTION:Lietuvių kalbos viktorina (vaikams/jaunuoliams ir suaugusiems)\n1) suaugusieji/tėveliai – 15 min (9:30-9:45)\n2) vaikai – 9:40 – 10:15 \nPrizus dalinsime ir skelbsime kovo 11 šventėje (taip pat SF Genio mokykloje).
URL:https://vakaruvejai.com/renginys/lietuviu-kalbos-viktorina-san-franciskas/
LOCATION:Lituanistinė mokykla „Genys”\, 778 26th Ave\, San Francisco\, CA\, 94121-3614\, United States
CATEGORIES:Lietuviški renginiai,San Franciskas
ATTACH;FMTTYPE=image/jpeg:https://vakaruvejai.com/wp-content/uploads/2023/03/3C9764A3-6B3F-41E2-A174-4D5C0EF16894.jpeg
END:VEVENT
BEGIN:VEVENT
DTSTART;TZID=America/Los_Angeles:20221113T090000
DTEND;TZID=America/Los_Angeles:20221113T100000
DTSTAMP:20260423T131335
CREATED:20221103T020009Z
LAST-MODIFIED:20221103T020009Z
UID:22890-1668330000-1668333600@vakaruvejai.com
SUMMARY:Dvikalbystės nauda gimtosios kalbos išsaugojimo kontekste\, Virtualiai
DESCRIPTION:Kviečiame visus tėvelius\, lituanistinių mokyklų mokytojus ir visus besidominančius dvikalbystės tema į diskusiją \,\,Dvikalbystės nauda gimtosios kalbos išsaugojimo kontekste”.\nDiskusijos moderatorė Loreta Vilkytė\, psichologė\, knygos \,\,Kaip padėti vaikams užaugti dvikalbiams” knygos autorė.\nDiskusijos dalyvės:\n– Dr. Inga Hilbig\, humanitarinių mokslų daktarė\, sociolingvistė iš Vilniaus Universiteto;\n– Marytė Newsom\, Los Andželo Šv. Kazimiero lituanistinės mokyklos direktorė;\n– Aistė Solly\, San Francisko lituanistinės mokyklos \,\,Genys” vadovė\nDalyvės pasidalins savo asmenine patirtimi\, papasakos apie tai\, kas jas motyvavo mokyti vaikus gimtosios kalbos. Taip pat pasidalins įžvalgomis dėl įsitikinimų ir požiūrių įtakos gimtosios kalbos puoselėjimui ir emociniam šeimos stabilumui.\nDiskusijos metu bus kalbama ir apie sėkmingas strategijas bei įrankius\, stiprinančius gimtosios kalbos(-ų) augimą ir ne tik.\nKiekvienas prisijungęs turės galimybę užduoti klausimą ir įsilieti į diskusiją.\nPrisijungti prie diskusijos galėsite paspaudę šią nuorodą:\nhttps://us06web.zoom.us/j/85851134657\nMeeting ID: 858 5113 4657\nDiskusiją organizuoja LR generalinis konsulatas Los Andžele
URL:https://vakaruvejai.com/renginys/dvikalbystes-nauda-gimtosios-kalbos-issaugojimo-kontekste-virtualiai/
LOCATION:virtualiai
CATEGORIES:Lietuviški renginiai,Virtualus renginys
ATTACH;FMTTYPE=image/jpeg:https://vakaruvejai.com/wp-content/uploads/2022/11/313933228_490260819810568_6950965173738823356_n.jpeg
END:VEVENT
BEGIN:VEVENT
DTSTART;TZID=America/Los_Angeles:20220319T060000
DTEND;TZID=America/Los_Angeles:20220319T100000
DTSTAMP:20260423T131335
CREATED:20220311T182356Z
LAST-MODIFIED:20220311T182356Z
UID:20449-1647669600-1647684000@vakaruvejai.com
SUMMARY:Lituanistinio ugdymo forumas\, Virtualus renginys
DESCRIPTION:Maloniai kviečiame dalyvauti jau antrą kartą rengiamame nuotoliniame Lituanistinio ugdymo forume. Renginyje bus siekiama atkreipti Lietuvos visuomenės ir užsienio šalyse gyvenančių tautiečių dėmesį į lituanistinio švietimo užsienio šalyse svarbą.\n\nForumas vyks kovo 19 d.\, šeštadienį nuo 6 val. ryto (Los Andželo laiku)\, 15 val. p.p. (Lietuvos laiku)\, nuotoliniu būdu. Jo tema – „Lietuvių kalbos (ne)perdavimo priežastys – nuo mokslo iki praktikos“.\n\n Registracija dalyvavimui Zoom platformoje vyksta iki kovo 17 d.: https://bit.ly/3uZgEWA\nRenginį taip pat bus galima stebėti Vytauto Didžiojo universiteto Youtube kanale: https://bit.ly/3rX90Kq\n\nFORUMO PROGRAMA: https://bit.ly/LUF-22-programa\nRenginio programoje dėmesys bus skiriamas užsienyje gyvenančių tėvų motyvų dėl lietuvių kalbos perdavimo arba neperdavimo vaikams aptarimui. Pranešimus skaitys mokslininkai ir lituanistinio švietimo praktikai\, kurie dalinsis savo asmeninėmis patirtimis.\nForume taip pat bus siekiama atsakyti į klausimus: kodėl vieniems pavyksta perduoti lietuvių kalbą vaikams\, o kitiems ne? Kokios yra kalbos perdavimo patirtys skirtingose aplinkose? Kas motyvuoja išlaikyti lietuvybę šeimoje ir kaip išmokstama kalbos lietuviškose ir mišriose šeimose?\n\nRENGINĮ ORGANIZUOJA\nVytauto Didžiojo universitetas\nŠvietimo\, mokslo ir sporto ministerija\nUžsienio reikalų ministerija\nSeimo narė Dalia Asanavičiūtė\nLietuvos Respublikos ambasada Italijos Respublikoje\nPasaulio lietuvių bendruomenės Švietimo komisija\nLituanistinių mokyklų asociacija.\nForumą globoja p. Diana Nausėdienė.
URL:https://vakaruvejai.com/renginys/lituanistinio-ugdymo-forumas-virtualus-renginys/
LOCATION:Virtualus renginys
CATEGORIES:Arizona,Hawaii,Lietuviški renginiai,Los Andželas,Nevada,Portlandas,San Diego,San Franciskas,Seattle,Virtualus renginys
ATTACH;FMTTYPE=image/jpeg:https://vakaruvejai.com/wp-content/uploads/2022/03/274146809_10159828479078139_3817613815221045695_n.jpg
END:VEVENT
BEGIN:VEVENT
DTSTART;TZID=America/Los_Angeles:20220219T010000
DTEND;TZID=America/Los_Angeles:20220219T030000
DTSTAMP:20260423T131335
CREATED:20220211T193425Z
LAST-MODIFIED:20220212T011734Z
UID:19920-1645232400-1645239600@vakaruvejai.com
SUMMARY:Kaip padėti vaikams užaugti dvikalbiams? Virtualus renginys
DESCRIPTION:Kaip padėti vaikams užaugti dvikalbiams/daugiakalbiams?\nAntrasis seminarų ciklo „Įkvėpti ir perduoti“ susitikimas vasario 19 d.\, šeštadienį\, 1am – 3am Los Andželo laiku.\n\nSvečiuose – lektorė Loreta Vilkytė: mokytoja\, dviejų vaikų mama. Klaipėdos S. Dacho mokykloje dirbo pedagoginį darbą. 2004 m. išvyko į Jungtinę Karalystę\, kur toliau mokytojavo\, studijavo raidos psichologiją ir aktyviai dalyvavo lituanistėje veikloje. 2014 m. Loreta yra parašiusi knygą „Kaip padėti vaikams užaugti dvikalbiams?“ (perleista 2021 m.). Šiuo metu Loreta su šeima gyvena ir dirba Jorke (York).\n\n● Kokios yra sėkmingos dvikalbystės/daugiakalbystės strategijos?\n● Kaip išsaugoti lietuvių kalbą gyvenant užsienyje?\n● Kaip ir kokias kalbas pasirinkti mišriose šeimose?\n● Kas padeda stiprinti vaikų ir tėvų motyvaciją?\n\nRenginys skirtas tėvams\, gyvenantiems užsienyje ir auginantiems dvikalbius arba daugiakalbius vaikus\, kurių viena iš kalbų yra lietuvių. Labai laukiame jūsų patirčių\, istorijų ir klausimų!\n\nREGISTRACIJA: shorturl.at/vyK78 (iki vasario 16 d. imtinai). Vietų skaičius ribotas. Pirmenybė teikiama RIDIGDO mokyklos tėvams. Užsiregistravę laukite el. laiško su patvirtinimu ir Zoom nuoroda. Daugiau informacijos: sirvaityte90@gmail.com\n\nProjektą finansuoja Lietuvos Švietimo\, mokslo ir sporto ministerija.
URL:https://vakaruvejai.com/renginys/kaip-padeti-vaikams-uzaugti-dvikalbiams-virtualus-renginys/
LOCATION:Virtualus renginys
CATEGORIES:Arizona,Hawaii,Lietuviški renginiai,Los Andželas,Nevada,Portlandas,San Diego,San Franciskas,Seattle,Virtualus renginys
ATTACH;FMTTYPE=image/jpeg:https://vakaruvejai.com/wp-content/uploads/2022/02/273726242_481186157011993_115129639119590742_n.jpg
END:VEVENT
BEGIN:VEVENT
DTSTART;TZID=America/Los_Angeles:20211204T094500
DTEND;TZID=America/Los_Angeles:20211204T110000
DTSTAMP:20260423T131335
CREATED:20211119T080434Z
LAST-MODIFIED:20211119T080434Z
UID:18693-1638611100-1638615600@vakaruvejai.com
SUMMARY:Dvikalbystės ugdymas: privalumai\, iššūkiai ir tapatybės formavimasis\, San Franciskas
DESCRIPTION:Mieli tėveliai ir mokytojai\,\n\nNorime pristatyti ir pakviesti visus į psichologės ir mokytojos\, Justės Ručinskaitės\, parengtą seminarą apie dvikalbystės ugdymą pavadinimu „Dvikalbystės ugdymas: privalumai\, iššūkiai ir tapatybės formavimasis”.\n\n\n\nKada? Šeštadienį\, Gruožio 4 d. – 9:45 – 11:00 val (po himno)\n\nKur? San Francisko Lituanistinėje Mokykloje „Genys”/United Methodist Church Patalpose:\n\n\n19806 Wisteria Street\nCastro Valley\, CA 94546\n\n\n\nLauksime visų tėvelių\, mokytojų ir lietuvių bendruomenės narių!\n\n\n\nSF Genio Komanda
URL:https://vakaruvejai.com/renginys/dvikalbystes-ugdymas-privalumai-issukiai-ir-tapatybes-formavimasis-san-franciskas/
LOCATION:Lituanistinė mokykla „Genys”\, 778 26th Ave\, San Francisco\, CA\, 94121-3614\, United States
CATEGORIES:Lietuviški renginiai,San Franciskas
ATTACH;FMTTYPE=image/png:https://vakaruvejai.com/wp-content/uploads/2021/11/258620470_4542819792465717_3240823463471457212_n.png
END:VEVENT
BEGIN:VEVENT
DTSTART;TZID=America/Los_Angeles:20211028T130000
DTEND;TZID=America/Los_Angeles:20211028T140000
DTSTAMP:20260423T131335
CREATED:20211027T024026Z
LAST-MODIFIED:20211027T024026Z
UID:18350-1635426000-1635429600@vakaruvejai.com
SUMMARY:Dvikalbio/daugiakalbio mokinio vystymasis\, kalbos raida ir ugdymo ypatumai. 10-oji virtuali paskaita
DESCRIPTION:Kviečiame visus Lituanistinių mokyklų mokytojus į 10-ąją virtualią paskaitą.\nŠio susitikimo metu nagrinėsime dvikalbio/daugiakalbio mokinio kalbos raidos vystymosi ypatumus ir pasidalinsime praktiniais patarimais kaip galima padėti mokiniams visapusiškai augti ir tobulėti įvairiose kalbinėse erdvėse. Susitikimo metu pasidalinsime praktiniais patarimais kaip padėti mokiniams atrasti ir suprasti dvikalbystės privalumus\, susiejant tai su lietuviška tapatybe. \nPaskaitą ves Aistė Siaurytė Solly. Ji yra San Francisko Lituanistinės Mokyklos vadovė ir ilgametė mokytoja. Aistė dirba specialaus pedagogo darbą San Francisko įlankos vietovėje ir domisi dvikalbystės/daugiakalbystės ugdymu. Aistės šeimoje yra kalbama trimis kalbomis(angliškai\, lietuviškai ir ispaniškai). Šiuo metu pranešėja neakivaizdiniu būdu tęsia kalbos terapeuto /patologo/ logopedo studijas Emerson College\, Boston\, MA. Šią vasarą Aistė turėjo galimybę tobulintis Vilniaus Universiteto paruoštuose seminaruose\, skirtuose diasporoje gyvenantiems lituanistinio švietimo atstovams ir pasisėmė daug naudingos informacijos. Aistės seminarai yra pritaikyti diasporos švietimo atstovams\, suteikiant galimybę gvildenti aktualius neformalaus lituanistinio švietimo įstaigų iššūkius ir klausimus \n  \nVirtualios paskaitos data ir laikas: \n2021 m. Spalio 28 d. ketvirtadienį: \nLT laiku – 20 val \nJAV PST laiku 10:00 val. \nJAV EST laiku – 13:00 val. \nPrisijungimo informacija: \nhttps://zoom.us/j/92115138045\nMeeting ID: 921 1513 8045 \nJAV LB Švietimo taryba
URL:https://vakaruvejai.com/renginys/dvikalbio-daugiakalbio-mokinio-vystymasis-kalbos-raida-ir-ugdymo-ypatumai-10-oji-virtuali-paskaita/
LOCATION:Virtualus renginys
CATEGORIES:Arizona,Hawaii,Lietuviški renginiai,Los Andželas,Nevada,Portlandas,San Diego,San Franciskas,Seattle,Virtualus renginys
ATTACH;FMTTYPE=image/jpeg:https://vakaruvejai.com/wp-content/uploads/2021/10/62472086-1A9B-42F5-B912-0C0C1F8561FF.jpeg
END:VEVENT
END:VCALENDAR