BEGIN:VCALENDAR
VERSION:2.0
PRODID:-//Vakarų Vėjai - ECPv6.15.3//NONSGML v1.0//EN
CALSCALE:GREGORIAN
METHOD:PUBLISH
X-WR-CALNAME:Vakarų Vėjai
X-ORIGINAL-URL:https://vakaruvejai.com
X-WR-CALDESC:Vakarų Vėjai renginiai
REFRESH-INTERVAL;VALUE=DURATION:PT1H
X-Robots-Tag:noindex
X-PUBLISHED-TTL:PT1H
BEGIN:VTIMEZONE
TZID:America/Los_Angeles
BEGIN:DAYLIGHT
TZOFFSETFROM:-0800
TZOFFSETTO:-0700
TZNAME:PDT
DTSTART:20220313T100000
END:DAYLIGHT
BEGIN:STANDARD
TZOFFSETFROM:-0700
TZOFFSETTO:-0800
TZNAME:PST
DTSTART:20221106T090000
END:STANDARD
END:VTIMEZONE
BEGIN:VEVENT
DTSTART;TZID=America/Los_Angeles:20221105T090000
DTEND;TZID=America/Los_Angeles:20221105T140000
DTSTAMP:20260423T160345
CREATED:20221012T021138Z
LAST-MODIFIED:20221012T021333Z
UID:22731-1667638800-1667656800@vakaruvejai.com
SUMMARY:Talka ir Vėlinių paminėjimas lietuvių kapinėse\, Roslyn\, WA
DESCRIPTION:LT \n2022 m. lapkričio 5 d. Portlando lietuvių bendruomenė organizuoja talką palaikydama Kittitos apygardos lietuvių klubą. Projekto tikslas\, sutvarkyti kai kuriuos nykstančius kapus. Darbo kapinėse tikrai yra daug\, tad pagalba labai reikalainga. \nDirbsime nuo 9 val iš ryto iki 2 val. po pietų. \nTuo pačiu prisijungtume prie Seattlo LB organizuojamų „Vėlinių”\, kurios bus švenčiamos kapinėse 3 val. po pietų. \nJiegu turite klausimų\, prašome\, kreiptis į Vilių Žalpį 360-608-2258 arba zalpiai999@aol.com \nRekomenduojame pasirupinti nakvyne iš anksto. \nProjekto rėmėjas-  Lietuvių Fondas \n \nEN \nOn Nov. 5\, 2022  The  Portland Lithuanain Community will support the Kittitas County Lithuanians Club with a Talka (community work day) to help repair  some detreating graves with a Grant from the Lithuanian Foundation Inc. We will add more projects if a larger group show up. \nWe will work from 9 AM to 2 PM stopping one hour or more prior to Seattles „All Souls Day” celebration at 3 PM. \nWe recommend plan to stay overnight\, please book your accommodation in advance. \nAny questions can be forwarded to Vilius Zalpys 360-608-2258 or zalpiai999@aol.com
URL:https://vakaruvejai.com/renginys/talka-lietuviu-kapinese-roslyn-wa/
LOCATION:Roslyn cemetery\, Memorial Drive\, Roslyn\, WA\, 98941
CATEGORIES:Seattle
ATTACH;FMTTYPE=image/jpeg:https://vakaruvejai.com/wp-content/uploads/2022/10/251873361_4680035978683548_1292800809396528.183507.jpeg
END:VEVENT
BEGIN:VEVENT
DTSTART;TZID=America/Los_Angeles:20220614T180000
DTEND;TZID=America/Los_Angeles:20220614T200000
DTSTAMP:20260423T160345
CREATED:20220612T064323Z
LAST-MODIFIED:20220612T064323Z
UID:21810-1655229600-1655236800@vakaruvejai.com
SUMMARY:Gedulo ir Vilties bei Okupacijos diena\, Portlandas
DESCRIPTION:1941 m. birželio 14 d. 3 val. nakties Sovietų NKVD pradėjo masinius lietuvių areštus ir trėmima į Sibirą. Per vieną savaitę iš Lietuvos buvo išvežta apie 18\,500 Lietuvos piliečių. Is viso į Sibirą buvo ištremta daugiau nei 300\,000 Lietuvos piliečių. \nBirželio 14d. paskelbta Gedulo ir Vilties bei Okupacijos diena. Kviečiame visus galinčius prisijungti ir pagerbti žuvusiujų tremtyje atminimą. \n„…didžių dalykų padarė man Visagalis\, kurio vardas šventas. Per kartų kartas Jis gailestingas tiems\, kurie Jo klauso…” (Luko 1:47\, Švč. M. Marijos giesmė). \nPrograma: \nRenkamės antradienį birželio 14 dieną\, 18 val. prie lietuvių koplytstulpio\, esančio Grotto parke. \n-Padainuosime tremtinių dainas\, pasidalinsime istorijomis.
URL:https://vakaruvejai.com/renginys/gedulo-ir-vilties-bei-okupacijos-diena-portlandas/
LOCATION:The Grotto Portland\, 8840 NE Skidmore\, Portland\, OR\, 97220\, United States
CATEGORIES:Lietuviški renginiai,Portlandas
ATTACH;FMTTYPE=image/png:https://vakaruvejai.com/wp-content/uploads/2022/06/Untitled.093107.png
END:VEVENT
END:VCALENDAR