BEGIN:VCALENDAR
VERSION:2.0
PRODID:-//Vakarų Vėjai - ECPv6.15.3//NONSGML v1.0//EN
CALSCALE:GREGORIAN
METHOD:PUBLISH
X-ORIGINAL-URL:https://vakaruvejai.com
X-WR-CALDESC:Vakarų Vėjai renginiai
REFRESH-INTERVAL;VALUE=DURATION:PT1H
X-Robots-Tag:noindex
X-PUBLISHED-TTL:PT1H
BEGIN:VTIMEZONE
TZID:America/Los_Angeles
BEGIN:DAYLIGHT
TZOFFSETFROM:-0800
TZOFFSETTO:-0700
TZNAME:PDT
DTSTART:20200308T100000
END:DAYLIGHT
BEGIN:STANDARD
TZOFFSETFROM:-0700
TZOFFSETTO:-0800
TZNAME:PST
DTSTART:20201101T090000
END:STANDARD
END:VTIMEZONE
BEGIN:VEVENT
DTSTART;TZID=America/Los_Angeles:20201108T080000
DTEND;TZID=America/Los_Angeles:20201108T090000
DTSTAMP:20260423T174905
CREATED:20201022T021334Z
LAST-MODIFIED:20201106T175248Z
UID:13874-1604822400-1604826000@vakaruvejai.com
SUMMARY:JAV Lietuvių Jaunimo Sąjungos Suvažiavimas - Virtualus
DESCRIPTION:Labas! We are excited to host our annual Suvaziavimas! We will have a great program\, including elections for our Board. \n\nMembers\, who have not yet paid annual dues\, can pay $25 to participate and vote in the elections. Members who have paid annual dues\, please email us at javljsvaldyba@gmail.com for the Zoom registration link.\n(Members must be between the ages of sixteen (16) and thirty-five (35)\, inclusive; and of Lithuanian descent\, meaning that they trace their ancestry to at least one ancestor\, who was born in Lithuania\, or married to any person of Lithuanian descent.)\n\n\nNon-members are welcome to participate\, as well\, and they can pay $10.\n\n\nClick here to pay the members’ or non-members’ rates:\nhttps://www.paypal.com/donate?hosted_button_id=XD3A9Q6GUTEWS\n\n\nThen\, you will be directed to the Zoom registration link.\n\n\nAciu!\n\nWe are grateful to The Lithuanian Foundation (Lietuviu Fondas) for sponsoring our event!
URL:https://vakaruvejai.com/renginys/jav-lietuviu-jaunimo-sajungos-suvaziavimas-virtualus/
LOCATION:Virtualus renginys
CATEGORIES:Arizona,Hawaii,Lietuviški renginiai,Los Andželas,Nevada,Portlandas,San Diego,San Franciskas,Seattle,Virtualus renginys
ATTACH;FMTTYPE=image/jpeg:https://vakaruvejai.com/wp-content/uploads/2020/10/safe_image.jpg
END:VEVENT
END:VCALENDAR