BEGIN:VCALENDAR
VERSION:2.0
PRODID:-//Vakarų Vėjai - ECPv6.15.3//NONSGML v1.0//EN
CALSCALE:GREGORIAN
METHOD:PUBLISH
X-ORIGINAL-URL:https://vakaruvejai.com
X-WR-CALDESC:Vakarų Vėjai renginiai
REFRESH-INTERVAL;VALUE=DURATION:PT1H
X-Robots-Tag:noindex
X-PUBLISHED-TTL:PT1H
BEGIN:VTIMEZONE
TZID:America/Los_Angeles
BEGIN:DAYLIGHT
TZOFFSETFROM:-0800
TZOFFSETTO:-0700
TZNAME:PDT
DTSTART:20200308T100000
END:DAYLIGHT
BEGIN:STANDARD
TZOFFSETFROM:-0700
TZOFFSETTO:-0800
TZNAME:PST
DTSTART:20201101T090000
END:STANDARD
BEGIN:DAYLIGHT
TZOFFSETFROM:-0800
TZOFFSETTO:-0700
TZNAME:PDT
DTSTART:20210314T100000
END:DAYLIGHT
BEGIN:STANDARD
TZOFFSETFROM:-0700
TZOFFSETTO:-0800
TZNAME:PST
DTSTART:20211107T090000
END:STANDARD
BEGIN:DAYLIGHT
TZOFFSETFROM:-0800
TZOFFSETTO:-0700
TZNAME:PDT
DTSTART:20220313T100000
END:DAYLIGHT
BEGIN:STANDARD
TZOFFSETFROM:-0700
TZOFFSETTO:-0800
TZNAME:PST
DTSTART:20221106T090000
END:STANDARD
BEGIN:DAYLIGHT
TZOFFSETFROM:-0800
TZOFFSETTO:-0700
TZNAME:PDT
DTSTART:20230312T100000
END:DAYLIGHT
BEGIN:STANDARD
TZOFFSETFROM:-0700
TZOFFSETTO:-0800
TZNAME:PST
DTSTART:20231105T090000
END:STANDARD
BEGIN:DAYLIGHT
TZOFFSETFROM:-0800
TZOFFSETTO:-0700
TZNAME:PDT
DTSTART:20240310T100000
END:DAYLIGHT
BEGIN:STANDARD
TZOFFSETFROM:-0700
TZOFFSETTO:-0800
TZNAME:PST
DTSTART:20241103T090000
END:STANDARD
BEGIN:DAYLIGHT
TZOFFSETFROM:-0800
TZOFFSETTO:-0700
TZNAME:PDT
DTSTART:20250309T100000
END:DAYLIGHT
BEGIN:STANDARD
TZOFFSETFROM:-0700
TZOFFSETTO:-0800
TZNAME:PST
DTSTART:20251102T090000
END:STANDARD
END:VTIMEZONE
BEGIN:VEVENT
DTSTART;TZID=America/Los_Angeles:20250208T160000
DTEND;TZID=America/Los_Angeles:20250208T180000
DTSTAMP:20260423T163039
CREATED:20250117T064615Z
LAST-MODIFIED:20250201T083230Z
UID:28190-1739030400-1739037600@vakaruvejai.com
SUMMARY:Vasario 16-osios šventė/Celebration of Lithuanian state restoration day\, Sietlas
DESCRIPTION:LT\n\n\nVašingtono valstijos Amerikos Lietuvių Bendruomenės skyrius maloniai kviečia Jus švęsti Lietuvos Valstybės Atkūrimo Dieną (Vasario 16-ąją) ir Lietuvos Nepriklausomybės Atkūrimo Dieną (Kovo 11-ąją).. Pagrindiniu renginio pranešėju bus Kęstutis Daugirdas – kompozitorius\, prodiuseris\, atlikėjas\, chorų vadovas ir pedagogas. Prisijunkite prie mūsų įkvepiančiam ir informatyviam vakarui. Kęstučio pranešimo tema – „Kūrybiškumas ir bendruomeniškumas Lietuvos dainų švenčių kontekste“.\nŠventėje taip pat pasirodys mūsų talentingos bendruomenės šokių grupės ir choras\, kurie atliks tradicines lietuviškas dainas ir šokius\, pabrėždami mūsų kultūros grožį.\nTai puiki proga susitikti su draugais\, šeima ir Amerikos lietuvių bendruomenės nariais\, pagerbiant šią svarbią dieną.\nKada: Vasario 8 d.\, 16:15 val.Kelintą valandą: bendruomenės nuotrauka bus daroma 16:15\, o programa prasidės 16:30.Kur: Sietlo latvių centras\, 11710 3rd Ave. NE\, Seattle\, WA 98125Ką atsinešti: Prašome atsinešti gardžių vaišių patiekalą\, kuriuo galėtumėte pasidalinti.Įėjimas: 25 USD suaugusiems (nuo 18 metų). Vaikams – nemokamai.Bilietus galite įsigyti iš anksto čia: https://www.lacwastate.com\n\n\nEN\n\nWashington state chapter of the American Lithuanian community cordially invites you to celebrate Restoration of the Lithuanian State (Vasario 16-oji) and the Restoration of Lithuanian Independence (Kovo 11-oji).. Our keynote note speaker will be Kęstutis Daugirdas\, a composer\, producer\, performer\, choral director\, and educator. Join us for what’s sure to be an informative evening. Kęstutis’s keynote address is titled „Creativity and Community in the Context of Lithuanian Song Festivals”.\nThe celebration will feature special performances by our talented community dance groups and choir\, showcasing traditional Lithuanian music and dances that highlight the beauty of our heritage.\nThis is a wonderful opportunity to connect with friends\, family\, and fellow members of the Lithuanian-American community as we honor this significant day.\nWhen: February 8thWhat time: we will start with a community group photo at 4:15pm\, the program will start at 4:30Where: Seattle Latvian Center\, 11710 3rd Ave. NE\, Seattle\, WA 98125What to Bring: Please bring a generous dish to share.Admission: $25 for adults 18 and over. Children are free.You can purchase your admission tickets in advance here: https://www.lacwastate.com
URL:https://vakaruvejai.com/renginys/vasario-16-osios-svente-celebration-of-lithuanian-state-restoration-day-sietlas/
LOCATION:Sietlo latvių centras\, 11710 3rd Ave.\, Seattle\, WA\, 98125
CATEGORIES:Lietuviški renginiai,Seattle
ATTACH;FMTTYPE=image/jpeg:https://vakaruvejai.com/wp-content/uploads/2025/01/475429508_1018875923598078_2864903457507933005_n.jpeg
ORGANIZER;CN="Seattle Lithuanian Community/Seattle Lietuvi%C5%B3 Bendruomen%C4%97":MAILTO:seattlelb.president@gmail.com
END:VEVENT
BEGIN:VEVENT
DTSTART;TZID=America/Los_Angeles:20240309T100000
DTEND;TZID=America/Los_Angeles:20240309T120000
DTSTAMP:20260423T163039
CREATED:20240224T094213Z
LAST-MODIFIED:20240224T094213Z
UID:26152-1709978400-1709985600@vakaruvejai.com
SUMMARY:Tradicinis žygis Kovo 11-ąjai paminėti\, San Diegas
DESCRIPTION:LT\n\nKviečiame visus lietuvius ir jiems prijaučiančius į žygį\, skirtą Lietuvos nepriklausomybės atkūrimo dienai – Kovo 11-ąjai paminėti!\nŽygiuosime Rancho Penasquitos Adobe Loop trail\, kuris vingiuoja lyguma ir yra tinkamas mažiems ir dideliems. Atstumas pirmyn-atgal apie 3.1 mylios. Žygiuosime neskubėdami\, o grįžę piknikausime.\nPikniko vaišės suneštinės.\nŽygio spalvos – geltona\, žalia ir raudona\nRenkamės kovo 9 d. 10 val. ryto parkavimo aikštelėje\nAdresas:\nRancho Penasquitos Adobe Loop\nhttps://www.alltrails.com/…/rancho-penasquitos-adobe…\nJeigu kyla klausimų\, rašykite žinutę per fb Vitalija Ar\nIki greito!\n\nEN\n\nLet’s celebrate 11th of March – Restoration of Independence Day of Lithuania together! We will hike the Rancho Penasquitos Adobe Loop Trail. This trail is easy and suitable for everyone. Trail length is 3.1 miles round. We will walk slowly and will have picnic at the end. Bring your favorite picnic dish to share.\nColor code of the hike – yellow\, green and red. Please come dressed in your best Lithuanian attire.\nTime:\nMarch 9\n10 am at the parking lot\nLocation:\nRancho Penasquitos Adobe Loop\nhttps://www.alltrails.com/…/rancho-penasquitos-adobe…
URL:https://vakaruvejai.com/renginys/tradicinis-zygis-kovo-11-ajai-pamineti-san-diegas/
LOCATION:Rancho Penasquitos Adobe Loop
CATEGORIES:Lietuviški renginiai,San Diego
ATTACH;FMTTYPE=image/jpeg:https://vakaruvejai.com/wp-content/uploads/2024/02/426366901_10218503225250356_6352421260298176304_n.jpeg
END:VEVENT
BEGIN:VEVENT
DTSTART;TZID=America/Los_Angeles:20240303T130000
DTEND;TZID=America/Los_Angeles:20240303T150000
DTSTAMP:20260423T163039
CREATED:20240115T205638Z
LAST-MODIFIED:20240115T205801Z
UID:25840-1709470800-1709478000@vakaruvejai.com
SUMMARY:Vasario 16-osios - Lietuvos valstybės atkūrimo dienos ir Kovo 11-osios - Lietuvos nepriklausomybės atkūrimo dienos minėjimas\, Los Andželas
DESCRIPTION:Minėjimas vyks Šv. Kazimiero parapijos salėje/The event will take place at St. Casimir’s parish hall 2718 St. George Str.\, \, Los Angeles\, CA 90027. \nMinėjimo organizatoriai JAV Lietuvių bendruomenė Los Andželo apylinkė/ The event is organized by Lithuanian American Community Los Angeles Chapter. \nRėmėjai/The sponsors: LIETUVIŲ FONDAS IR JAV LIETUVIŲ BENDRUOMENĖ
URL:https://vakaruvejai.com/renginys/vasario-16-osios-lietuvos-valstybes-atkurimo-dienos-ir-kovo-11-osios-lietuvos-nepriklausomybes-atkurimo-dienos-minejimas-los-andzelas/
LOCATION:Šv. Kazimiero parapija\, 2716 St. George St.\, Los Angeles\, CA\, 90027
CATEGORIES:Lietuviški renginiai,Los Andželas
ATTACH;FMTTYPE=image/jpeg:https://vakaruvejai.com/wp-content/uploads/2024/01/AFE7D958-D334-41EA-AB61-AD1A17826696.jpeg
END:VEVENT
BEGIN:VEVENT
DTSTART;TZID=America/Los_Angeles:20230312T090000
DTEND;TZID=America/Los_Angeles:20230312T123000
DTSTAMP:20260423T163039
CREATED:20230310T052216Z
LAST-MODIFIED:20230310T052216Z
UID:23886-1678611600-1678624200@vakaruvejai.com
SUMMARY:Lietuvos Nepriklausomybės Žygis\, Arizona
DESCRIPTION:LT\n\nArizonos Lietuvių Bendruomenė kviečia visus lietuvius su šeimomis\, vaikais ir draugais į Kovo 11-osios pagarbos žygį Lietuvos Nepriklausomybės Atkūrimo dienos progai paminėti.\n\nSusitikimo Vieta: Gateway\, 18333 N. Thompson Peak Pkwy. Scottsdale\, AZ 85255\nLaikas: Kovo 12d. (sekmadienį) 9 valandą.\nPapildoma informacija: Labai norėtume\, kad visi dalyviai atsineštų lietuviškos atributikos (nepamirškite lietuviškų vėliavėlių!) ir visi apsirengtume lietuviškom spalvom! Siūlome avėti patogius batus ir atsinešti pakankamai vandens. Renginys yra nemokamas. Kviečiame atsinešti užkandį pasivaišinimui ir pasidalinti su draugais ir šeimomis po žygio.\nŽygio statistika:\n– Pavadinimas: Gateway Loop\n– Atstumas: 4\,4 mylios\n– Sunkumo lygis: lengvas/vidutinis\n– Trukmė: 2-2.5 val. plius ~ 1 valanda pabendravimui.\n\nRenginį organizuoja: Arizonos Lietuvių Bendruomenė\nRENGINYS NEMOKAMAS.\n\nEN\n\nLithuanian American Community of Arizona is inviting all Lithuanians\, friends\, families and kids to hike in celebration of the March 11th\, the Day of Restoration of Independence of Lithuania.\n\nLocation: Gateway\, 18333 N. Thompson Peak Pkwy. Scottsdale\, AZ 85255\nTime & Date: March 12th\, 2023 (Sunday) at 9:00am\nAdditional information: We would like to ask all participants to bring Lithuanian accessories\, flags\, wear Lithuanian colors! Please come wearing comfortable hiking shoes and bring plenty of water.\nThe event is free. Please bring a small appetizer to share with friends and families after the hike.\nAbout the hike:\n– Name: Gateway Loop\n– Distance: 4.4 miles\n– Category: easy/moderate\n– Completion time: 2-2.5 hours plus one for socializing.\n\nThe even is organized by Arizona Lithuanian American Community.\nTHE EVENT IS FREE.
URL:https://vakaruvejai.com/renginys/lietuvos-nepriklausomybes-zygis-arizona/
LOCATION:Gateway Loop Trail Mcdowell Sonoran Preserve
CATEGORIES:Arizona,Lietuviški renginiai
ATTACH;FMTTYPE=image/jpeg:https://vakaruvejai.com/wp-content/uploads/2023/03/329254666_200395795916419_6081369392265601576_n.jpeg
END:VEVENT
BEGIN:VEVENT
DTSTART;TZID=America/Los_Angeles:20230309T080000
DTEND;TZID=America/Los_Angeles:20230309T170000
DTSTAMP:20260423T163039
CREATED:20230310T053814Z
LAST-MODIFIED:20230310T053814Z
UID:23890-1678348800-1678381200@vakaruvejai.com
SUMMARY:Kovo 11-osios minėjimas Las Vegase
DESCRIPTION:LT\n\nMieli Las Vego Lietuviai\,\n\nGarbės konsulė Astra Michels kviečia jus atšvęsti Lietuvos Neprikausomybės atkūrimo dieną sekmadienį\, kovo 12d.\, 2023 nuo 3-5pm. Priėmimas bus pas Vic’s Italian Jazz Bistro:\n355 Promenade Place #150 (prieš Smith Center).\n\nPrašome pranešti apie dalyvavimą iki kovo 7d. e-paštu:\nastramichels@yahoo.com arba telefonu: (702)892-0499.\n\n\nIKI GREITO SUSITIKIMO!\n\nEN\n\n\nDear Las Vegas Lithuanians\,\n\nThe Honorary Consul of Lithuania in Las Vegas\, Astra Michels\, requests the pleasure of your company to celebrate the restoration of Lithuania’s independence on Sunday\, March 12\, 2023 from 3-5pm. The reception will take place at Vic’s Italian Jazz Bistro:\n355 Promenade Place\, #150 (next to the Smith Center).\n\nPlease RSVP your attendance by March 7 by email:\nastramichels@yahoo.com or by telephone: (702)892-0499.\n\n\n\nHOPE TO SEE YOU THERE!!!
URL:https://vakaruvejai.com/renginys/kovo-11-osios-minejimas-las-vegase/
LOCATION:WA
CATEGORIES:Lietuviški renginiai,Nevada
ATTACH;FMTTYPE=image/png:https://vakaruvejai.com/wp-content/uploads/2023/03/Screen-Shot-2023-03-09-at-9.37.50-PM.png
END:VEVENT
BEGIN:VEVENT
DTSTART;TZID=America/Los_Angeles:20230212T090000
DTEND;TZID=America/Los_Angeles:20230212T120000
DTSTAMP:20260423T163039
CREATED:20230209T154536Z
LAST-MODIFIED:20230209T154555Z
UID:23639-1676192400-1676203200@vakaruvejai.com
SUMMARY:105 Years of Restored Lithuania\, Los Andželas
DESCRIPTION:Come join us for an adventurous morning with the group of LABA.LA\, LWAC\, Consulate General of Lithuania in LA and Lithuanian Community enthusiasts for a hike\, picnic and the raising of a Lithuanian flag at Eagle Rock on Sunday 12 Feb at 9am. Enjoy its unique craggy surface and panoramic views! \nEagle Rock is one of the most exciting hiking destinations in Topanga State Park! Besides picturesque trail\, good company\, interesting chats & fun after it\, we will commemorate 105 years of the RESTORED LITHUANIA [2-16-1918] and celebrate it together by joining this initiative 🇱🇹 \nPlease feel free to forward this invitation to beloved ones and hiking enthusiasts! 🥾 \nFollow info below:\n-Meeting time: 9am at the parking lot of Topanga National park close to the main Information stand near by the restrooms.\n-Bring smile\, good mood\, water\, picnic\, sun protection\, comfortable walking shoes and a Lithuanian flag\n– The hike will take around 45min [level-easy]
URL:https://vakaruvejai.com/renginys/105-years-of-restored-lithuania-los-andzelas/
LOCATION:20828 Entrada Rd\, Topanga\, CA 90290-3528\, United States
CATEGORIES:Lietuviški renginiai,Los Andželas
ATTACH;FMTTYPE=image/jpeg:https://vakaruvejai.com/wp-content/uploads/2023/02/FA6C8431-C1AF-4A95-AB24-3FD14C434BE9.jpeg
END:VEVENT
BEGIN:VEVENT
DTSTART;TZID=America/Los_Angeles:20200314T130000
DTEND;TZID=America/Los_Angeles:20200314T150000
DTSTAMP:20260423T163039
CREATED:20200228T082921Z
LAST-MODIFIED:20200313T164024Z
UID:11605-1584190800-1584198000@vakaruvejai.com
SUMMARY:M. Briedžio koncertas LT Nepriklausomybės atkūrimo dienos proga\, San Diego
DESCRIPTION:Paminėti Lietuvos Nepriklausomybės atkūrimą\, paklausyti ir pakalbėti kviečia Mindaugas Briedis ir draugai.\nKovo 14 dieną San Diego lietuvių bendruomenėje svečiuosis bardas ir keliaujantis filosofijos daktaras Mindaugas Briedis. Jis yra dirbęs San Diego National ir Memfio universitetuose\, koncertavęs įvairiose JAV valstijose\, o dabar vėl Lietuvoje. Mindaugas Briedis\, kartu su draugais\, atliks specialiai šiai kelionei apgalvotą programą\, kur persipins visai naujo dvigubo albumo “Pirmas buvo paskutinis” pristatymas (bus galima įsigyti CD)\, skambės dainuojamosios poezijos improvizacijos\, šmaikščios\, bet ne lėkštos prakalbos\, juokas ir rimtis bei Lietuvos vardas. Kartu paminėsime Kovo 11!\nKartu su Mindaugu koncerte pasirodys profesionalus džiazo saksofonistas Rafal Jackievič\, o muzikinę atmosferą padės sukurti garso režisierius Mantas Tamulionis.\nSvečiai nuoširdžiai laukia susitikimo su San Diego lietuvių bendruomene. \nBendruomenė parūpins kavos\, užkandžiai suneštiniai. \nBilieto kana: $20 \nBilietus pirkti per eventbrite: https://www.eventbrite.com/e/mbriedzio-koncertas-lt-nepriklausomybes-atkurimo-dienos-proga-tickets-90909975183 \n****************************************************\nMindaugas Briedis\, a bard and traveling doctor of philosophy\, will be visiting the San Diego Lithuanian community. He has worked at San Diego National and Memphis Universities\, has given concerts in various US states\, and is now back in Lithuania. Mindaugas Briedis and his friends will perform a program specially designed for this trip\, featuring the presentation of a brand new double album „First Was the Last” (available on CD)\, singing poetry improvisations\, witty but not shy speech\, laughter and serenity name. Together we will celebrate March 11!\nProfessional jazz saxophonist Rafal Jackievič will perform with Mindaugas at the concert\, and sound director Mantas Tamulionis will help create the musical atmosphere. \nGuests sincerely look forward to meeting the San Diego Lithuanian community. \nThe community will provide coffee. Please\, bring a dish to share. \n$20 per ticket. \nPurchase tickets on Eventbrite: https://www.eventbrite.com/e/mbriedzio-koncertas-lt-nepriklausomybes-atkurimo-dienos-proga-tickets-90909975183
URL:https://vakaruvejai.com/renginys/m-briedzio-koncertas-lt-nepriklausomybes-atkurimo-dienos-proga/
LOCATION:1197 Whispering Water Dr\, San Marcos\, CA 92078
CATEGORIES:Lietuviški renginiai,San Diego
ATTACH;FMTTYPE=image/jpeg:https://vakaruvejai.com/wp-content/uploads/2020/02/83123979_10222852576648801_7320844207835316224_o.jpg
END:VEVENT
BEGIN:VEVENT
DTSTART;TZID=America/Los_Angeles:20200306T170000
DTEND;TZID=America/Los_Angeles:20200306T200000
DTSTAMP:20260423T163039
CREATED:20200218T061843Z
LAST-MODIFIED:20200220T154332Z
UID:11431-1583514000-1583524800@vakaruvejai.com
SUMMARY:Lithuanian Independance Day celebration with Roslyn Lithuanians\, WA
DESCRIPTION:Mieli Portlando ir Seattlo bendruomės nariai\, \nNorime pakviesti Jus\, į Portlando ir Roslyno lietuvių organizuojamą Lietuvos Respublikos Nepriklausomybės atkūrimo dienos minėjimą. \nPrograma:\n– Atidarymas – Lietuvos ir JAV himnų giedojimas\n– Sveikinimo žodžiai\n– Prelegentas: Vidmantas Valiušaitis – Lietuvos filologas\, žurnalistas\, publicistas\, politikos ir kultūros apžvalgininkas\, redaktorius ir visuomenės veikėjas. \nVaišės suneštinės\, prašome atsinešti savo megstamus gėrimus. \n**********\nDear Portland and Seattle community members\, \nWe would like to invite you to join Roslyn Lithuanians to celebrate Lithuanian Independence Day. \nProgram: \n– Opening with singing go the National Anthems of Lithuania and USA\n– Greetings\n– Keynote speaker: Vidmantas Valiušaitis – Lithuanian philologist\, journalist\, publicist\, political and cultural reviewer\, editor and public figure. \nCommunity potluck\, bring a main dish and dessert. Bring your own favorite drinks.
URL:https://vakaruvejai.com/renginys/lithuanian-independance-day-celebration-with-roslyn-lithuanians/
LOCATION:304 N 2nd St\, Roslyn\, WA 98941-5813\, United States\, 304 N 2nd St\, Roslyn\, WA\, 98941\, Jungtinės Amerikos Valstijos
CATEGORIES:Lietuviški renginiai,Portlandas,Seattle
ATTACH;FMTTYPE=image/jpeg:https://vakaruvejai.com/wp-content/uploads/2020/02/Portland.jpg
END:VEVENT
END:VCALENDAR