BEGIN:VCALENDAR
VERSION:2.0
PRODID:-//Vakarų Vėjai - ECPv6.15.3//NONSGML v1.0//EN
CALSCALE:GREGORIAN
METHOD:PUBLISH
X-ORIGINAL-URL:https://vakaruvejai.com
X-WR-CALDESC:Vakarų Vėjai renginiai
REFRESH-INTERVAL;VALUE=DURATION:PT1H
X-Robots-Tag:noindex
X-PUBLISHED-TTL:PT1H
BEGIN:VTIMEZONE
TZID:America/Los_Angeles
BEGIN:DAYLIGHT
TZOFFSETFROM:-0800
TZOFFSETTO:-0700
TZNAME:PDT
DTSTART:20200308T100000
END:DAYLIGHT
BEGIN:STANDARD
TZOFFSETFROM:-0700
TZOFFSETTO:-0800
TZNAME:PST
DTSTART:20201101T090000
END:STANDARD
BEGIN:DAYLIGHT
TZOFFSETFROM:-0800
TZOFFSETTO:-0700
TZNAME:PDT
DTSTART:20210314T100000
END:DAYLIGHT
BEGIN:STANDARD
TZOFFSETFROM:-0700
TZOFFSETTO:-0800
TZNAME:PST
DTSTART:20211107T090000
END:STANDARD
BEGIN:DAYLIGHT
TZOFFSETFROM:-0800
TZOFFSETTO:-0700
TZNAME:PDT
DTSTART:20220313T100000
END:DAYLIGHT
BEGIN:STANDARD
TZOFFSETFROM:-0700
TZOFFSETTO:-0800
TZNAME:PST
DTSTART:20221106T090000
END:STANDARD
BEGIN:DAYLIGHT
TZOFFSETFROM:-0800
TZOFFSETTO:-0700
TZNAME:PDT
DTSTART:20230312T100000
END:DAYLIGHT
BEGIN:STANDARD
TZOFFSETFROM:-0700
TZOFFSETTO:-0800
TZNAME:PST
DTSTART:20231105T090000
END:STANDARD
BEGIN:DAYLIGHT
TZOFFSETFROM:-0800
TZOFFSETTO:-0700
TZNAME:PDT
DTSTART:20240310T100000
END:DAYLIGHT
BEGIN:STANDARD
TZOFFSETFROM:-0700
TZOFFSETTO:-0800
TZNAME:PST
DTSTART:20241103T090000
END:STANDARD
BEGIN:DAYLIGHT
TZOFFSETFROM:-0800
TZOFFSETTO:-0700
TZNAME:PDT
DTSTART:20250309T100000
END:DAYLIGHT
BEGIN:STANDARD
TZOFFSETFROM:-0700
TZOFFSETTO:-0800
TZNAME:PST
DTSTART:20251102T090000
END:STANDARD
END:VTIMEZONE
BEGIN:VEVENT
DTSTART;TZID=America/Los_Angeles:20250415T090000
DTEND;TZID=America/Los_Angeles:20250415T113000
DTSTAMP:20260423T131338
CREATED:20250215T175520Z
LAST-MODIFIED:20250301T014646Z
UID:28459-1744707600-1744716600@vakaruvejai.com
SUMMARY:Virtuali konferencija "VIENIŠUMAS IŠEIVIJOJE. KIEK KAINUOJA IŠSAUGOTI LIETUVYBĘ?"\, Virtualus renginys
DESCRIPTION:Kviečiame visus lietuvius\, gyvenančius ne Lietuvoje arba planuojančius išvykti\, jungtis į virtualią konferenciją. \nKartu su specialistais aptarsime kiek kainuoja išsaugoti lietuvybę gyvenant toli nuo tėvynės. Kalbėsime apie vienišumą\, bendruomeniškumą\, draugystę\, lietuvybės iššaugojimą\, santykių palaikymą su likusiais artimaisiais Lietuvoje ir dar daug kitų klausimų. \nAr emigracija yra kelias tik į vieną pusę? Pasidalinsime istorijomis apie daug metų toli nuo Lietuvos gyvenančius lietuvius\, pasiryžusius grįžti į Lietuvą. Kalbėsime apie Lietuvos Valstybės programas\, skatinančias grįžimą į Lietuvą. \nKonferencijos organizatorius – LITHUANIAN SISTERS – ne pelno siekianti organizacija\, kurios pagrindinis tikslas yra vienyti lietuves moteris JAV ir kartu vykdyti projektus/programas\, kurios palengvintų moterų socialinę ir kultūrinę adaptaciją išeivijoje. \nKADA: Balandžio 15 dieną 9 AM\nKUR: https://www.eventbrite.com/e/vienisumas-iseivijoje-kiek-kainuoja-issaugoti-lietuvybe-tickets-1232484025899\nKIEK: nemokamai \nPranešėjai:\n– Aistė Solly – mokytoja\, logopedė\, specialiųjų ugdymo poreikių konsultantė\, lituanistinės mokyklos San Franciske vadovė\, emigravusi į JAV būdama 17-os ir jau 25 -erius metus gyvenanti ir kurianti savo gyvenimą Kalifornijoje\, aktyviai puoselėjanti lietuvybę ir skatindama jaunąją kartą išlaikyti ryšį su Lietuva per kalbą ir kultūrą.\n– Giedrė Žalytė – psichologė-psichoterapeutė\, gamtos terapijos gidė\, knygų „GAMTOS TERAPIJA” ir „PRIERAIŠUMO PARADOKSAI” autorė.\n– Aušra Kurienė – psichologė psichoterapeutė\, „PARAMOS VAIKAMS CENTRAS” įkūrėja\, turinti daugiau nei 40 metų patirties dirbant su vaikais ir suaugusiais žmonėmis.\n– Lina Žukauskaitė – LR Užsienio Reikalų Ministerijos Globalios Lietuvos departamento direktorė.\n– Gintarė Kiznienė – ne pelno siekiančios organizacijos „LITHUANIAN SISTERS” įkūrėja\, jau 9-erius metus sėkmingai gyvenanti ir dirbanti JAV.
URL:https://vakaruvejai.com/renginys/virtuali-konferencija-vienisumas-iseivijoje-kiek-kainuoja-issaugoti-lietuvybe-virtualus-renginys/
LOCATION:Virtualus renginys
CATEGORIES:Lietuviški renginiai,Virtualus renginys
ATTACH;FMTTYPE=image/jpeg:https://vakaruvejai.com/wp-content/uploads/2025/02/476633815_122208964094228608_4609442321560012379_n.jpeg
ORGANIZER;CN="Lithuanian Sisters":MAILTO:info@lithuaniansisters.com
END:VEVENT
BEGIN:VEVENT
DTSTART;TZID=America/Los_Angeles:20230216T110000
DTEND;TZID=America/Los_Angeles:20230216T120000
DTSTAMP:20260423T131338
CREATED:20230210T235323Z
LAST-MODIFIED:20230210T235323Z
UID:23733-1676545200-1676548800@vakaruvejai.com
SUMMARY:Vasario 16-oji Vėliavos Pakėlimas / Lithuanian Independence Day Flag-raising Ceremony\, San Franciskas
DESCRIPTION:Vasario 16-tą dieną 11.00AM visi rinkimės prie San Francisko City Hall su Lietuviška atributika\, kur kartu su miesto valdžios atstovais bus iškilmingai iškelta Lietuvos vėliava! \nDalyvius prašome užsiregistruoti:\nhttps://form.jotform.com/230260498984163 \nIšsisaugokite datą ir laiką\, sekite tolesnę informaciją!
URL:https://vakaruvejai.com/renginys/vasario-16-oji-veliavos-pakelimas-lithuanian-independence-day-flag-raising-ceremony-san-franciskas/
LOCATION:San Francisco City Hall steps\, 1 Dr Carlton B Goodlett Pl\, San Francisco\, CA\, 94102
CATEGORIES:Lietuviški renginiai,San Franciskas
ATTACH;FMTTYPE=image/png:https://vakaruvejai.com/wp-content/uploads/2023/02/329703861_490839949793787_4696994411035053172_n.png
END:VEVENT
BEGIN:VEVENT
DTSTART;VALUE=DATE:20220701
DTEND;VALUE=DATE:20220704
DTSTAMP:20260423T131338
CREATED:20220520T173555Z
LAST-MODIFIED:20220520T173555Z
UID:21501-1656633600-1656892799@vakaruvejai.com
SUMMARY:LIETUVIŲ TAUTINIŲ ŠOKIŲ ŠVENTĖ 2022\, FILADELFIJA
DESCRIPTION:Šiaurės Amerikos XVI Lietuvių Tautinių Šokių Šventė vyks Filadelfijoje 2022 m. liepos 1-3 dienomis kur susirinks apie 10\,000 šventės dalyvių\, žiūrovų ir svečių iš viso pasaulio.  Renginio savaitgaliui numatoma koncertų\, meno parodų ir pokylių.  Šventės kulminacija tai sekmadienio\, liepos 3 d. koncertas\, kai lietuviškame šokyje į spalvingą ir dinamišką derinį susilies beveik 2\,000 šokėjų.  Laukiame visų istorinėje Filadelfijoje!
URL:https://vakaruvejai.com/renginys/lietuviu-tautiniu-sokiu-svente-2022-filadelfija/
LOCATION:Liacouras Arena\, 1776 North Broad St.\, Philadelphia\, PA\, 19121
CATEGORIES:Lietuviški renginiai
ATTACH;FMTTYPE=image/jpeg:https://vakaruvejai.com/wp-content/uploads/2022/05/281693294_1131515400753820_2909282459099333482_n.jpg
END:VEVENT
BEGIN:VEVENT
DTSTART;TZID=America/Los_Angeles:20220423T140000
DTEND;TZID=America/Los_Angeles:20220424T110000
DTSTAMP:20260423T131338
CREATED:20220422T233624Z
LAST-MODIFIED:20220422T233624Z
UID:21093-1650722400-1650798000@vakaruvejai.com
SUMMARY:RVR Šv. Jurgio iškyla\, Cleveland
DESCRIPTION:LT \nRVR Šv. Jurgio Iškyla\nFalcon Group\, Cleveland National Forest\nŠeštadienį\, 04/23 2pm iki Sekmadienį\, 04/24 11am\nVisi skautai turi būti paimti iki 11 v.r.\nSusisiekite su savo vadovais jei norite gauti nurodymų ir daugiau informacijos. \nEN \nRVR Šv. Jurgio Iškyla\nFalcon Group\, Cleveland National Forest\nSaturday\, 04/23 2pm – Sunday\, 04/24 11am\nAll scouts must be picked up by 11am.\nContact your vadovai for directions and more information
URL:https://vakaruvejai.com/renginys/rvr-sv-jurgio-iskyla-cleveland/
LOCATION:Falcon Group\, Cleveland National Forest
CATEGORIES:Arizona,Hawaii,Lietuviški renginiai,Los Andželas,Nevada,Portlandas,San Diego,San Franciskas,Seattle
ATTACH;FMTTYPE=image/jpeg:https://vakaruvejai.com/wp-content/uploads/2022/04/278507329_5392129070818393_5292161413461628278_n.jpg
END:VEVENT
BEGIN:VEVENT
DTSTART;TZID=America/Los_Angeles:20220313T100000
DTEND;TZID=America/Los_Angeles:20220313T140000
DTSTAMP:20260423T131338
CREATED:20220303T011935Z
LAST-MODIFIED:20220304T230433Z
UID:20341-1647165600-1647180000@vakaruvejai.com
SUMMARY:11 000 žingsnių žygis Kovo 11-ąjai paminėti / Independence Day Hike\, San Diegas
DESCRIPTION:LT \nKviečiame visus lietuvius ir jiems prijaučiančius į simbolinį 11-os tūkstančių žingsnių žygį\, skirtą Lietuvos nepriklausomybės atkūrimo dienai – Kovo 11-ąjai paminėti! \nŽygiuosime Eagle Rock trail\, kuris vingiuoja lyguma ir yra tinkamas visiems. Atstumas pirmyn atgal apie 6.2 mylios. Žygiuosime neskubėdami ir pakeliui sustosime atsikvėpti.\nPikniko vaišės suneštinės. \nŽygio spalvos – geltona\, žalia ir raudona \nRenkamės kovo 13 d. 10 val. trailo pradžioje \nAdresas:\nEagle Rock Trailhead\nhttps://goo.gl/maps/NSkv4UHpbK2xY7rRA \nJeigu kyla klausimų\, rašykite žinutę per fb Vitalija Ar \nIki greito! \n \nEN \nLet’s celebrate 11th of March – Restoration of Independence Day of Lithuania together! We will hike to Eagle Rock. This trail is nice and easy with some small inclines/declines and suitable for everyone. Trail length is 6.2 miles out and back. We will walk slowly and will stop to rest on the way. Please bring your favorite picnic dishes to share. \nColor code of the hike – yellow\, green and red. Please come dressed in your best Lithuanian attire. \nTime:\n13 March 2022\n10 am at the beginning of the trail. \nLocation:\nEagle Rock Trailhead\nhttps://goo.gl/maps/NSkv4UHpbK2xY7rRA
URL:https://vakaruvejai.com/renginys/vienuolikos-tukstanciu-zingsniu-zygis-san-diego/
LOCATION:Eagle Rock Trailhead\, Pacific Crest Trail\, Warner Springs\, CA\, 92086\, Jungtinės Amerikos Valstijos
CATEGORIES:Lietuviški renginiai,San Diego
ATTACH;FMTTYPE=image/jpeg:https://vakaruvejai.com/wp-content/uploads/2022/03/unnamed.jpg
END:VEVENT
BEGIN:VEVENT
DTSTART;TZID=America/Los_Angeles:20220305T190000
DTEND;TZID=America/Los_Angeles:20220305T210000
DTSTAMP:20260423T131338
CREATED:20220119T175320Z
LAST-MODIFIED:20220304T231909Z
UID:19723-1646506800-1646514000@vakaruvejai.com
SUMMARY:Lietuvos Nepriklausomybės minėjimas / Lithuanian Independence celebration\, Sietlas\, WA
DESCRIPTION:LT \nLietuvos Nepriklausomybės šventė \nSusirinkimo nuoroda: https://washington.zoom.us/j/91314920260 \n\nPrisijunkite švęsti Lietuvos Nepriklausomybę. Pagrindinis pranešėjas – diplomatas ir teisininkas Raimundas Karoblis\, 2016–2020 m. ėjęs krašto apsaugos ministro pareigas. Prieš tai jis buvo užsienio reikalų viceministras. RAIMUNDAS KAROBLIS KALBĖS GYVAI (kalba iš anksto neįrašyta). Taip pat gyvai prie mūsų prisijungs ir LAIMA JUREVIČIENĖ\, Lietuvos Respublikos generalinė konsulė Los Andžele.\n Vakaro programą galite atsisiųsti ČIA ir matyti savo ekranuose.  Jeigu norite programą atsispausdinti\, spauskite ČIA.\n Susirinkimo nuoroda: https://washington.zoom.us/j/91314920260\n\n___ \n\nAmerikos lietuvių bendruomenė (JAVLB) priima aukas ukrainiečių paramai. Informacija čia https://www.javlb.org/Ukraine.\n„Vakarų vėjai“ angliškai ir lietuviškai aprašo septynis dalykus\, kuriuos jau dabar galite padaryti\, norėdami padėti Ukrainai.  Informacija čia https://vakaruvejai.com/2022/02/25/jav-lietuviu-bendruomenes-parama-ukrainai-ir-raginimas-imtis-veiksmu/.\n Amerikos Lietuvių bendruomenės laiško pavyzdį\, skirtą rašyti išrinktiems pareigūnams\, rasite ČIA.\n\n\n*** \nEN \nLithuanian Independence celebration \nMeeting link: https://washington.zoom.us/j/91314920260 \n\nJoin us online to celebrate Lithuania’s Independence.  Keynote speaker is diplomat and lawyer Mr. Raimundas Karoblis\, who served as Lithuania’s Minister of National Defense from 2016-2020.  Before that\, he was vice minister of foreign affairs. MR. KAROBLIS WILL DELIVER HIS PRESENTATION LIVE (not pre-recorded).  Also joining us live will be MRS. LAIMA JUREVIČIENĖ\, Consul General of the Republic of Lithuania in Los Angeles.  \nYou can download a written program for the evening HERE for VIEWING on your screen.  Click HERE to get a written program for BOOKLET PRINTING.\nMeeting link: https://washington.zoom.us/j/91314920260\n\n___ \n\n The Lithuanian American Community (LAC\, in Lithuanian: JAVLB) is accepting donations for Ukrainian support.  See https://www.javlb.org/Ukraine.\n„Vakarų Vėjai” describes in both English and Lithuanian seven things you can do right now to support Ukraine.  See https://vakaruvejai.com/2022/02/25/jav-lietuviu-bendruomenes-parama-ukrainai-ir-raginimas-imtis-veiksmu/.\nA sample letter provided by the LAC for writing to elected officials is available HERE.
URL:https://vakaruvejai.com/renginys/lithuanian-independence-celebration-sietlas-wa/
LOCATION:Virtualus renginys
CATEGORIES:Lietuviški renginiai,Seattle
ATTACH;FMTTYPE=image/png:https://vakaruvejai.com/wp-content/uploads/2022/01/Screen-Shot-2022-01-19-at-9.52.21-AM.png
END:VEVENT
BEGIN:VEVENT
DTSTART;TZID=America/Los_Angeles:20220109T130000
DTEND;TZID=America/Los_Angeles:20220109T150000
DTSTAMP:20260423T131338
CREATED:20211217T171545Z
LAST-MODIFIED:20211217T171545Z
UID:19094-1641733200-1641740400@vakaruvejai.com
SUMMARY:Green Lake Walk to Commemorate Lithuanian Freedom Defenders\, Seattle
DESCRIPTION:LT \nPrisijunkite prie mūsų organizuojamo solidarumo pasivaikščiojimo aplink Greenlake ežerą\, pagerbdami laisvės gynėjus\, žuvusius per sovietų agresijas Lietuvoje 1991 m. sausį. Atsineškite savo Lietuvos vėliavas ir dėvėkite patriotines spalvas.\nSusitikime „Aqua“ teatre pietrytiniame parko kampe.\nApie tuos 1991 metų sausio mėnesio įvykius galite paskaityti čia: https://en.m.wikipedia.org/wiki/January_Events_(Lietuva) \nEN \nJoin us for a casual walk of solidarity around Green Lake as we honor freedom defenders who lost their lives during Soviet aggressions in Lithuania in January 1991. Bring your Lithuanian flags and wear patriotic colors.\nMeet at the Aqua Theater in the southeast corner of the park.\nYou can read about those January 1991 events here: https://en.m.wikipedia.org/wiki/January_Events_(Lithuania)
URL:https://vakaruvejai.com/renginys/green-lake-walk-to-commemorate-lithuanian-freedom-defenders-seattle-2/
LOCATION:Green Lake Aqua Theater\, 5900 W Green Lake Way N\, Seattle\, WA\, 98103
CATEGORIES:Lietuviški renginiai,Seattle
ATTACH;FMTTYPE=image/jpeg:https://vakaruvejai.com/wp-content/uploads/2021/12/268846247_4825998820753929_482568795188886296_n.jpg
ORGANIZER;CN="Seattle Lithuanian Community/Seattle Lietuvi%C5%B3 Bendruomen%C4%97":MAILTO:seattlelb.president@gmail.com
END:VEVENT
BEGIN:VEVENT
DTSTART;TZID=America/Los_Angeles:20211001T060000
DTEND;TZID=America/Los_Angeles:20211001T083000
DTSTAMP:20260423T131338
CREATED:20210922T044231Z
LAST-MODIFIED:20210922T044231Z
UID:17857-1633068000-1633077000@vakaruvejai.com
SUMMARY:Diskusija: “ Kodėl Lietuvai svarbios lituanistinės mokyklos užsienyje?” Virtualiai
DESCRIPTION:URM Globalios Lietuvos departamentas kviečia spalio 1 d. (penktadienį) dalyvauti diskusijoje „Kodėl Lietuvai svarbios lituanistinės mokyklos užsienyje?“. \nDiskusijoje bus keliami klausimai: ką Lietuvai ir lietuvių diasporai reiškia lituanistinės mokyklos užsienyje? koks jų įnašas į diasporos lietuviškosios  tapatybės išlaikymą ir stiprinimą? kiek pažįstame šių mokyklų pasaulį? \nŠis metų pradžioje vykusio pirmojo Lituanistinio ugdymo forumo tęstinis renginys yra skirtas lituanistinių mokyklų užsienyje reikšmei aptarti ir problemoms įvardyti\, kodėl didelė išvykusiųjų dalis atsisako kalbėti lietuviškai ir kartu perduoti gimtąją kalbą savo vaikams. \nLituanistinio ugdymo praktikų nuomone\, lituanistinės mokyklos Lietuvoje yra nepažinios\, jų veikla dažnai neįvertinama\, o kasdienybė nesuprantama. \nDiskusija vyks nuotoliniu būdu Zoom platformoje spalio 1 d. (penktadienį) 6:00am – 8:30am (Los Andželo laiku). \nNorinčius dalyvauti renginyje kviečiame registruotis iki rugsėjo 29 d. (trečiadienio) – https://forms.gle/6BequSmYRTQZ1ipw9. \nRenginys Facebook: https://fb.me/e/17lz2IDFa. \nDiskusiją rengia: Lietuvos Respublikos užsienio reikalų ministerija\, Vytauto Didžiojo universitetas\, Lituanistinių mokyklų asociacija\, PLB Švietimo komisija. \nKviečiame aktyviai dalintis kvietimu su Jūsų organizacijų nariais\, skelbti informaciją soc. tinklų paskyrose. \nJūsų\, \nGlobalios Lietuvos departamentas
URL:https://vakaruvejai.com/renginys/diskusija-kodel-lietuvai-svarbios-lituanistines-mokyklos-uzsienyje-virtualiai/
LOCATION:virtualiai
CATEGORIES:Arizona,Hawaii,Los Andželas,Nevada,Portlandas,San Diego,San Franciskas,Seattle,Virtualus renginys
ATTACH;FMTTYPE=image/jpeg:https://vakaruvejai.com/wp-content/uploads/2021/09/34FF0778-7E79-4E66-AAF3-E111C20B948D.jpeg
END:VEVENT
BEGIN:VEVENT
DTSTART;TZID=America/Los_Angeles:20210417T110000
DTEND;TZID=America/Los_Angeles:20210417T140000
DTSTAMP:20260423T131338
CREATED:20210326T171724Z
LAST-MODIFIED:20210326T171724Z
UID:15714-1618657200-1618668000@vakaruvejai.com
SUMMARY:Seminaras "Nuotolinio mokymosi metodų ir patirties integravimas sugrįžus"\, Virtualus renginys
DESCRIPTION:Kviečiame į seminarą.\n\n\nPROGRAMOS APRAŠAS:\nSeminaro metu apžvelgsime ir pasidalinsime praktiniais patarimais ir medžiaga kuri yra naudinga tiek mokinant distanciniu būdu\, tiek grįžus į patalpas. Po pirminės paskaitos išsiskirstysime į darbo grupes pagal mokinių amžių/mokymo sritis ir su moderuotojų pagalba toliau dalinsimės patirtimi ir medžiaga. Pabaigai apibendrinsime ką sužinojome\, atsakysime į klausimus ir toliau kursime lituanistinių kolegų bendruomenę dalindamiesi patirtimi\, sprendimais ir iššūkiais.\nPROGRAMA:\n\n\n11:00 – 12:15 – Prezentacija: Nuotolinio mokymo pamokų integracija sugrįžus (75 min) – Aiste Solly – SF Genio Mokyklos Vadovė\n12:15 – 12:30 – Pertrauka (15 min)\n12:30 – 1:30 – Darbas grupėse (45-60 min) – *Moderuoja: SF Genio\, Martyno Mažvydo ir Dr. Vinco Kudirkos Lituanistinės Mokyklos.\n15 min pertrauka (jeigu ji reikalinga)\n1:35 – 2:00 – Apibendrinimas (25 min)\nDARBO GRUPĖS: *Darbo grupės bus skirstomos pagal mokinių amžių/mokymo sritis:\n\n\nDarželis-2 klasė\n3-4 klasės\n5-8 klasės ir\nGrupė meno vadovams.\nPRISIJUNGIMO INFORMACIJA IR NUORODOS:\n\n\nhttps://zoom.us/j/96826550248\nSusitikimo ID: 96826550248\nTurite klausimų\, rašykite: info@sfgenys.org\nLabai laukstime dalyvaujant!\n\n\n\nSu pagarba\,\n\n\nAiste Solly\n\n\nSan Francisko Lituanistinė Mokykla „Genys”
URL:https://vakaruvejai.com/renginys/seminaras-nuotolinio-mokymosi-metodu-ir-patirties-integravimas-sugrizus-virtualus-renginys/
LOCATION:Virtualus renginys
CATEGORIES:Arizona,Hawaii,Los Andželas,Nevada,Portlandas,San Diego,San Franciskas,Seattle,Virtualus renginys
ATTACH;FMTTYPE=image/png:https://vakaruvejai.com/wp-content/uploads/2021/03/165428668_3977889242272055_3128309763963914176_o.png
END:VEVENT
BEGIN:VEVENT
DTSTART;VALUE=DATE:20210110
DTEND;VALUE=DATE:20210111
DTSTAMP:20260423T131338
CREATED:20201231T034434Z
LAST-MODIFIED:20201231T034434Z
UID:14463-1610236800-1610323199@vakaruvejai.com
SUMMARY:30-osios Laisvės gynėjų atminimo metinės
DESCRIPTION:
URL:https://vakaruvejai.com/renginys/30-osios-laisves-gyneju-atminimo-metines/
LOCATION:Virtualus renginys
CATEGORIES:Arizona,Hawaii,Lietuviški renginiai,Los Andželas,Nevada,Portlandas,San Diego,San Franciskas,Seattle,Virtualus renginys
ATTACH;FMTTYPE=image/jpeg:https://vakaruvejai.com/wp-content/uploads/2020/12/133726945_4853278108080788_3107150106983120769_o.jpg
ORGANIZER;CN="JAV LB Kra%C5%A1to Valdyba":MAILTO:informacija@javlb.org
END:VEVENT
BEGIN:VEVENT
DTSTART;VALUE=DATE:20200621
DTEND;VALUE=DATE:20200622
DTSTAMP:20260423T131338
CREATED:20200128T062633Z
LAST-MODIFIED:20200420T020456Z
UID:11145-1592697600-1592783999@vakaruvejai.com
SUMMARY:Atšaukta !!!  Jaunimo šventė ir išleistuvės į lietuvių tautinių šokių šventę Filadelfijoje\, Los Angeles
DESCRIPTION:
URL:https://vakaruvejai.com/renginys/jaunimo-svente-ir-isleistuves-i-sokiu-svente-filadelfijoje/
LOCATION:Šv. Kazimiero parapija Los Andžele\, 2718 St George St\, Los Angeles\, CA\, 90027\, United States
CATEGORIES:Lietuviški renginiai,Los Andželas
END:VEVENT
BEGIN:VEVENT
DTSTART;VALUE=DATE:20200503
DTEND;VALUE=DATE:20200504
DTSTAMP:20260423T131338
CREATED:20200128T061236Z
LAST-MODIFIED:20200128T061734Z
UID:11143-1588464000-1588550399@vakaruvejai.com
SUMMARY:Šv. Kazimiero lituanistinės mokyklos jubiliejaus minėjimas\, Los Angeles
DESCRIPTION:
URL:https://vakaruvejai.com/renginys/sv-kazimiero-lituanistines-mokyklos-jubiliejaus-minejimas-los-angeles/
LOCATION:Šv. Kazimiero parapija Los Andžele\, 2718 St George St\, Los Angeles\, CA\, 90027\, United States
CATEGORIES:Lietuviški renginiai,Los Andželas
END:VEVENT
BEGIN:VEVENT
DTSTART;VALUE=DATE:20200328
DTEND;VALUE=DATE:20200329
DTSTAMP:20260423T131338
CREATED:20200128T060632Z
LAST-MODIFIED:20200321T172934Z
UID:11141-1585353600-1585439999@vakaruvejai.com
SUMMARY:! Atšaukta! Mokyklos jubiliejinė vaikų šventė šv. Kazimiero lituanistinėje mokykloje\, Los Angeles
DESCRIPTION:
URL:https://vakaruvejai.com/renginys/mokyklos-jubiliejine-vaiku-svente-sv-kazimiero-lituanistineje-mokykloje-los-angeles/
LOCATION:CA
CATEGORIES:Lietuviški renginiai,Los Andželas
END:VEVENT
BEGIN:VEVENT
DTSTART;TZID=America/Los_Angeles:20200307T120000
DTEND;TZID=America/Los_Angeles:20200307T131500
DTSTAMP:20260423T131338
CREATED:20200128T060300Z
LAST-MODIFIED:20200303T154153Z
UID:11140-1583582400-1583586900@vakaruvejai.com
SUMMARY:Lietuvos Nepriklausomybės minėjimas šv. Kazimiero lituanistinėje mokykloje\, Los Angeles
DESCRIPTION:Kviečiame dalyvauti  Lietuvos Nepriklausomybės švenčių minėjime. Mokiniai ir mokytojos paruošė linksmą programą – sveikinimą Lietuvai.
URL:https://vakaruvejai.com/renginys/lietuvos-nepriklausomybes-minejimas-los-andzelo-sv-kazimiero-lituanistineje-mokykloje-los-angeles/
LOCATION:Šv. Kazimiero parapija Los Andžele\, 2718 St George St\, Los Angeles\, CA\, 90027\, United States
CATEGORIES:Lietuviški renginiai,Los Andželas
ATTACH;FMTTYPE=image/jpeg:https://vakaruvejai.com/wp-content/uploads/2020/01/93FBF76E-96C9-4FC6-8DE4-C0688F5DF7F2.jpeg
END:VEVENT
BEGIN:VEVENT
DTSTART;TZID=America/Los_Angeles:20200209T130000
DTEND;TZID=America/Los_Angeles:20200209T160000
DTSTAMP:20260423T131338
CREATED:20200113T213107Z
LAST-MODIFIED:20200128T070519Z
UID:10909-1581253200-1581264000@vakaruvejai.com
SUMMARY:Poezijos ir tautodailės popietė\, Los Angeles
DESCRIPTION:Vyresnės skautės Gražinietės kviečia į poezijos ir meno popietę Šv. Kazimiero parapijoje bei Lietuvos tautodailės parodą. \nPoetas prof. Algis Žolynas iš San Diego pristatys eilėraščių rinkinį „Near and Far” (eilėraščiai anglų kalba).
URL:https://vakaruvejai.com/renginys/poezijos-ir-tautodailes-popiete-los-angeles/
LOCATION:Šv. Kazimiero parapija Los Andžele\, 2718 St George St\, Los Angeles\, CA\, 90027\, United States
CATEGORIES:Los Andželas
ATTACH;FMTTYPE=application/pdf:https://vakaruvejai.com/wp-content/uploads/2020/01/PoeziaMenas.pdf
END:VEVENT
BEGIN:VEVENT
DTSTART;TZID=America/Los_Angeles:20200201T120500
DTEND;TZID=America/Los_Angeles:20200201T131500
DTSTAMP:20260423T131338
CREATED:20200128T055233Z
LAST-MODIFIED:20200128T060333Z
UID:11137-1580558700-1580562900@vakaruvejai.com
SUMMARY:Justinos Brazdžionienės knygos vaikams "Nėjus ir Amadėjus" pristatymas\, Los Angeles
DESCRIPTION:Kviečiame visus\, mažus ir didelius\, vaikučius\, jų tėvelius\, broliukus ir sesutes\, močiutes ir senelius į Justinos Brazdžionis knygos vaikams „Nėjus ir Amadėjus” pristatymą. \n‘pristatymą.
URL:https://vakaruvejai.com/renginys/justinos-brazdzionienes-knygos-vaikams-nejus-ir-amadejus-pristatymas/
LOCATION:Šv. Kazimiero parapija Los Andžele\, 2718 St George St\, Los Angeles\, CA\, 90027\, United States
CATEGORIES:Los Andželas
ATTACH;FMTTYPE=image/jpeg:https://vakaruvejai.com/wp-content/uploads/2020/01/IMG_9447.jpg
END:VEVENT
BEGIN:VEVENT
DTSTART;TZID=America/Los_Angeles:20200118T090000
DTEND;TZID=America/Los_Angeles:20200118T110000
DTSTAMP:20260423T131338
CREATED:20200116T025848Z
LAST-MODIFIED:20200116T025848Z
UID:11029-1579338000-1579345200@vakaruvejai.com
SUMMARY:Los Angeles Knygų Klubo susitikimas
DESCRIPTION:Dėmesio! Susitikimas aptarti Alvydo Šlepiko knygą „Mano vardas Marytė” vyks sausio 18 d. 9 val. šv. Kazimiero bažnyčios klebonijoje.
URL:https://vakaruvejai.com/renginys/los-angeles-knygu-klubo-susitikimas/
LOCATION:Šv. Kazimiero parapija Los Andžele\, 2718 St George St\, Los Angeles\, CA\, 90027\, United States
CATEGORIES:Los Andželas
ATTACH;FMTTYPE=image/jpeg:https://vakaruvejai.com/wp-content/uploads/2020/01/Mano-vardas.jpg
END:VEVENT
END:VCALENDAR