BEGIN:VCALENDAR
VERSION:2.0
PRODID:-//Vakarų Vėjai - ECPv6.15.3//NONSGML v1.0//EN
CALSCALE:GREGORIAN
METHOD:PUBLISH
X-ORIGINAL-URL:https://vakaruvejai.com
X-WR-CALDESC:Vakarų Vėjai renginiai
REFRESH-INTERVAL;VALUE=DURATION:PT1H
X-Robots-Tag:noindex
X-PUBLISHED-TTL:PT1H
BEGIN:VTIMEZONE
TZID:America/Los_Angeles
BEGIN:DAYLIGHT
TZOFFSETFROM:-0800
TZOFFSETTO:-0700
TZNAME:PDT
DTSTART:20210314T100000
END:DAYLIGHT
BEGIN:STANDARD
TZOFFSETFROM:-0700
TZOFFSETTO:-0800
TZNAME:PST
DTSTART:20211107T090000
END:STANDARD
BEGIN:DAYLIGHT
TZOFFSETFROM:-0800
TZOFFSETTO:-0700
TZNAME:PDT
DTSTART:20220313T100000
END:DAYLIGHT
BEGIN:STANDARD
TZOFFSETFROM:-0700
TZOFFSETTO:-0800
TZNAME:PST
DTSTART:20221106T090000
END:STANDARD
BEGIN:DAYLIGHT
TZOFFSETFROM:-0800
TZOFFSETTO:-0700
TZNAME:PDT
DTSTART:20230312T100000
END:DAYLIGHT
BEGIN:STANDARD
TZOFFSETFROM:-0700
TZOFFSETTO:-0800
TZNAME:PST
DTSTART:20231105T090000
END:STANDARD
BEGIN:DAYLIGHT
TZOFFSETFROM:-0800
TZOFFSETTO:-0700
TZNAME:PDT
DTSTART:20240310T100000
END:DAYLIGHT
BEGIN:STANDARD
TZOFFSETFROM:-0700
TZOFFSETTO:-0800
TZNAME:PST
DTSTART:20241103T090000
END:STANDARD
BEGIN:DAYLIGHT
TZOFFSETFROM:-0800
TZOFFSETTO:-0700
TZNAME:PDT
DTSTART:20250309T100000
END:DAYLIGHT
BEGIN:STANDARD
TZOFFSETFROM:-0700
TZOFFSETTO:-0800
TZNAME:PST
DTSTART:20251102T090000
END:STANDARD
END:VTIMEZONE
BEGIN:VEVENT
DTSTART;TZID=America/Los_Angeles:20250914T120000
DTEND;TZID=America/Los_Angeles:20250914T150000
DTSTAMP:20260423T144113
CREATED:20250913T044548Z
LAST-MODIFIED:20250913T044548Z
UID:29690-1757851200-1757862000@vakaruvejai.com
SUMMARY:Lino lituanistinė mokykla kviečia į mokslo metų pradžios šventę\, Sietlas
DESCRIPTION:LT\n\nMūsų Linas Lithuanian Heritage School / Lino Lituanistinė Mokykla kviečia visus prisijungti prie mokslo metų pradžios pikniko šį sekmadienį! Tai puiki proga pradėti naujus mokslo metus kartu\, pabendrauti ir smagiai praleisti laiką gamtoje.\nPrimename\, kad laukiame jūsų registracijos naujiems mokslo metams! Jei turite klausimų\, prašau parašykite mums: mokyklalinas@gmail.com.\n\nEN\n\nOur Linas Lithuanian Heritage School / Lino Lituanistinė Mokykla warmly invites everyone to join them for the school opening picnic this Sunday! It’s a wonderful opportunity to celebrate the start of the school year\, connect with others\, and enjoy a beautiful afternoon together.\nIf you have any questions\, please do not hesitate to write us an email: mokyklalinas@gmail.com
URL:https://vakaruvejai.com/renginys/lino-lituanistine-mokykla-kviecia-i-mokslo-metu-pradzios-svente-sietlas/
LOCATION:Cedar River Trail park Shelter\, 600 Nishiwaki Lane\, Renton\, WA\, 98057
CATEGORIES:Lietuviški renginiai,Seattle
ATTACH;FMTTYPE=image/jpeg:https://vakaruvejai.com/wp-content/uploads/2025/09/539614038_1264667712120953_5883427276269674184_n.jpeg
END:VEVENT
BEGIN:VEVENT
DTSTART;TZID=America/Los_Angeles:20250510T170000
DTEND;TZID=America/Los_Angeles:20250510T180000
DTSTAMP:20260423T144113
CREATED:20250425T042131Z
LAST-MODIFIED:20250425T042131Z
UID:28938-1746896400-1746900000@vakaruvejai.com
SUMMARY:ČIURLIONIS 150 IN SEATTLE
DESCRIPTION:This year marks the 150th anniversary of the artist and composer Mikalojus Konstantinas Čiurlionis!  In the first part of this special local program\, art critic Danas Lapkus will give a lecture in ENGLISH about Čiurlionis’ art\, and in the second part\, a concert of Čiurlionis’ music be performed. An exhibition of Linas School students’ works inspired by the art of Čiurlionis will be held in the entrance hall. \nThis event is free to attend; donations to offset costs are welcome.  Donate HERE if you are able. \nThanks in advance.
URL:https://vakaruvejai.com/renginys/ciurlionis-150-in-seattle/
LOCATION:Nickerson Studios @ SPU\, 340 W Nickerson St\, Seattle\, WA\, 98119
CATEGORIES:Lietuviški renginiai,Seattle
ATTACH;FMTTYPE=image/png:https://vakaruvejai.com/wp-content/uploads/2025/04/Screen-Shot-2025-04-24-at-9.14.25-PM.png
END:VEVENT
BEGIN:VEVENT
DTSTART;TZID=America/Los_Angeles:20240915T110000
DTEND;TZID=America/Los_Angeles:20240915T140000
DTSTAMP:20260423T144113
CREATED:20240907T030438Z
LAST-MODIFIED:20240907T030438Z
UID:27499-1726398000-1726408800@vakaruvejai.com
SUMMARY:LLM mokslo metų atidarymas/Linas school opening picnic\, Seattle
DESCRIPTION:LT \nLino Mokyklos Mokslo Metų atidarymo iškyla:Mokiniai ir tėveliai kviečiami į mokslo metų atidarymą- Rugsėjo 15 dieną 11 valandą Lake Wilderness parke\, Maple Valley (22500 SE 248th St\, Maple Valley\, WA 98038) (Shelter #2). Vaišės suneštinės.Labai laukiame sugrįžtančių\, o taip pat ir naujų mokinukų!Naujiems mokslo metams galite registruotis mūsų internetinėje svetainėje https://www.mokyklalinas.com/klases-student-classes\, taip pat rašydami mums el. laišką mokyklalinas@gmail.com. \nEN \nLinas Lithuanian School Opening Picnic:Students and parents are invited to the opening of the school year on September 15th at 11 a.m. in Lake Wilderness park\, Maple Valley (22500 SE 248th St\, Maple Valley\, WA 98038) (Shelter #2). Please bring a meal to share. We are looking forward to returning and also new students! You can register for the new school year on our website https://www.mokyklalinas.com/klases-student-classes\, as well as by writing to us by email mokyklalinas@gmail.com. If you have any questions\, write and we will be happy to answer you.
URL:https://vakaruvejai.com/renginys/llm-mokslo-metu-atidarymas-linas-school-opening-picnic-seattle/
LOCATION:Lake Wilderness park\, 22500 SE 248th St\, Maple Valley\, WA\, 98038
CATEGORIES:Lietuviški renginiai,Seattle
ATTACH;FMTTYPE=image/jpeg:https://vakaruvejai.com/wp-content/uploads/2024/09/456513555_998535158734211_4227263505884304664_n.jpeg
END:VEVENT
BEGIN:VEVENT
DTSTART;TZID=America/Los_Angeles:20240330T110000
DTEND;TZID=America/Los_Angeles:20240330T130000
DTSTAMP:20260423T144113
CREATED:20240323T044100Z
LAST-MODIFIED:20240323T044100Z
UID:26339-1711796400-1711803600@vakaruvejai.com
SUMMARY:Šv. Velykų šventė/Easter Celebration\, Sietlas
DESCRIPTION:LT \nLino lituanistinė mokykla maloniai kviečia visus didelius ir mažus į Šv. Velykų šventę.\nMarginsime kiaušinius vašku ir kitomis įvairiausiomis technikomis\, darysime smagius velykinius darbelius\, žaisime žaidimus ir\, žinoma\, ridensime margučius! \nKur? 17839 Aurora Ave N\, 98133 Shoreline (mokyklėlės salėje)\nKada? Kovo 30 d. šeštadienį 11am-1pm\nKą turėti? Lengvą užkandį ir gerą nuotaiką \nEN \nLinas Lithuanian Heritage School kindly invites everyone big and small to Easter Celebration.\nWe will decorate eggs with wax and various other techniques\, make fun Easter crafts\, play games and\, of course\, roll the Easter eggs! \nWhere? 17839 Aurora Ave N\, 98133 Shoreline (in the school hall)\nWhen? March 30 on Saturday 11am-1pm\nWhat to bring? A light snack and a great mood.
URL:https://vakaruvejai.com/renginys/sv-velyku-svente-easter-celebration-sietlas/
LOCATION:17839 Aurora Ave N\, Seattle\, WA 98133-4814
CATEGORIES:Lietuviški renginiai,Seattle
ATTACH;FMTTYPE=image/jpeg:https://vakaruvejai.com/wp-content/uploads/2024/03/433842722_899824325271962_8642836731366981206_n.jpeg
END:VEVENT
BEGIN:VEVENT
DTSTART;TZID=America/Los_Angeles:20220917T110000
DTEND;TZID=America/Los_Angeles:20220917T140000
DTSTAMP:20260423T144113
CREATED:20220826T194122Z
LAST-MODIFIED:20220909T072511Z
UID:22314-1663412400-1663423200@vakaruvejai.com
SUMMARY:LLM mokslo metų atidarymas/Lithuanian School Opening\, Sietlas\, WA
DESCRIPTION:LT \nMokslo metų atidarymo iškyla:\nMokiniai ir tėveliai kviečiami į mokslo metų atidarymą rugsėjo 17 dieną\, 11 valandą Bellevue pas Taurą ir Ąžuolą namuose (1920 109th Ave NE Bellevue\, WA).\nVaišės suneštinės. Laukia staigmenos. \nMokslo metų registracija:\nPrašome užpildyti registracijos formas ir atnešti į mokslo metų atidarymą arba į pamokas.\nRegistracijos formas ir mokslo metų kalendorių galite rasti šiame mokyklėlės tinklapyje:\nwww.mokyklalinas.com \nEN \nSchool opening picnic:\nStudents and parents are invited to the opening of the school year on September 17th at 11 a.m. in Bellevue at Tauras and Ąžuolas residence (1920 109th Ave NE Bellevue\, WA).\nPlease bring a meal to share. A surprise awaits for all students. \nRegistration:\nPlease fill in the registration forms and bring them to the opening of the school year or to the lessons.\nRegistration forms and the calendar for the school year can be found on the following school website:\nwww.mokyklalinas.com
URL:https://vakaruvejai.com/renginys/llm-mokslo-metu-atidarymas-lithuanian-school-opening-wa/
LOCATION:Tauro ir Ąžuolo namuose\, 1920 109th Ave\, Bellevue\, WA\, 98004
CATEGORIES:Seattle
ATTACH;FMTTYPE=image/jpeg:https://vakaruvejai.com/wp-content/uploads/2022/08/301318232_8353438731334713_3108266709609375156_n.jpeg
END:VEVENT
BEGIN:VEVENT
DTSTART;TZID=America/Los_Angeles:20211211T150000
DTEND;TZID=America/Los_Angeles:20211211T180000
DTSTAMP:20260423T144113
CREATED:20211119T063428Z
LAST-MODIFIED:20211119T063428Z
UID:18652-1639234800-1639245600@vakaruvejai.com
SUMMARY:Eglutės šventė/Christmas Celebration\, Sietlas
DESCRIPTION:LT\n\nKviečiame visus\, didelius ir mažus\, atvykti į Lino mokyklos organizuojamą Eglutės šventę kuri įvyks Latvių salėje. Po vaikų pasirodymo visi mėgausimės mokytojos Irenos pravedamais burtais ir dalyvausime linksmuose žaidimuose su Kalėdų Seneliu\, o po visų linksmybių Kalėdų Senelis dalins dovanėles.\n\nKaina: $35 šeimai\, $20- vienam suaugusiam asmeniui\, vaikams nemokamai.\n\nMokyklėlė visada džiaugiasi įvairia parama: pinigine bei įvairia pagalba prisidedant prie mokyklėlės gyvenimo. Prašome atsinešti smulkių pinigų. Bus pardavinėjama mokyklėlės atributika.\n\nVaišės suneštinės: Prašome atsinešti pagrindinį patiekalą ir desertą. Atsižvelgiant į Kūčių tradicijas\, pageidautinas maistas – be mėsos.\n\nReikalavimai atvykstant į šventę: Suaugusiems turėti skiepus patvirtinantį COVID-19 dokumentą arba negatyvų testo įrodymą. Visi su kaukėmis. Galima bus jas nusiimti valgio metu.\n\nDovanos: Prašome atnešti savo atžalai supakuotą dovaną su aiškiai užrašytu vardu ir pavarde. Siūloma dovana yra tradicinė – knyga. Dovanas galėsite perduoti budintiesiems prie durų.\n\nPrograma:\n(Laikas yra numatomas)\n15val – atidarymas\, Kalėdų Senelio kvietimas;\n15.30-16.30 – Lino mokyklėlės vaikų programos pristatymas (šokiai\, vaidinimas „Pirštinė”\, S.Nėries „Senelės pasaka”);\n16.30val – burtai (mokytoja Irena);\n16.45val – žaidimas su Kalėdų Seneliu\, dovanos;\n17.30val – vaišės.\n\nEN\n\nEveryone\, big and small\, is invited to come to the Christmas celebration organized by Linas School which will take place at Latvian Hall. After the children ‘s performance\, we will all enjoy the magic Christmas spells conducted by teacher Irena and take part in fun games with Santa\, and after all the fun\, Santa will give presents.\n\nPrice: $ 35 per family\, $ 20- per adult\, free for children.\n\nAny additional donations to support Linas Heritage School are always welcome!. Please bring small money. School merchandise will be available for purchase.\n\nMeals: Please bring a main course and dessert. According to Christmas traditions\, meat-free meals are preferred.\n\nRequirements for admission to the festival: Adults must have a COVID-19 document confirming vaccinations or a negative test certificate. Everyone will be required to wear masks. They can be removed during the meal time.\n\nGifts: Please bring a packaged gift to your offspring with a clearly written name and surname. The gift offered is traditional – a book. You will be able to hand over the gifts to those on duty at the door.\n\nProgram: (Estimated time)\n3 pm – opening\, Santa’s invitation;\n15.30-16.30 – presentation of the children’s program of the linen school (dancing\, performance „Glove”\, „Grandmother’s Tale” by S.Nėris);\n4.30 pm – spells (teacher Irena);\n16.45 – game with Santa\, presents.\n5.30 pm – feast.
URL:https://vakaruvejai.com/renginys/eglutes-svente-christmas-celebration-sietlas/
LOCATION:Latvių namai-SF\, 425 Hoffman Ave\, San Franciskas\, CA\, 94114
CATEGORIES:Lietuviški renginiai,Seattle
ATTACH;FMTTYPE=image/jpeg:https://vakaruvejai.com/wp-content/uploads/2021/11/255972298_6823711607640774_40921806729656347_n.jpg
END:VEVENT
BEGIN:VEVENT
DTSTART;TZID=America/Los_Angeles:20210925T100000
DTEND;TZID=America/Los_Angeles:20210925T130000
DTSTAMP:20260423T144113
CREATED:20210910T051140Z
LAST-MODIFIED:20210910T160749Z
UID:17679-1632564000-1632574800@vakaruvejai.com
SUMMARY:Sietlo Lino lituanistinės mokyklos mokslo metų atidarymo iškyla\, Seattle
DESCRIPTION:LT \n\nMokslo Metų atidarymo iškyla:\nMokiniai ir tėveliai kviečiami į mokslo metų atidarymą – rugsėjo 25 dieną 10 valandą Kirklande (633 Waverly Park Way\, Kirkland 98033).\nVaišės suneštinės. Laukia staigmenos.\n\n\n\nMokslo metai:\nMokslo metų pirmoji pamokų diena – spalio 2 d. 10 val. bažnyčioje (17839 Aurora Ave N\, Shoreline\, WA 98133).\nPamokas pradėsime Žemaičiams ir Suvalkiečiams nuo šokių\, po to lietuvių kalbos pamokos. Pamokų laikas – 10 val.- 13 val.\n\nPrašome\, kad turėtumėte kaukes\, rašymo priemones\, sąsiuvinius. Galite atsinešti užkandžių ir vandens. Bus pertrauka vaikams užkąsti.\n\n\n\nRegistracija:\nPrašau užpildyti registraijos formas ir atnešti į mokslo metų atidarymą arba į pamokas.\nRegistracijos formas ir mokslo metų kalendorių galite rasti šiame mokyklėlės tinklapyje:\nwww.mokyklalinas.com\n\n\n\nEN\n\nSchool Opening Picnic:\nStudents and parents are invited to the opening of the school year on September 25 at 10 a.m. in Kirkland (633 Waverly Park Way\, Kirkland 98033).\nPlease bring a meal to share. A surprise awaits for all students.\n\n\n\nSchool Year:\nThe school year begins – October 2nd\, 10 a.m. at the church (17839 Aurora Ave N\, Shoreline\, WA 98133)\nŽemaičiai and Suvalkiečiai will have dancing first\, then Lithuanian language lessons. Lesson time – 10 a.m. – 1 p.m.\n\nPlease make sure to have masks\, writing instruments\, notebooks.\nDon’t forget to bring snacks and water. There will be a break for the kids to have a snack.\n\n\n\nRegistration:\nPlease fill in the registration forms and bring them to the opening of the school year or to the lessons.\nRegistration forms and the calendar for the school year can be found on the following school website:\nwww.mokyklalinas.com
URL:https://vakaruvejai.com/renginys/17679/
LOCATION:633 Waverly Park Way\, Kirkland 98033
CATEGORIES:Seattle
ATTACH;FMTTYPE=image/png:https://vakaruvejai.com/wp-content/uploads/2021/09/241627093_6461361017209170_3336112599875178373_n.png
END:VEVENT
END:VCALENDAR