BEGIN:VCALENDAR
VERSION:2.0
PRODID:-//Vakarų Vėjai - ECPv6.15.3//NONSGML v1.0//EN
CALSCALE:GREGORIAN
METHOD:PUBLISH
X-ORIGINAL-URL:https://vakaruvejai.com
X-WR-CALDESC:Vakarų Vėjai renginiai
REFRESH-INTERVAL;VALUE=DURATION:PT1H
X-Robots-Tag:noindex
X-PUBLISHED-TTL:PT1H
BEGIN:VTIMEZONE
TZID:America/Los_Angeles
BEGIN:DAYLIGHT
TZOFFSETFROM:-0800
TZOFFSETTO:-0700
TZNAME:PDT
DTSTART:20200308T100000
END:DAYLIGHT
BEGIN:STANDARD
TZOFFSETFROM:-0700
TZOFFSETTO:-0800
TZNAME:PST
DTSTART:20201101T090000
END:STANDARD
BEGIN:DAYLIGHT
TZOFFSETFROM:-0800
TZOFFSETTO:-0700
TZNAME:PDT
DTSTART:20210314T100000
END:DAYLIGHT
BEGIN:STANDARD
TZOFFSETFROM:-0700
TZOFFSETTO:-0800
TZNAME:PST
DTSTART:20211107T090000
END:STANDARD
BEGIN:DAYLIGHT
TZOFFSETFROM:-0800
TZOFFSETTO:-0700
TZNAME:PDT
DTSTART:20220313T100000
END:DAYLIGHT
BEGIN:STANDARD
TZOFFSETFROM:-0700
TZOFFSETTO:-0800
TZNAME:PST
DTSTART:20221106T090000
END:STANDARD
BEGIN:DAYLIGHT
TZOFFSETFROM:-0800
TZOFFSETTO:-0700
TZNAME:PDT
DTSTART:20230312T100000
END:DAYLIGHT
BEGIN:STANDARD
TZOFFSETFROM:-0700
TZOFFSETTO:-0800
TZNAME:PST
DTSTART:20231105T090000
END:STANDARD
BEGIN:DAYLIGHT
TZOFFSETFROM:-0800
TZOFFSETTO:-0700
TZNAME:PDT
DTSTART:20240310T100000
END:DAYLIGHT
BEGIN:STANDARD
TZOFFSETFROM:-0700
TZOFFSETTO:-0800
TZNAME:PST
DTSTART:20241103T090000
END:STANDARD
BEGIN:DAYLIGHT
TZOFFSETFROM:-0800
TZOFFSETTO:-0700
TZNAME:PDT
DTSTART:20250309T100000
END:DAYLIGHT
BEGIN:STANDARD
TZOFFSETFROM:-0700
TZOFFSETTO:-0800
TZNAME:PST
DTSTART:20251102T090000
END:STANDARD
END:VTIMEZONE
BEGIN:VEVENT
DTSTART;TZID=America/Los_Angeles:20250518T100000
DTEND;TZID=America/Los_Angeles:20250518T110000
DTSTAMP:20260423T160447
CREATED:20250509T220533Z
LAST-MODIFIED:20250509T220611Z
UID:29018-1747562400-1747566000@vakaruvejai.com
SUMMARY:Lietuviškų knygų klubas - virtualus susitikimas su Kristina Petrauske\, San Franciskas
DESCRIPTION:Kviečiame jus į ypatingą Lietuviškų knygų klubo susitikimą\, kuriame ne tik dalinsimės įspūdžiais apie Kristinos Petrauskės istorinį romaną „Slanimo Raganos”\, bet ir turėsime išskirtinę galimybę pabendrauti su pačia autore! Bus puiki proga užduoti knygos autorei klausimus ir išgirsti jos įžvalgas. Laukia jauki atmosfera ir įkvepianti diskusija!\nNuoroda prisijungimui: https://calendar.app.google/mdQupTUtE1xo6jY5A\n1630 metai. Slanimas – turtingas Lietuvos Didžiosios Kunigaikštystės miestas\, Sapiegų giminės valda. Vilniaus vaivados Leono Sapiegos valdinė Ona\, pravarde Korotka\, apkaltinama kerėjimu. Vienas Slanimo miestietis pareiškia\, kad Ona nužiūrėjo jo žmoną\, o žydas prekeivis dievagojosi buvęs jos prakeiktas. Tardoma kaltinamoji\, vildamasi išsigelbėti\, išsitaria žinanti\, ką išties derėtų siųsti į laužo liepsnas. Gretimo kaimo popo žmoną bajorę Rainą\, visų gerbiamą pribuvėją. Ji užkerėjusi Vilniaus vaivados sūnų Joną Stanislovą Sapiegą ir užleidusi jam melancholiją. Ona tikina žinanti\, kaip Sapiegą atkerėti\, kad šis vėl jaustųsi laimingas ir vėl užsimanytų vesti\, bet ar patikės teisėjai? Ar Raina stos prieš teismą ir ar kilmingajai pavyks išvengti Salemo raganų lemties?\nŠio sodraus istorinio romano siužetą autorei diktavo XVII amžiaus dienoraščiai\, prisiminimai\, laiškai\, kelionių aprašymai ir visa\, kas kūrė daugiametinę LDK kultūrą\, o daugelis knygos personažų iš tiesų kadaise gyveno.\nAutorė – Kristina Petrauskė – istorikė\, radijo laidų vedėja\, dirbanti Vytauto Didžiojo karo muziejuje. „Instagram” ir „Tik tok” platformose dar žinoma kaip Chistorikė\, savo paskyrose populiarinanti LDK istoriją ir kultūrą. Šiuo metu tyrinėja LDK XVI-XVII a. karybos ir kultūros istoriją\, tačiau taip pat didelį dėmesį skiria kasdienybei. Apie neįprastą XVII a. kasdienybę ir jos romanas.\nUž finansinę paramą Kristinos Petrauskės knygų „Slanimo Raganos” įsigijimui ir siuntimui dėkojame Lietuvių Fondui: https://www.lithuanianfoundation.org/LT/\nGyvenančius San Francisco apylinkėse ir norinčius perskaityti knygą iki mūsų virtualaus susitikimo\, prašome susisiekti el. paštu: info@lithuaniansisters.com\nJei negaunate Lietuviškų knygų klubo naujienlaiškio\, bet norėtumėte gauti\, prašome užpildyti formą: https://docs.google.com/…/1FAIpQLSczzvUSoK0…/viewform…\nElektroninę knygą galima įsigyti:https://www.pegasas.lt/slanimo-raganos-e-knyga-11004115/https://www.baltoslankos.lt/el-knyga-slanimo-raganos
URL:https://vakaruvejai.com/renginys/lietuvisku-knygu-klubas-virtualus-susitikimas-su-kristina-petrauske-san-franciskas/
LOCATION:Virtualus renginys
CATEGORIES:Lietuviški renginiai,San Franciskas
ATTACH;FMTTYPE=image/jpeg:https://vakaruvejai.com/wp-content/uploads/2025/05/481258702_122214879194228608_2495916604884440047_n.jpeg
END:VEVENT
BEGIN:VEVENT
DTSTART;TZID=America/Los_Angeles:20250514T173000
DTEND;TZID=America/Los_Angeles:20250514T190000
DTSTAMP:20260423T160447
CREATED:20250511T151101Z
LAST-MODIFIED:20250511T151101Z
UID:29071-1747243800-1747249200@vakaruvejai.com
SUMMARY:Knygos “Nepaprasta Džono ir Adelės kelionė” pristatymas Santa Monikoje
DESCRIPTION:LT  \nPrisijunkite prie ypatingo renginio – susitikimo su knygos „Nepaprasta Džono ir Adelės kelionė“ autoriais Dariumi ir Marija Anciais ir oficialaus knygos pristatymo.\nKADA: Trečiadienis\, gegužės 14 d. 17:30-19:00 val.\nKUR: Restoranas “Solidarity” (1414 Lincoln Blvd\, Santa Monica\, CA 90401) \nLeidykla „Gelmės“ išleido knygą „Nepaprasta Džono ir Adelės kelionė“\, kurią parašė Ancius M. Murray pasivadinę trys romano autoriai – fizikas Darius Ancius\, teisininkė Marija Anciuvienė ir airių rašytoja Mary Catherine Murray. \nRomanas „Nepaprasta Džono ir Adelės kelionė“ nagrinėja keblius poros santykius. Daugiau kaip 20 metų kartu gyvenančių sutuoktinių gyvenimas rieda nuokalne. Vieną vasaros vakarą\, jiems vykstant atostogauti\, jų automobilis sustoja nežinomoje vietovėje. Baigėsi kuras… Netikėtai jie sutinka tris nepažįstamuosius\, kurie jiems suteikia pagalbą. Tačiau kartu jie pateikia porai neįprastą pasiūlymą: užsiimti savo griūvančiais santykiais ir leistis į kelionę\, kurioje jie galbūt galės atstatyti tai\, ko abu ilgisi jau daugelį metų. Ar Adelė ir Džonas priims šį keistą pasiūlymą? Ar tai sukels jiems pavojų? Tačiau pasilikti nieko nedarant ir toliau gyvenant nuoskaudose ir neišsipildžiusiuose lūkesčiuose taip pat pavojinga. \nDaugiau informacijos apie knygą bei autorius: https://porakelyje.com \nEN \nJoin us for an unforgettable evening — a meet-and-greet with the authors Darius and Marija Ancius\, and the official presentation of the novel “The Magical Journey of John and Adele”. \nWHEN: Wednesday\, May 14\,  5:30 PM – 7:00 PM \nWHERE: Restaurant “Solidarity” (1414 Lincoln Blvd\, Santa Monica\, CA 90401) \nPublished by Gelmės Publishing House\, “The Magical Journey of John and Adele” is a collaborative novel written under the pen name Ancius M. Murray by three authors: physicist Darius Ancius\, lawyer Marija Anciuvienė\, and Irish writer Mary Catherine Murray. \nJohn and Adele have been together for over two decades and have a son. Their relationship has been on a downhill trajectory for many years. One evening\, en route to their holiday destination\, they run out of fuel in a remote location. To whom can they go for assistance? Suddenly\, in the darkness\, their lives take an unexpected turn. They meet three mysterious but benevolent strangers who offer to help them and pose to the couple an unusual challenge that seeks to address the core problems in their marriage. John and Adele find the proposal odd but tempting. While it may have advantages\, it could be risky and dangerous. But unresolved emotions\, unhealed wounds\, and long-buried memories left unaddressed can also have hazardous and unpredictable consequences. Will they dare to accept this challenge or not? \nThe event will be held in Lithuanian\, but the book is also available in English. For more details\, please visit: https://anciusmmurray.co.uk 
URL:https://vakaruvejai.com/renginys/knygos-nepaprasta-dzono-ir-adeles-kelione-pristatymas-santa-monikoje/
LOCATION:Solidarity\, 1414 Lincoln Blvd.\, Santa Monica\, CA\, 90401
CATEGORIES:Lietuviški renginiai,Los Andželas
ATTACH;FMTTYPE=image/jpeg:https://vakaruvejai.com/wp-content/uploads/2025/05/IMG_2652.jpeg
END:VEVENT
BEGIN:VEVENT
DTSTART;TZID=America/Los_Angeles:20250323T130000
DTEND;TZID=America/Los_Angeles:20250323T140000
DTSTAMP:20260423T160447
CREATED:20250315T073232Z
LAST-MODIFIED:20250315T073232Z
UID:28662-1742734800-1742738400@vakaruvejai.com
SUMMARY:Knygų klubo popietė: "Kitokie pasikalbėjimai"\, Los Andželas
DESCRIPTION:Kviečiame visus knygų mylėtojus į knygų klubo popietę „Kitokie pasikalbėjimai“ \nGalima klebonijoje įsigyti Antano Šileikos knygą „Basakojis bingo pranešėjas“. Tai žaismingi ir atviri\, ironiški ir jaudinantys lietuvių emigrantų sūnaus atsiminimai apie dvi jo tėvynes.
URL:https://vakaruvejai.com/renginys/knygu-klubo-popiete-kitokie-pasikalbejimai-los-andzelas/
LOCATION:Šv. Kazimiero parapija\, 2716 St. George St.\, Los Angeles\, CA\, 90027
CATEGORIES:Lietuviški renginiai,Los Andželas
ATTACH;FMTTYPE=image/jpeg:https://vakaruvejai.com/wp-content/uploads/2025/03/IMG_1935-scaled.jpg
ORGANIZER;CN="%C5%A1v. Kazimiero parapija":MAILTO:st.casimir@gmail.com
END:VEVENT
BEGIN:VEVENT
DTSTART;TZID=America/Los_Angeles:20250125T090000
DTEND;TZID=America/Los_Angeles:20250126T160000
DTSTAMP:20260423T160447
CREATED:20250117T052644Z
LAST-MODIFIED:20250117T052644Z
UID:28167-1737795600-1737907200@vakaruvejai.com
SUMMARY:Vakarų pakrantės mokytojų konferencija „Žmogaus gyvenimo atspindžiai lietuvių literatūroje”\, Los Andželas
DESCRIPTION:JAV LB Švietimo taryba ir Los Angeles Šv. Kazimiero lituanistinė mokykla rengia Vakarų pakrantės mokytojų konferenciją „Žmogaus gyvenimo atspindžiai lietuvių literatūroje”. Svečiuose mokslų daktarė Laima Vincė Sruoginis ir ilgametė literatūros dėstytoja Lemonto Maironio mokykloje\, ypatingą dėmesį skirianti šiuolaikinių romanų dėstymui. \nPrograma\nSausio 25d. šeštadienį 9:00 – 13:15\, apsilankymas Los Angeles Šv. Kazimiero lituanistinėje mokykloje\, paskaita tėvams ir vyresniems mokiniams\, mokinių ir tėvų simpoziumas\, pietūs\, bendravimas su mokytojais ir mokiniais. \nSausio 26d. sekmadienį 9:00 – 16:00 vyks mokytojų konferencija. Pusryčiai\, paskaitos\, pietūs\, idėjų mugė\, diskusijos prie apskrito stalo.
URL:https://vakaruvejai.com/renginys/vakaru-pakrantes-mokytoju-konferencija-zmogaus-gyvenimo-atspindziai-lietuviu-literaturoje-los-andzelas/
LOCATION:Los Angeles Šv. Kazimiero lituanistinė mokykla\, 2714 St. George St.\, Los Angeles\, CA\, 90027
CATEGORIES:Lietuviški renginiai,Los Andželas
ATTACH;FMTTYPE=image/jpeg:https://vakaruvejai.com/wp-content/uploads/2025/01/IMG_1041-scaled.jpg
END:VEVENT
BEGIN:VEVENT
DTSTART;TZID=America/Los_Angeles:20241123T100000
DTEND;TZID=America/Los_Angeles:20241123T120000
DTSTAMP:20260423T160447
CREATED:20241115T063326Z
LAST-MODIFIED:20241115T063326Z
UID:27924-1732356000-1732363200@vakaruvejai.com
SUMMARY:Lietuviškų knygų klubo susitikimas\, San Franciskas
DESCRIPTION:Lapkričio 23 d. 10 val. ryte įvyks lietuviškų knygų klubo susitikimas. \nŠį katą kalbėsime apie Danutės Kulinauskaitės knygą „Baltieji prieš juoduosius” ir… žaisime šachmatais. \nKaip knyga susijusi su šachmatais?\nKodėl Lietuvių literatūros ir tautosakos instituto (LLTI) literatūrologai išrinko šią knygą kūrybiškiausia 2023 m. knyga?\nKokių dovanų prašyti Kalėdų Senelio?\nVisi atsakymai knygų klubo susitikime. \nVisus planuojančius dalyvauti prašome pasiklausyti knygos ištraukų LRT „Vakaras su Knyga” platformoje:\nIštrauka (25 min)\nIštrauka (30 min) \nLapkričio 23 d. 10 am\n„Genio” mokyklos biblioteka\, 19806 Wisteria Street\, Castro Valley \nRenginį organizuoja Lithuanian Sisters
URL:https://vakaruvejai.com/renginys/lietuvisku-knygu-klubo-susitikimas-san-franciskas/
LOCATION:„Genio” mokyklos biblioteka\, 19806 Wisteria Street\, Castro Valley\, CA\, 94546
CATEGORIES:Lietuviški renginiai,San Franciskas
ATTACH;FMTTYPE=image/png:https://vakaruvejai.com/wp-content/uploads/2024/11/Screen-Shot-2024-11-14-at-10.26.28-PM.png
END:VEVENT
BEGIN:VEVENT
DTSTART;TZID=America/Los_Angeles:20241110T124500
DTEND;TZID=America/Los_Angeles:20241110T134500
DTSTAMP:20260423T160447
CREATED:20241019T040718Z
LAST-MODIFIED:20241019T040718Z
UID:27750-1731242700-1731246300@vakaruvejai.com
SUMMARY:Knygų klubo atidarymas\, Los Andželas
DESCRIPTION:Lapkričio 10 d. kviečiame visus knygų mylėtojus į Knygų klubo atidarymą\, kuris įvyks 12.45 val. po pietų klebonijos konferencijų menėje.\nSiūlome atsinešti savo mėgstamiausią knygą ar neseniai perskaitytą knygą\, labiausiai patikusią ar jus suintrigavusią knygą\, nesvarbu ar tai lietuvių rašytojas ar kitų tautų rašytojai.\nLabai lauksime.
URL:https://vakaruvejai.com/renginys/knygu-klubo-atidarymas-los-andzelas/
LOCATION:Šv. Kazimiero parapijos salėje\, 2714 St. George St.\, Los Angeles\, CA\, 90027
CATEGORIES:Lietuviški renginiai,Los Andželas
ATTACH;FMTTYPE=image/jpeg:https://vakaruvejai.com/wp-content/uploads/2024/10/IMG_9207-2-scaled.jpg
ORGANIZER;CN="%C5%A1v. Kazimiero parapija":MAILTO:st.casimir@gmail.com
END:VEVENT
BEGIN:VEVENT
DTSTART;TZID=America/Los_Angeles:20241023T180000
DTEND;TZID=America/Los_Angeles:20241023T190000
DTSTAMP:20260423T160447
CREATED:20241019T051253Z
LAST-MODIFIED:20241019T051437Z
UID:27761-1729706400-1729710000@vakaruvejai.com
SUMMARY:Ruta Sepetys knygos pristatymas\, Palo Alto
DESCRIPTION:LT \nDžiaugiamės galėdami pasveikinti apdovanojimus pelniusius autorius Ruta Sepetys ir Steve Sheinkin. Susitikimas vyks jau šį trečiadienį\, spalio 23 d.\, 18 val.\, Palo Alto\, CA.  \nEmbarcadero Room\, Rinconada Library\, 1213 Newell Rd\, Palo Alto 94303. \nVyks autografų pasirašymas ir Q&A. \nŠis renginys yra nemokamas\, bet registracija būtina dėl riboto dalyvių skaičiaus. \nUžsiregistruoti renginiui\nDaugiau informacijos \nEN \nWe excited to welcome award-winnning and bestselling authors Ruta Sepetys and Steve Sheinkin on Wednesday\, October 23 at 6pm to celebrate The Bletchley Riddle\, their stunning middle grade historical adventure collaboration that follows two siblings at Bletchley Park\, the home of WWII codebreakers\, as they try to unravel a mystery surrounding their mother’s disappearance. \nEmbarcadero Room\, Rinconada Library\, 1213 Newell Rd\, Palo Alto 94303\nIt will include a public signing and time for audience Q&A. \nThis is a free event\, but you must RSVP as space is limited:\nSign up for event here.\nMore information here.
URL:https://vakaruvejai.com/renginys/27761/
LOCATION:Embarcadero Room\, Rinconada Library\, 1213 Newell Rd\, Palo Alto\, CA\, 94303
CATEGORIES:San Franciskas
ATTACH;FMTTYPE=image/png:https://vakaruvejai.com/wp-content/uploads/2024/10/Screen-Shot-2024-10-18-at-9.54.36-PM.png
END:VEVENT
BEGIN:VEVENT
DTSTART;TZID=America/Los_Angeles:20210507T120000
DTEND;TZID=America/Los_Angeles:20210507T130000
DTSTAMP:20260423T160447
CREATED:20210504T235618Z
LAST-MODIFIED:20210504T235618Z
UID:16143-1620388800-1620392400@vakaruvejai.com
SUMMARY:“The Last Book Smuggler”: Meet the Author Birutė Putrius\, Virtualus renginys
DESCRIPTION:On the occasion of the 🇱🇹 Lithuanian press restoration\, language and book day (May 7)\, we invite you to a virtual meeting with Birute Putrius\, an American Lithuanian writer and the author of ‘The Last Book Smuggler’. \n– The discussion and Q&A (in English) with the author will be moderated by literary critic\, translator\, and editor Violeta Kelertas. \n– The webinar will take place on May 7 (Friday) at 12 PM PDT | 2 PM CDT | 3 PM EDT. \n– Registration to the event: \nhttps://us06web.zoom.us/webinar/register/WN_fb_YpZONQwixOL31vAsC8w \n– About the book:\nPart folktale\, part thriller\, „The Last Book Smuggler’ tells the story of Ada and her grandfather Viktoras\, an old book smuggler tired of his forty-year battle to keep his language alive despite the attempts of the Russian Empire to destroy it. Into their world steps Jonas\, a young man in love with Ada and ready to join the underground book smugglers. But there is a traitor in their midst who must stop them or lose everything. \nBased on the author’s grandfather\, who was a book smuggler\, the novel deftly captures the politics and dangers of the times while bringing to life an engaging and quirky family\, with an element of the supernatural. \nThe book is available on Amazon/Kindle: \nhttps://www.amazon.com/gp/product/B079P8LC6V/ref=dbs_a_def_rwt_hsch_vapi_tkin_p1_i0
URL:https://vakaruvejai.com/renginys/the-last-book-smuggler-meet-the-author-birute-putrius-virtualus-renginys/
LOCATION:Virtualus renginys
CATEGORIES:Arizona,Hawaii,Los Andželas,Nevada,Portlandas,San Diego,San Franciskas,Seattle,Virtualus renginys
ATTACH;FMTTYPE=image/jpeg:https://vakaruvejai.com/wp-content/uploads/2021/05/F8A23659-82C7-4420-8E6E-CCC219D6E7E4.jpeg
ORGANIZER;CN="Lietuvos generalinis konsulatas Los And%C5%BEele":MAILTO:kons.losandzelas@urm.lt
END:VEVENT
BEGIN:VEVENT
DTSTART;VALUE=DATE:20200322
DTEND;VALUE=DATE:20200323
DTSTAMP:20260423T160447
CREATED:20200228T031622Z
LAST-MODIFIED:20200325T074622Z
UID:11547-1584835200-1584921599@vakaruvejai.com
SUMMARY:!Atšaukta! "Aš esu jūsų maža šakelė" - valanda su Olita Dautartaite skirta Jono Meko atminimui
DESCRIPTION:
URL:https://vakaruvejai.com/renginys/as-esu-jusu-maza-sakele-valanda-su-olita-dautartaite-skirta-jono-meko-atminimui/
LOCATION:CA
CATEGORIES:Lietuviški renginiai,Los Andželas
ATTACH;FMTTYPE=image/jpeg:https://vakaruvejai.com/wp-content/uploads/2020/02/Meko-plakatas.jpeg
END:VEVENT
END:VCALENDAR