BEGIN:VCALENDAR
VERSION:2.0
PRODID:-//Vakarų Vėjai - ECPv6.15.3//NONSGML v1.0//EN
CALSCALE:GREGORIAN
METHOD:PUBLISH
X-WR-CALNAME:Vakarų Vėjai
X-ORIGINAL-URL:https://vakaruvejai.com
X-WR-CALDESC:Vakarų Vėjai renginiai
REFRESH-INTERVAL;VALUE=DURATION:PT1H
X-Robots-Tag:noindex
X-PUBLISHED-TTL:PT1H
BEGIN:VTIMEZONE
TZID:America/Los_Angeles
BEGIN:DAYLIGHT
TZOFFSETFROM:-0800
TZOFFSETTO:-0700
TZNAME:PDT
DTSTART:20200308T100000
END:DAYLIGHT
BEGIN:STANDARD
TZOFFSETFROM:-0700
TZOFFSETTO:-0800
TZNAME:PST
DTSTART:20201101T090000
END:STANDARD
END:VTIMEZONE
BEGIN:VEVENT
DTSTART;VALUE=DATE:20200419
DTEND;VALUE=DATE:20200420
DTSTAMP:20260423T161829
CREATED:20200113T222715Z
LAST-MODIFIED:20200420T020539Z
UID:10911-1587254400-1587340799@vakaruvejai.com
SUMMARY:Atšaukta !!!  Kardinolo S. Tamkevičiaus vizitas parapijoje\, Los Angeles
DESCRIPTION:Dėl plintančios epideminės viruso padėties\, Lietuvių Katalikų Religinės Šalpos Direktorių Valdybos nariai pasitarę su Jo Eminencija Kardinolu Sigitu Tamkevičiumi\, nutaria laikinai atidėti Kardinolo kelionę į JAV. \nPagarbiai Kristuje\, prel. Edmundas Putrimas LKRŠ Direktorių Valdybos pirmininkas
URL:https://vakaruvejai.com/renginys/kardinolo-s-tamkeviciaus-vizitas-parapijoje-los-angeles/
LOCATION:CA
CATEGORIES:Lietuviški renginiai,Los Andželas
ATTACH;FMTTYPE=image/jpeg:https://vakaruvejai.com/wp-content/uploads/2020/01/Kardinolo-vizitas-atidetas.jfif_.jpeg
END:VEVENT
BEGIN:VEVENT
DTSTART;TZID=America/Los_Angeles:20200216T130000
DTEND;TZID=America/Los_Angeles:20200216T140000
DTSTAMP:20260423T161829
CREATED:20200115T194056Z
LAST-MODIFIED:20200121T005803Z
UID:10980-1581858000-1581861600@vakaruvejai.com
SUMMARY:Filmo „Kelionės namo” peržiūra\, Los Angeles
DESCRIPTION:Valstybės atkūrimo dieną kviečiame atvykti į lietuviško filmo peržiūrą Los Andžele! Režisierės Ramunės Rakauskaitės dokumentinis filmas „Kelionės namo” bus rodomas viršutinėje Šv. Kazimiero parapijos salėje vasario 16 d. 13 val. \n„Kelionės namo” – dar niekad kine nepasakota istorija apie pirmąsias Amerikos lietuvių patirtis grįžus aplankyti okupuotą tėvynę. Ką jautė ir matė atvykstantys – šiandien jau sunkiai suvokiama bei keista. Karo metais priverstų palikti šalį filmo herojų atmintyje įstrigo romantiški ir net kiek naivūs tėvynės vaizdiniai. Atvykus jų laukė gerokai pasikeitusi realybė\, kontrastuojanti su nostalgišku\, legendomis apipintu Lietuvos įvaizdžiu. Ši grįžimo namo istorija atskleidžia praėjusios epochos dvasią\, dviejų civilizacijų sandūrą ir netikėtas spalvingų herojų patirtis. \n  \nUž galimybę šį filmą rodyti Šv. Kazimiero parapijos salėje dėkojame režisierei Ramunei Rakauskaitei bei Studio Nominum\, o už tai\, kad pamatyti jį bus galima nemokamai – Nijolei ir Vitaliui Lembertams.  \nTrailer: https://youtu.be/ZKk0gDMLrD8 \n***** \n“Back to the Dreamland” is a charming and breath-taking story about the experiences of American Lithuanians during their first visits to the occupied homeland. What they saw and how they felt seems strange and difficult to understand today\, since after fleeing Lithuania during the WWII\, the refugees maintained a romantic and slightly naive image of their motherland. \nTrailer: https://youtu.be/ZKk0gDMLrD8
URL:https://vakaruvejai.com/renginys/filmo-keliones-namo-perziura-los-angeles/
LOCATION:Šv. Kazimiero parapija Los Andžele\, 2718 St George St\, Los Angeles\, CA\, 90027\, United States
CATEGORIES:Lietuviški renginiai,Los Andželas
ATTACH;FMTTYPE=image/jpeg:https://vakaruvejai.com/wp-content/uploads/2020/01/filmo-Kelione-namo-plakatas.jpg
END:VEVENT
BEGIN:VEVENT
DTSTART;TZID=America/Los_Angeles:20200209T130000
DTEND;TZID=America/Los_Angeles:20200209T160000
DTSTAMP:20260423T161829
CREATED:20200113T213107Z
LAST-MODIFIED:20200128T070519Z
UID:10909-1581253200-1581264000@vakaruvejai.com
SUMMARY:Poezijos ir tautodailės popietė\, Los Angeles
DESCRIPTION:Vyresnės skautės Gražinietės kviečia į poezijos ir meno popietę Šv. Kazimiero parapijoje bei Lietuvos tautodailės parodą. \nPoetas prof. Algis Žolynas iš San Diego pristatys eilėraščių rinkinį „Near and Far” (eilėraščiai anglų kalba).
URL:https://vakaruvejai.com/renginys/poezijos-ir-tautodailes-popiete-los-angeles/
LOCATION:Šv. Kazimiero parapija Los Andžele\, 2718 St George St\, Los Angeles\, CA\, 90027\, United States
CATEGORIES:Los Andželas
ATTACH;FMTTYPE=application/pdf:https://vakaruvejai.com/wp-content/uploads/2020/01/PoeziaMenas.pdf
END:VEVENT
BEGIN:VEVENT
DTSTART;TZID=America/Los_Angeles:20200202T003000
DTEND;TZID=America/Los_Angeles:20200202T153000
DTSTAMP:20260423T161829
CREATED:20200113T205121Z
LAST-MODIFIED:20200127T212614Z
UID:10904-1580603400-1580657400@vakaruvejai.com
SUMMARY:Pasaulinė cepelinų diena Los Andžele
DESCRIPTION:Vasario 2-oji – Pasaulinė cepelinų diena\, tad kviečiame susiburti ir skanauti lietuviško patiekalo drauge net keliose Los Andželo vietose. \n12:30 val. susitinkame Rustic Canyon\, kur galėsite įsigyti Jūratės Jakeliūnienės gamintų cepelinų (su mėsa\,  su varške ir su grybais – 4 $). \nĮ draugišką iškylą siūlome atsinešti užkandžių ar nealkoholinių gėrimų. \nSVARBU. Maloniai prašome cepelinus užsisakyti parašius žinutę justina.bezaraite@urm.lt (parašykite skaičių ir kokio cepelino norite) iki sausio 30 d. Cepelinai bus gaminami tik jų užsisakiusiems! \nSekmadienį 12 val cepelinus galėsite skanauti ir Šv. Kazimiero parapijoje\, kur po šv. Mišių juos bus paruošusi Laima Leko.
URL:https://vakaruvejai.com/renginys/pasauline-cepelinu-diena-los-andzele/
LOCATION:rustic Canyon Recreational Park\, 601 Latimer Rd\, Santa Monica\, California\, 90402\, Jungtinės Amerikos Valstijos
CATEGORIES:Lietuviški renginiai,Los Andželas
ATTACH;FMTTYPE=image/jpeg:https://vakaruvejai.com/wp-content/uploads/2020/01/cepelinai2.jpg
END:VEVENT
END:VCALENDAR