BEGIN:VCALENDAR
VERSION:2.0
PRODID:-//Vakarų Vėjai - ECPv6.15.3//NONSGML v1.0//EN
CALSCALE:GREGORIAN
METHOD:PUBLISH
X-ORIGINAL-URL:https://vakaruvejai.com
X-WR-CALDESC:Vakarų Vėjai renginiai
REFRESH-INTERVAL;VALUE=DURATION:PT1H
X-Robots-Tag:noindex
X-PUBLISHED-TTL:PT1H
BEGIN:VTIMEZONE
TZID:America/Los_Angeles
BEGIN:DAYLIGHT
TZOFFSETFROM:-0800
TZOFFSETTO:-0700
TZNAME:PDT
DTSTART:20240310T100000
END:DAYLIGHT
BEGIN:STANDARD
TZOFFSETFROM:-0700
TZOFFSETTO:-0800
TZNAME:PST
DTSTART:20241103T090000
END:STANDARD
BEGIN:DAYLIGHT
TZOFFSETFROM:-0800
TZOFFSETTO:-0700
TZNAME:PDT
DTSTART:20250309T100000
END:DAYLIGHT
BEGIN:STANDARD
TZOFFSETFROM:-0700
TZOFFSETTO:-0800
TZNAME:PST
DTSTART:20251102T090000
END:STANDARD
END:VTIMEZONE
BEGIN:VEVENT
DTSTART;VALUE=DATE:20251110
DTEND;VALUE=DATE:20251116
DTSTAMP:20260423T150009
CREATED:20251108T054354Z
LAST-MODIFIED:20251110T210503Z
UID:29954-1762732800-1763251199@vakaruvejai.com
SUMMARY:Beyond the Canvas: Čiurlionis 150 – MIKALOJAUS KONSTANTINO ČIURLIONIO SAVAITĖ LOS ANDŽELE / SANTA MONIKOJE
DESCRIPTION:LT \nMinėdami Mikalojaus Konstantino Čiurlionio 150-ąsias gimimo metines\, kviečiame jus apsilankyti parodoje „Beyond the Canvas: Čiurlionis 150“\, skirtoje pažinti žymiausią Lietuvos menininką ir jo kūrybos pasaulį. \nParodoje pristatomos aukštos kokybės Čiurlionio paveikslų reprodukcijos bei įtraukianti virtualios realybės patirtis „Angelų takais“\, kuri sujungia menininko tapybą ir muziką į vientisą meninį potyrį (būtina išankstinė registracija). \nČiurlionis (1875–1911) – tapytojas\, kompozitorius ir kultūros vizionierius\, kurio kūryboje susilieja muzika\, gamta\, mitologija ir kosmosas. Jo menas iki šiol įkvepia kūrėjus visame pasaulyje. \nMikalojus Konstantinas Čiurlionis iki šiol įkvepia menininkus visame pasaulyje. Minint jo 150-ąsias gimimo metines\, Vilniaus dailės akademijos pirmakursiai kartu su savo profesore Jolanta Talaikytė sukūrė parodą „Čiurlionio mylimosios“. \nTai tylus\, jautrus pasakojimas apie moteris\, lydėjusias menininko gyvenimą ir kūrybą. Kartu eksponuojami keli pirmakursių darbai\, įkvėpti žymių Čiurlionio citatų. \n18th Street Arts Center\, 1629 18th Street – Library\, Santa Monica \nLapkričio 10–15 d.\, 12:00–17:00 \nDaugiau apie parodą ir registraciją į VR patirtį „Angelų takais”: https://18thstreet.org/…/beyond-the-canvas-ciurlionis-150/ \nEN \nBeyond the Canvas: Čiurlionis 150\nMIKALOJUS KONSTANTINAS ČIURLIONIS WEEK IN LOS ANGELES / SANTA MONICA\n \nNovember 10 – 15\, 2025 | Gallery Hours 12 PM – 5 PM \n18th Street Arts Center \n1629 18th Street – Library \nExhibition featuring reproductions of the most famous Lithuanian artist M. K. Čiurlionis’ artwork and immersive VR experience \nAs we celebrate M. K. Čiurlionis 150th anniversary\, The Consulate General of the Republic of Lithuania in Los Angeles invites you to take a closer look at Lithuanian’s most renowned artist in the exhibition “Beyond the Canvas: Čiurlionis 150”. \nMikalojus Konstantinas Čiurlionis (1875–1911) was a Lithuanian painter\, composer\, and cultural visionary. Widely regarded as one of Lithuania’s greatest artists\, he was a pioneer of abstract and symbolic art in Europe. Over the course of his brief but prolific life\, M. K. Čiurlionis created more than 300 musical compositions and approximately 300 visual artworks—many of which explore themes of music\, mythology\, nature\, and the cosmos. M. K . Čiurlionis’ work—marked by a unique fusion of sound and image—remains central to Lithuanian national identity and continues to inspire artists and audiences around the world. \nMikalojus Konstantinas Čiurlionis continues to inspire artists around the world to this day. To celebrate the 150th anniversary of his birth\, first-year students of the Vilnius Academy of Arts\, together with their professor Jolanta Talaikytė\, created an exhibition titled Čiurlionis’ Beloved Ones. \nThe exhibition offers a quiet encounter with the women who loved Čiurlionis — not through his most famous paintings or musical masterpieces\, but through those who stood beside him: loving\, believing\, and protecting. It also features several works by first-year students\, inspired by Čiurlionis’ famous quotes. \nThroughout the week\, you will be able not only explore an exhibition of M. K. Čiurlionis’ art reproductions (https://ciurlionis.eu/en/gallery/painting)\, but also experience the 25-minute virtual reality experience Trails of Angels\, which introduces M. K. Čiurlionis’ paintings\, blending visual imagery with his music and interpretations by composers. It is a unique celebration of the work by the pioneering Lithuanian artist and composer. \nAdvance registration to the VR experience is required via the link below. All sessions begin on time. Please note that late arrivals will be asked to wait for the next available time slot. \nVR Registration Link
URL:https://vakaruvejai.com/renginys/beyond-the-canvas-ciurlionis-150-mikalojaus-konstantino-ciurlionio-savaite-los-andzele-santa-monikoje/
LOCATION:18th street Arts Center\, 1629 18th Street\, Santa Monica\, CA\, 90404
CATEGORIES:Lietuviški renginiai,Los Andželas
ATTACH;FMTTYPE=image/jpeg:https://vakaruvejai.com/wp-content/uploads/2025/11/crop_960x580_0574_mikalojus-konstantinas-ciurlionis_18-gatves.jpg
END:VEVENT
BEGIN:VEVENT
DTSTART;TZID=America/Los_Angeles:20250927T173000
DTEND;TZID=America/Los_Angeles:20250927T220000
DTSTAMP:20260423T150009
CREATED:20250704T154717Z
LAST-MODIFIED:20250830T050159Z
UID:29386-1758994200-1759010400@vakaruvejai.com
SUMMARY:Rudens Balius: "Karalių pasaka"\, San Franciskas
DESCRIPTION:Kai ruduo tyliai nusileidžia ant miesto stogų\, ateina laikas pasakai. Ne bet kokiai\, o Karalių pasakai\, gimusiai iš mistinės muzikos natų ir sapniškų paveikslų potėpių. \nKviečiame Jus į ypatingą vakarą\, kai San Franciske gyvai seksime M.K. Čiurlionio pasaką. Salė virs mistine erdve\, kurioje atgims žvaigždžių sonatos\, miškų karalienės\, dangaus valdovai ir rūko pilys\, o tavęs lauks Čiurlionio pasaulis\, kur muzika skambės lyg paveikslai\, o spalvos pasakos legendas. \nŠĮ VAKARĄ JŪSŲ LAUKS:\n Gyva Muzika – magiška\, gili\, iš širdies gelmių. M.K. Čiurlionio ir kitus kūrinius atliks pianistas Rudolfas Budginas.\n Paveikslų Galerija\, kuri kvies keliauti per laiką\, sapnus ir karalystes.\n Vakaro Kostiumų Konkursas – rinksime ir apdovanosime įspūdingiausius ir įdomiausius vakaro kostiumus.\n Gyvasis ir Tylusis Aukcionas bei Loterija.\n Karališka 3 patiekalų Vakarienė: įkvėpta Čiurlionio kūrybos.\n Šokiai. \nRUGSĖJO 27 d.\, penktadienis\, 17:30 val.\nThe Elks Lodge\, 450 Post St\, San Francisco\, CA 94102 \nBILIETAI:\nStandartinis bilietas: $160\nSu naryste: $150 (SFLB individuali arba šeimos narystė)\nNuo rugsėjo 22 d. bilietai brangs.\nBilietus įsigykite čia. \nAPRANGA:\nPrisiminkite\, kaip vaikystėje žaidėte karalius ir karalienes\, princus ir princeses\, juokdarius\, elfus ir fėjas. Tai puiki proga tapti tuo\, kuo svajojote\, nors ir vienam vakarui. Apsivilkite kostiumą\, įkvėptą karalių istorijų\, herojų pasakų ar Čiurlionio vaizduotės.\nArba tiesiog ateikite pasipuošę šventine\, iškilminga apranga. \nNAKVYNĖ:\nKensington Park Hotel\n450 Post Street\, San Francisco\, CA 94102\nUžsisakykite kambarį su specialia nuolaida mums čia.\nArba:\nNaudokite kodą Lith25 www.kensingtonparkhotel.com. Click on Book Now.  Select Sept 27 on the calendar. Hit the dropdown for Special Codes or Rates.  Go to Promo dropdown to see Group Code.  Enter the code and apply. \nSVARBI INFORMACIJA:\nGėrimai neįskaičiuoti į bilieto kainą. Bus galima įsigyti bare. \nTapk Pasakos Dalimi!\nTik šį vakarą – tik čia – tik Tu gali atverti Karalių Pasakos duris.\nSudalyvauk Rudens Baliuje\, apie kurį sklandys legendos! \nRENGINIO REMĖJAI:\nLietuvių Fondas\nJAV LB Kultūros Taryba\nCalifornia Lithuanian Credit Union\nSan Francisko lietuvių bendruomenė \nDAUGIAU INFORMACIJOS:\nhttps://sflithuanians.com\nwww.facebook.com/SFLithuanians
URL:https://vakaruvejai.com/renginys/rudens-balius-karaliu-pasaka-san-franciskas/
LOCATION:The Elks Lodge\, 450 Post Street\, San Francisco\, CA\, 94102
CATEGORIES:Lietuviški renginiai,San Franciskas
ATTACH;FMTTYPE=image/jpeg:https://vakaruvejai.com/wp-content/uploads/2025/07/514500809_720182693991866_2787775861498834210_n.jpeg
END:VEVENT
BEGIN:VEVENT
DTSTART;TZID=America/Los_Angeles:20240504T120000
DTEND;TZID=America/Los_Angeles:20240504T170000
DTSTAMP:20260423T150009
CREATED:20240504T072112Z
LAST-MODIFIED:20240504T072112Z
UID:26750-1714824000-1714842000@vakaruvejai.com
SUMMARY:VR filmas pagal M. K. Čiurlionio kurybą\, San Diegas
DESCRIPTION:LT\n\nM. K. ČIURLIONIO virtualios realybės filmas „ANGELŲ TAKAIS“ 5/4 atvyksta į San Diegą!\nSeanso trukmė 25 min. Tinka visų amžiaus grupių žiūrovamsBilieto kaina $35Būtina išankstinė rezervacija ir apmokėjimas per Zelle: sandiegolietuviai@gmail.comVietas rezervuokite čia:https://www.signupgenius.com/…/8050E4CA9A92FA7FA7…\nPrestižinių tarptautinių ir nacionalinių konkursų laureatas – virtualios realybės filmas „Angelų takais“ – Kristinos Buožytės ir Vitalijaus Žuko kūrinys\, skirtas dailininko ir kompozitoriaus Mikalojaus Konstantino Čiurlionio kūrybai pagerbti.Virtualios realybės filmas kviečia VR erdvėje leistis į pažintį su 60-čia dailininko paveikslų.25 minučių trunkančią kelionę „Angelų takais“ lydi paties M. K. Čiurlionio ir kompozitoriaus Mindaugo Urbaičio muzika. Viso filmo metu aplinka reaguoja į žiūrovo žvilgsnį: atidus žiūrovo aplinkos stebėjimas ją keičia\, praturtina ir priartina prie originalių M. K. Čiurlionio paveikslų.\n\nEN\n\nM. K. Čiurlionis’ virtual reality film\, ‘Trail of Angels’ is coming to San Diego!\nEach session is 25 minutesThe experience is suitable for viewers of all agesTickets $35Must reserve a spot\, and make a payment in advance via Zelle: sandiegolietuviai@gmail.comReserve your spot here:https://www.signupgenius.com/…/8050E4CA9A92FA7FA7…\nM. K. ČIURLIONIS’ VIRTUAL REALITY FILM „TRAIL OF ANGELS” The virtual reality film „Trails of Angels”\, the winner of prestigious international and national competitions\, is a work by Kristina Buožytė and Vitalijus Žukas\, dedicated to the creations of the artist and composer Mikalojus Konstantinas Čiurlionis.\nThe virtual reality film invites you to get acquainted with 60 paintings by the Lithuanian artist in VR space. The 25-minute journey „Trail of Angels” is accompanied by M. K. Čiurlionis’ and composer Mindaugas Urbaitis’ music. Throughout the film\, the surroundings react to the viewer’s gaze: careful observation of the environment changes it\, enriches it\, and brings it closer to the original paintings of M. K. Čiurlionis
URL:https://vakaruvejai.com/renginys/vr-filmas-pagal-m-k-ciurlionio-kuryba-san-diegas/
LOCATION:1197 Whispering Water Dr\, San Marcos\, CA 92078.
CATEGORIES:Lietuviški renginiai,San Diego
ATTACH;FMTTYPE=image/jpeg:https://vakaruvejai.com/wp-content/uploads/2024/05/440813553_10218736262996154_3770489510123371679_n.jpeg
END:VEVENT
END:VCALENDAR