BEGIN:VCALENDAR
VERSION:2.0
PRODID:-//Vakarų Vėjai - ECPv6.15.3//NONSGML v1.0//EN
CALSCALE:GREGORIAN
METHOD:PUBLISH
X-WR-CALNAME:Vakarų Vėjai
X-ORIGINAL-URL:https://vakaruvejai.com
X-WR-CALDESC:Vakarų Vėjai renginiai
REFRESH-INTERVAL;VALUE=DURATION:PT1H
X-Robots-Tag:noindex
X-PUBLISHED-TTL:PT1H
BEGIN:VTIMEZONE
TZID:America/Los_Angeles
BEGIN:DAYLIGHT
TZOFFSETFROM:-0800
TZOFFSETTO:-0700
TZNAME:PDT
DTSTART:20210314T100000
END:DAYLIGHT
BEGIN:STANDARD
TZOFFSETFROM:-0700
TZOFFSETTO:-0800
TZNAME:PST
DTSTART:20211107T090000
END:STANDARD
BEGIN:DAYLIGHT
TZOFFSETFROM:-0800
TZOFFSETTO:-0700
TZNAME:PDT
DTSTART:20220313T100000
END:DAYLIGHT
BEGIN:STANDARD
TZOFFSETFROM:-0700
TZOFFSETTO:-0800
TZNAME:PST
DTSTART:20221106T090000
END:STANDARD
BEGIN:DAYLIGHT
TZOFFSETFROM:-0800
TZOFFSETTO:-0700
TZNAME:PDT
DTSTART:20230312T100000
END:DAYLIGHT
BEGIN:STANDARD
TZOFFSETFROM:-0700
TZOFFSETTO:-0800
TZNAME:PST
DTSTART:20231105T090000
END:STANDARD
BEGIN:DAYLIGHT
TZOFFSETFROM:-0800
TZOFFSETTO:-0700
TZNAME:PDT
DTSTART:20240310T100000
END:DAYLIGHT
BEGIN:STANDARD
TZOFFSETFROM:-0700
TZOFFSETTO:-0800
TZNAME:PST
DTSTART:20241103T090000
END:STANDARD
BEGIN:DAYLIGHT
TZOFFSETFROM:-0800
TZOFFSETTO:-0700
TZNAME:PDT
DTSTART:20250309T100000
END:DAYLIGHT
BEGIN:STANDARD
TZOFFSETFROM:-0700
TZOFFSETTO:-0800
TZNAME:PST
DTSTART:20251102T090000
END:STANDARD
BEGIN:DAYLIGHT
TZOFFSETFROM:-0800
TZOFFSETTO:-0700
TZNAME:PDT
DTSTART:20260308T100000
END:DAYLIGHT
BEGIN:STANDARD
TZOFFSETFROM:-0700
TZOFFSETTO:-0800
TZNAME:PST
DTSTART:20261101T090000
END:STANDARD
END:VTIMEZONE
BEGIN:VEVENT
DTSTART;TZID=America/Los_Angeles:20260201T130000
DTEND;TZID=America/Los_Angeles:20260201T170000
DTSTAMP:20260423T130044
CREATED:20260117T093101Z
LAST-MODIFIED:20260117T093101Z
UID:30344-1769950800-1769965200@vakaruvejai.com
SUMMARY:SF lituanistinės mokyklos "Genys" cepelinų balius\, San Franciskas
DESCRIPTION:Lituanistinė mokykla „Genys“ kviečia visus Bay Area lietuvius į labai laukiamą Cepelinų balių.  Šis renginys skirtas San Francisko lituanistinės mokyklos „Genys“ veiklai ir jos tęstinumui paremti.\nMokykla sėkmingai gyvuoja nuo 2006 metų\, o šių metų balandžio mėnesį minėsime 20-ąjį mokyklos jubiliejų. Genio lituanistinėje mokykloje dirba nuostabus\, kūrybingas ir atsidavęs mokytojų kolektyvas\, kurį aktyviai palaiko ir įsitraukęs tėvelių būrys.\nEsame nuoširdžiai dėkingi San Francisko lietuvių bendruomenei už ilgametę paramą ir pasitikėjimą. Jūsų palaikymo dėka galime tęsti prasmingą veiklą\, kuri yra itin svarbi puoselėjant lietuvių kalbą\, kultūrą ir tapatybę augančiai išeivijos kartai.\nKviečiame visus vėl susirinkti\, pabendrauti ir pasmaguriauti. \n📅 KADA: Sekmadienį\, vasario 1 d.\, 1:00–5:00 PM\n📍 KUR: Sierra Point Yacht Club\, 400 Sierra Point Pkwy\, Brisbane\, CA 94005\n🎟️ BILIETAI: \n\nSuaugusiems – $65\nVaikams 5–12 m. – $30\nVaikams iki 5 m. – nemokamai\n\n👉 Užsiregistruoti ir nusipirkti bilietus prašome čia:\nhttp://lssgenys.square.site/\nSVARBU: Bilietus privaloma įsigyti iš anksto. Dėl riboto žmonių skaičiaus patalpoje bilietų kiekis yra ribotas – pasiekus limitą registracija bus sustabdyta.\nGėrimus bus galima įsigyti bare.\n🍽️ MENIU:\n• Cepelinai\n• Šaltibarščiai\n• Balta mišrainė\n• Silkė\n• Desertai\n📩  Jeigu turite klausimų\, prašome rašyti:\ninfo@sfgenys.org\n💛 Negalite dalyvauti\, bet norite paremti „Genio“ mokyklą?\nPaaukoti galite čia: 👉 http://lssgenys.square.site/\nLauksime jūsų VASARIO 1\, 1-5pm – Sierra Point Yacht Club\, Brisbane!  \nIki pasimatymo!
URL:https://vakaruvejai.com/renginys/sf-lituanistines-mokyklos-genys-cepelinu-balius-san-franciskas/
LOCATION:Sierra Point Yacht Club\, 400 Sierra Point Pkwy\, Brisbane\, CA 94005
CATEGORIES:Lietuviški renginiai,San Franciskas
ATTACH;FMTTYPE=image/png:https://vakaruvejai.com/wp-content/uploads/2026/01/Screenshot-2026-01-17-at-1.25.38-AM.png
END:VEVENT
BEGIN:VEVENT
DTSTART;TZID=America/Los_Angeles:20251011T110000
DTEND;TZID=America/Los_Angeles:20251012T160000
DTSTAMP:20260423T130044
CREATED:20250816T034505Z
LAST-MODIFIED:20250816T035020Z
UID:29566-1760180400-1760284800@vakaruvejai.com
SUMMARY:Lietuvių dienos/Lithuanian days\, Los Andželas
DESCRIPTION:Kviečiame jus į 39-tas Lietuvių dienas! Jūsų laukia gyva muzika\, šokiai\, lietuviškas maistas ir draugai!\nWe invite you to the 39th Lithuanian Days festival! Live music\, dancing\, Lithuanian food\, and friends await.\n\nBILIETAI/TICKETS
URL:https://vakaruvejai.com/renginys/lietuviu-dienos-lithuanian-days-los-andzelas/
LOCATION:Šv. Kazimiero parapija\, 2716 St. George St.\, Los Angeles\, CA\, 90027
CATEGORIES:Lietuviški renginiai,Los Andželas
ATTACH;FMTTYPE=image/jpeg:https://vakaruvejai.com/wp-content/uploads/2025/08/532648559_1078499081157488_2904177913863459706_n-scaled.jpeg
END:VEVENT
BEGIN:VEVENT
DTSTART;TZID=America/Los_Angeles:20250920T133000
DTEND;TZID=America/Los_Angeles:20250920T173000
DTSTAMP:20260423T130044
CREATED:20250913T025257Z
LAST-MODIFIED:20250913T025646Z
UID:29665-1758375000-1758389400@vakaruvejai.com
SUMMARY:Europa parke\, San Franciskas
DESCRIPTION:LT\n\n\n„Europa parke“ jau čia – ir Lietuva pasiruošusi!!! Jau antrus metus iš eilės dalyvaujame „Europa parke“ San Franciske. Praėjusiais metais pristatėme Lietuvą\, dalinomės gardžiu maistu\, kai kurie iš mūsų vilkėjo tautinius kostiumus\, o mūsų vietinis choras koncertavo. Šiais metais tikimės dar daugiau linksmybių! \n\nKada? Saturday\, Sept 20 | 1:30–5:30 PM\nKur? Peacock Meadow\, Golden Gate Park\n\n Maistas ant ratų\n Alaus sodas madžių paunksnėje\n Gyva muzika\, šokiai\, kultūrinės linksmybės\n Viskas nemokamai!\n\n\n💛💚❤️ Renginyje turėsime LIETUVIŲ STENDĄ\, kurį kuruos Lietuvos Respublikos Generalinis konsulatas\, Los Andžele.  \n💛💚❤️ 🎶 Ateikite pasiklausyti ŪKANOS choro\, kuris koncertuos šiame renginyje (3:30 – 4:30pm)\n\nReikalingi savanoriai!\nRenginio informacija ir registracijos patvirtinimas \nhttps://www.eventbrite.com/…/europe-in-the-park-tickets…\n\n\nEN\n\nEuropeInTheParkSF is almost here — and Lithuania is ready!!!\nThis is already the second year in a row that we are participating in Europe in the Park in San Francisco. Last year we had a lot of fun – we presented Lithuania\, shared delicious food\, some of us wore our folk costumes\, and our local choir performed. This year we expect even more joy and excitement!\n\n\nWhen? Saturday\, Sept 20 | 1:30–5:30 PM\nWhere? Peacock Meadow\, Golden Gate Park\n Food trucks packed with flavor\n A beer garden under the trees\n Live music\, dance & cultural fun\n All FREE!\n\n\n\nVolunteers needed! Event details & RSVP \nhttps://www.eventbrite.com/…/europe-in-the-park-tickets…
URL:https://vakaruvejai.com/renginys/europe-in-the-park-san-franciskas/
LOCATION:Peacock Meadow\, Golden Gate Park
CATEGORIES:San Franciskas
ATTACH;FMTTYPE=image/jpeg:https://vakaruvejai.com/wp-content/uploads/2025/09/543181377_772323195444482_6035636377853849346_n.jpeg
END:VEVENT
BEGIN:VEVENT
DTSTART;TZID=America/Los_Angeles:20240420T070000
DTEND;TZID=America/Los_Angeles:20240420T170000
DTSTAMP:20260423T130044
CREATED:20240420T023522Z
LAST-MODIFIED:20240420T023522Z
UID:26560-1713596400-1713632400@vakaruvejai.com
SUMMARY:Žūklė/šašlykai prie ežero\, San Diegas
DESCRIPTION:Kviečiame atvykti pažuvauti\, paragauti šašlykų ir pabendrauti su lietuviais prie Dixon ežero.\n\n04/20/2024 prie Dixon Lake 1700 La Honda Drive\, Escondido\, CA 92027\n\n– Pradžia nuo 7 am iki užsidarymo. – Įvažiavimo kaina į parką $5.– Leidimas žuvauti $9 suaugusiems (nereikia fish and game CA leidimo žuvauti). – Prašom atsivežkite savo meškeres jeigu norėsite žuvauti.– Bus galimybė išsinuomoti valtis jeigu bus laisvų. – Šašlykai už simbolinę auką\, kuri prisideda prie San Diego lietuvių bendruomenės veiklos.– Gėrimai ir kitos vaišės suneštinės.
URL:https://vakaruvejai.com/renginys/zukle-saslykai-prie-ezero-san-diegas/
LOCATION:Dixon lake\, 1700 La Honda Dr.\, Escondido\, CA\, 92027
CATEGORIES:Lietuviški renginiai,San Diego
ATTACH;FMTTYPE=image/jpeg:https://vakaruvejai.com/wp-content/uploads/2024/04/435380613_10229888893101545_5826280477835669393_n.jpeg
END:VEVENT
BEGIN:VEVENT
DTSTART;TZID=America/Los_Angeles:20211029T070000
DTEND;TZID=America/Los_Angeles:20211030T140000
DTSTAMP:20260423T130044
CREATED:20211027T031135Z
LAST-MODIFIED:20211027T031533Z
UID:18358-1635490800-1635602400@vakaruvejai.com
SUMMARY:Koldūnų dienos kavinėje Uppers cafe & Bakeshop\, Santa Monica
DESCRIPTION:Nereikia laukti lietuvių dienų\,kad susitiktum su draugais 😊. Ateik pas mus\, susitik\, susipažink\, bendrauk ir skanauk mūsų pagamintais koldūnais arba gabalėliu medaus ar griliažinio torto 👌! Lauksime jūsų jau šį penktadienį ir šeštadienį Uppers Cafe & Bakeshop 2024 Broadway\, Santa Monica CA 90404
URL:https://vakaruvejai.com/renginys/koldunu-dienos-kavineje-uppers-cafe-bakeshop-santa-monica/
LOCATION:Uppers Cafe & Bakeshop\, 2024 Broadway\, Santa Monica\, 90404
CATEGORIES:Los Andželas
ATTACH;FMTTYPE=image/jpeg:https://vakaruvejai.com/wp-content/uploads/2021/10/D252D8F8-907F-483A-8EB5-72DB1B8A834D.jpeg
END:VEVENT
END:VCALENDAR