BEGIN:VCALENDAR
VERSION:2.0
PRODID:-//Vakarų Vėjai - ECPv6.15.3//NONSGML v1.0//EN
CALSCALE:GREGORIAN
METHOD:PUBLISH
X-ORIGINAL-URL:https://vakaruvejai.com
X-WR-CALDESC:Vakarų Vėjai renginiai
REFRESH-INTERVAL;VALUE=DURATION:PT1H
X-Robots-Tag:noindex
X-PUBLISHED-TTL:PT1H
BEGIN:VTIMEZONE
TZID:America/Los_Angeles
BEGIN:DAYLIGHT
TZOFFSETFROM:-0800
TZOFFSETTO:-0700
TZNAME:PDT
DTSTART:20250309T100000
END:DAYLIGHT
BEGIN:STANDARD
TZOFFSETFROM:-0700
TZOFFSETTO:-0800
TZNAME:PST
DTSTART:20251102T090000
END:STANDARD
END:VTIMEZONE
BEGIN:VEVENT
DTSTART;TZID=America/Los_Angeles:20251101T100000
DTEND;TZID=America/Los_Angeles:20251101T113000
DTSTAMP:20260423T161902
CREATED:20251025T020303Z
LAST-MODIFIED:20251025T020303Z
UID:29834-1761991200-1761996600@vakaruvejai.com
SUMMARY:Makiažo SAU pamoka su Egle Šarauskaite\, Santa Monika
DESCRIPTION:Makiažo pamoka SAU Los Andžele su Egle Šarauskaite! Pamokos metu išmoksite arba pagilinsite žinias\, kaip atlikti makiažą SAU. Mokymų metu visos makiažo priemonės suteikiamos\, tačiau galite atsinešti savo\, kad geriau išmokti arba pasikonsultuoti\, kaip naudoti jau turimus produktus .Daugiau informacijos:Eglė Šarauskaitė Facebook:https://www.facebook.com/share/14SwrRM4FAc/?mibextid=wwXIfrCell phone: + 1 (331) 214 2516
URL:https://vakaruvejai.com/renginys/makiazo-sau-pamoka-su-egle-sarauskaite-santa-monika/
LOCATION:Uppers Cafe & Bakeshop\, 2024 Broadway\, Santa Monica\, 90404
CATEGORIES:Lietuviški renginiai,Los Andželas
ATTACH;FMTTYPE=image/jpeg:https://vakaruvejai.com/wp-content/uploads/2025/10/569048042_25358424460432253_7524241296324358150_n.jpg
END:VEVENT
END:VCALENDAR