BEGIN:VCALENDAR
VERSION:2.0
PRODID:-//Vakarų Vėjai - ECPv6.15.3//NONSGML v1.0//EN
CALSCALE:GREGORIAN
METHOD:PUBLISH
X-ORIGINAL-URL:https://vakaruvejai.com
X-WR-CALDESC:Vakarų Vėjai renginiai
REFRESH-INTERVAL;VALUE=DURATION:PT1H
X-Robots-Tag:noindex
X-PUBLISHED-TTL:PT1H
BEGIN:VTIMEZONE
TZID:America/Los_Angeles
BEGIN:DAYLIGHT
TZOFFSETFROM:-0800
TZOFFSETTO:-0700
TZNAME:PDT
DTSTART:20240310T100000
END:DAYLIGHT
BEGIN:STANDARD
TZOFFSETFROM:-0700
TZOFFSETTO:-0800
TZNAME:PST
DTSTART:20241103T090000
END:STANDARD
END:VTIMEZONE
BEGIN:VEVENT
DTSTART;TZID=America/Los_Angeles:20240120T160000
DTEND;TZID=America/Los_Angeles:20240120T180000
DTSTAMP:20260423T210432
CREATED:20240113T074717Z
LAST-MODIFIED:20240113T074717Z
UID:25832-1705766400-1705773600@vakaruvejai.com
SUMMARY:Skandinavijos ir Baltijos šalių kino festivalis\, Los Andželas
DESCRIPTION:Sausio 13-14 ir 20-21 dienomis Los Andžele vyks jau 25 -tą kartą Skandinavijos ir Baltijos šalių kino festivalis BalticFilmExpo@SFFLA.\nKviečiame visus besidominčius kino industrija dalyvauti filmų peržiūrose. Atkreipiame dėmesį\, kad sausio 20 d. 4 pm. vyks lietuvių režisierės Marijos Kavtaradze filmo\, nominuoto Oskarui\, „Tu man nieko neprimeni“ (angl. SLOW)\, peržiūra. Filmas tapo vienu iš labiausiai žiūrimų 2023 m. lietuviškų filmų\, prestižiniame „Sundance“ festivalyje buvo apdovanotas už geriausią režisūrą.\nFestivalio vieta: Writers Guild Theater\, 135 South Doheny Drive\, Beverly Hills\, CA 90211.\nDaugiau informacijos apie rodomus filmus ir bilietų įsigijimą: https://www.sffla.net/festival-2024
URL:https://vakaruvejai.com/renginys/skandinavijos-ir-baltijos-saliu-kino-festivalis-los-andzelas/
LOCATION:The Writers Guild of America Theatre\, 135 S. Doheny Dr. (at Wilshire Blvd.)\, Beverly Hills\, CA\, 90211\, United States
CATEGORIES:Los Andželas
ATTACH;FMTTYPE=image/jpeg:https://vakaruvejai.com/wp-content/uploads/2024/01/418299104_833248365267866_5384461860084257319_n.jpeg
END:VEVENT
END:VCALENDAR