BEGIN:VCALENDAR
VERSION:2.0
PRODID:-//Vakarų Vėjai - ECPv6.15.3//NONSGML v1.0//EN
CALSCALE:GREGORIAN
METHOD:PUBLISH
X-ORIGINAL-URL:https://vakaruvejai.com
X-WR-CALDESC:Vakarų Vėjai renginiai
REFRESH-INTERVAL;VALUE=DURATION:PT1H
X-Robots-Tag:noindex
X-PUBLISHED-TTL:PT1H
BEGIN:VTIMEZONE
TZID:America/Los_Angeles
BEGIN:DAYLIGHT
TZOFFSETFROM:-0800
TZOFFSETTO:-0700
TZNAME:PDT
DTSTART:20240310T100000
END:DAYLIGHT
BEGIN:STANDARD
TZOFFSETFROM:-0700
TZOFFSETTO:-0800
TZNAME:PST
DTSTART:20241103T090000
END:STANDARD
END:VTIMEZONE
BEGIN:VEVENT
DTSTART;TZID=America/Los_Angeles:20241221T130000
DTEND;TZID=America/Los_Angeles:20241221T170000
DTSTAMP:20260423T191600
CREATED:20241119T181647Z
LAST-MODIFIED:20241214T145623Z
UID:27955-1734786000-1734800400@vakaruvejai.com
SUMMARY:Marytės Kalėdinė Mugė\, Los Andželas
DESCRIPTION:Gruodžio 21 d.\, šeštadienį\, 1 val. po pietų šv. Kazimiero parapijos mokyklos kiemelyje\, Los Andžele vyks MARYTĖS KALĖDINĖ MUGĖ.\nMugėje galėsite įsigyti įvairiausių skanėstų savo Kūčių ir šv. Kalėdų stalams\, taip pat kalėdinių dovanėlių\, susipažinti ir pabendrauti su menininkais bei meistrais. Paragauti lietuviškų gardžių valgių ir gėrimų. Bus gražios veiklos vaikams Nykštukų Dirbtuvėlėse. Pasistengsime\, kad jiems būtų įdomu ir linksma.\n2val. p.p. KONCERTAS. Turėsime jauną viešnią iš Lietuvos.\nKviečiame visus norinčius prisidėti prie mugės parduodami savo prekes – kepinius\, maisto gaminius\, patiekalus\, mezginius\, rankdarbius\, meno kūrinius\, papuošalus ar šiaip suvenyrus. Prisidėkite Kalėdinėmis dekoracijomis\, muzika. Visos Jūsų idėjos įdomios ir vertingos.\nKurkime Kalėdinį stebuklą kartu!!!\nĮėjimas į renginį NEMOKAMAS!\nDėl dalyvavimo ir kitų iškilusių klausimų skambinkite ar rašykite Linai Kajotienei tel.: 310 526 1456\, e-mail: lina727@gmail.com\n******\nMarytės Kalėdinės Mugės globėjas šv. Kazimiero parapijos klebonas kun. Tomas Karanauskas. Primename\, kad Marytės Kalėdinė Mugė pavadinta a.a. Marytės Šepikaitės vardu. Pirmąją kalėdinę mugę 2015 metais organizuoti pradėjome kartu su a.a. Maryte Šepikaite\, kuri turėjo didelę viltį\, kad šis lietuvybės kampelis pritrauks daugiau jaunimo\, idėjų ir geros nuotaikos. Mes\, organizatoriai\, jutome pareigą pagerbti a.a. Marytės Šepikaitės atminimą\, todėl pavadinome šią mugę Marytės vardu. Laikomės šios tradicijos iki šiol. Mūsų rėmėjai Knights of Lithuania VYČIAI\, kurių pirmininkė ir organizacijos siela buvo Marytė\, taip pat bus mugėje.Ateikite į mugę pabendrauti\, pasidalinti prisiminimais\, pabūti.
URL:https://vakaruvejai.com/renginys/kaledine-marytes-muge-los-andzelas-2/
LOCATION:Šv. Kazimiero parapija\, 2716 St. George St.\, Los Angeles\, CA\, 90027
CATEGORIES:Lietuviški renginiai,Los Andželas
ATTACH;FMTTYPE=image/jpeg:https://vakaruvejai.com/wp-content/uploads/2024/11/IMG_0575.jpeg
ORGANIZER;CN="Lina Kajotien%C4%97%2C Edvardas Gaili%C5%ABnas%2C Saulius Kajota":MAILTO:lina727@gmail.com
END:VEVENT
END:VCALENDAR